Workbook
Name INDIRECT: Questionnaire!$A$1
Name Question_1: 'Admin Potential Answers'!$C$2:$G$2
Name Question_10: 'Admin Potential Answers'!$C$11:$G$11
Name Question_11: 'Admin Potential Answers'!#REF!
Name Question_12: 'Admin Potential Answers'!$C$14:$G$14
Name Question_13: 'Admin Potential Answers'!$C$15:$G$15
Name Question_14: 'Admin Potential Answers'!$C$16:$G$16
Name Question_15: 'Admin Potential Answers'!#REF!
Name Question_16: 'Admin Potential Answers'!#REF!
Name Question_17: 'Admin Potential Answers'!$C$17:$G$17
Name Question_18: 'Admin Potential Answers'!$C$18:$G$18
Name Question_19: 'Admin Potential Answers'!$C$19:$G$19
Name Question_2: 'Admin Potential Answers'!$C$3:$G$3
Name Question_20: 'Admin Potential Answers'!$C$20:$G$20
Name Question_21: 'Admin Potential Answers'!$C$21:$G$21
Name Question_22: 'Admin Potential Answers'!$C$22:$G$22
Name Question_23: 'Admin Potential Answers'!$C$23:$G$23
Name Question_24: 'Admin Potential Answers'!$C$24:$G$24
Name Question_25: 'Admin Potential Answers'!#REF!
Name Question_26: 'Admin Potential Answers'!#REF!
Name Question_27: 'Admin Potential Answers'!$C$25:$G$25
Name Question_28: 'Admin Potential Answers'!$C$26:$G$26
Name Question_29: 'Admin Potential Answers'!$C$27:$G$27
Name Question_3: 'Admin Potential Answers'!$C$4:$G$4
Name Question_30: 'Admin Potential Answers'!$C$28:$G$28
Name Question_31: 'Admin Potential Answers'!$C$29:$G$29
Name Question_32: 'Admin Potential Answers'!$C$30:$G$30
Name Question_33: 'Admin Potential Answers'!$C$31:$G$31
Name Question_34: 'Admin Potential Answers'!$C$32:$G$32
Name Question_35: 'Admin Potential Answers'!$C$33:$G$33
Name Question_36: 'Admin Potential Answers'!$C$34:$G$34
Name Question_37: 'Admin Potential Answers'!$C$35:$G$35
Name Question_38: 'Admin Potential Answers'!$C$36:$G$36
Name Question_39: 'Admin Potential Answers'!$C$37:$G$37
Name Question_4: 'Admin Potential Answers'!$C$5:$G$5
Name Question_40: 'Admin Potential Answers'!$C$38:$G$38
Name Question_41: 'Admin Potential Answers'!$C$39:$G$39
Name Question_42: 'Admin Potential Answers'!$C$40:$G$40
Name Question_43: 'Admin Potential Answers'!$C$41:$G$41
Name Question_44: 'Admin Potential Answers'!$C$42:$G$42
Name Question_45: 'Admin Potential Answers'!$C$43:$G$43
Name Question_46: 'Admin Potential Answers'!$C$44:$G$44
Name Question_47: 'Admin Potential Answers'!$C$45:$G$45
Name Question_48: 'Admin Potential Answers'!$C$46:$G$46
Name Question_49: 'Admin Potential Answers'!$C$47:$G$47
Name Question_5: 'Admin Potential Answers'!$C$6:$G$6
Name Question_50: 'Admin Potential Answers'!$C$48:$G$48
Name Question_51: 'Admin Potential Answers'!#REF!
Name Question_52: 'Admin Potential Answers'!#REF!
Name Question_53: 'Admin Potential Answers'!#REF!
Name Question_54: 'Admin Potential Answers'!#REF!
Name Question_55: 'Admin Potential Answers'!#REF!
Name Question_56: 'Admin Potential Answers'!#REF!
Name Question_57: 'Admin Potential Answers'!#REF!
Name Question_58: 'Admin Potential Answers'!#REF!
Name Question_59: 'Admin Potential Answers'!#REF!
Name Question_6: 'Admin Potential Answers'!$C$7:$G$7
Name Question_60: 'Admin Potential Answers'!#REF!
Name Question_61: 'Admin Potential Answers'!#REF!
Name Question_62: 'Admin Potential Answers'!#REF!

Sheet User Title Page
B3: The MAPAFISH Tool
B11: © Wageningen Marine Research, Wageningen Economic Research, Marine Institute 2023. Please Cite as: Emerit A., Hamon K., IJntema G., van Kooten T., Reid D., & Robert M. (2023)
B13: The goal of this tool is to, through a series of semi-qualitative questions in the form of a questionnaire, start discussions on the characteristics of (process of deciding on) a considered Marine Protected Area. Based on the answers given to the questionnaire, this tool will present semi-qualitative values on the risks of impact to be expected on a set of output indicators, such as for example Biodiversity, Revenue, or Community. The tool is meant to evaluate the effects on nature and on commercial fisheries. For full instructions on using the tool see below. More information More information about the background of the Mapafish Tool can be found in Feary et al (2025). Feary, D.A., van Hoey G., Aranda, M., Brown, E.J., Metz, S., Reid, D., van der Valk, O, van Kooten, T., Abreu, S., Bergman, J., Castro, N., Carvalho, G., Eggertssen, M., Emerit, A., Fetterplace, L., Folhas, H., Hamon, K; IJntema, G., Jiménez-Navarro, S., Mangi S.C, Martín-Sosa, P., Mendoza, J.C., Mommens, M-P., Pecceu E., Pereira, R., Putnis, I., Quirijns, F.J., Robert, M., Sköld, M., Sys K., Tully, O., Ustups, D., Valentinsson, D., Vallina, T., van der Reijden, K.J., Verlé K., Wakeford, R.C. Mapping of marine protected areas and their associated fishing activities: Baltic and North Seas, Atlantic EU Western Waters and Outermost Regions (MAPAFISH), Final Report, Publications Office of the European Union, 2025, doi: 10.2926/9703241.
B14: Acknowledgements This tools was developed as part of the EU study 'Mapping of marine protected areas and their associated fishing activites: Baltic and North Seas, Atlantic EU Western Waters and Outermost Regions' (MAPAFISH, contract number CINEA/EMFF/2020/3.2.6 Specific Contract Lot 1 No.09 and CINEA/EMFF/2020/3.2.6 Specific Contract Lot 2 No.10). The information and views set out in this study, and therefore the results of using this tool, are those of the author(s) and do not necessarily reflect the official opinion of CINEA or of the Commission. Neither CINEA nor the Commission can guarantee the accuracy of the data included in this study, nor the results of using this tool. Neither CINEA, the Commission or any person acting on their behalf may be held responsible for the use that may be made of the information contained herein.
B16: General Colour Coding for any User: | G16: DO NOT EDIT, autofilled based on other input/cells | L16: Editable cells intended for user or contributer input | Q16: DO NOT EDIT, Results calculated based on the given input
B17: End- User specific instructions: Navigate to the Questionnaire tab. In the grey columns A (question ID) & B (questions) you find the questions to be answered. In column C (Answer) you can select answers that are most appropriate to your case, note that the model only produces results if all questions are answered. These answers (can) represent (some kind of) a scale, for instance a Likert Scale (from very much so to definitely not the case). Each of these answers is linked to a ‘risk-impact’ weight for each of the output indicators considered. These risk-impacts follow a Likert Scale from a small and unlikely to occur impact to a high and likely to occur impact. These risk-impact scores are used to calculate the expected impact on the different indicators. By filling in the answers using the drop down menu in Column C, the user interface will in real-time update the results section in the ‘Visualization’ sheet by: 1) presenting a table with the mean risk-impact scores for each indicator ranked from high to low. 2) presenting the results of a single indicator (users can select which indicator of interest in cell A33) of interest by displaying the 5 questions (column C-G), answers (Column H) and weight scores (Column I) most contributing to the risk of an indicator being affected, as well as a short explanation as to why this question-answer combination determines the risk of being affected in the way presented (Column J). Please always adhere to the general color coding instructions as mentioned above. Content Contributer specific instructions: The privileges of the Content Contributer include all of the instructions mentioned under End-User specific Instructions, but are expanded by the possibility to edit 1) the questions of the questionnaire (sheet Admin Potential Answers, column B), to edit 2) the possible answers/scale of answers sheet Admin Potential Answers, columns C-G), to edit 3) risk-impact weight scores (as Qualitative Likert scale) of each answer-question combination (sheet Admin Single Score, columns D-AQ), to edit 4) the output indicators to be affected (Sheet Admin Single Score, cells D3-AQ3) and to edit 5) the qualitative descriptions of why this question-answer combination affects the indicators the way it does (sheet Admin Output Explanation Single, Column C-AP). Please always adhere to the general color coding instructions as mentioned in above. Please note that the (semi-) quantitative entries for impact risk (sheet Admin Impact Weight Matrix) can be excluded from further analysis by selecting either "Placeholder Value" or "this question is irrelevant for this indicator". Sheet Naming instructions for Content Contributer: Sheets are named using one of four suffixes indicating their intended use(r): - Dev (only for Technical Developers of the tool) - User (Intended to be used by end users) - Analysis (Backhand calculcations, only intended for Technical Developers) - Admin (Allows for the entry of content by Content Contributers)

Sheet Questionnaire
A1: Question ID | B1: Question | C1: Answer (select from drop-down menu)
A2: ='Admin Potential Answers'!A2 -> Question_1 | B2: ='Admin Potential Answers'!B2 -> What is the importance of the MPA area for the affected fisheries? | C2: The majority of fishing activity is in the MPA.
A3: ='Admin Potential Answers'!A3 -> Question_2 | B3: ='Admin Potential Answers'!B3 -> Will it be fully or partly closed? | C3: The MPA will be partly closed, allowing some fishing activities to take place.
A4: ='Admin Potential Answers'!A4 -> Question_3 | B4: ='Admin Potential Answers'!B4 -> Will there be other restrictions for fishing within the MPA? | C4: Yes, fishers will be required to obtain permits to engage in fishing activities within the MPA.
A5: ='Admin Potential Answers'!A5 -> Question_4 | B5: ='Admin Potential Answers'!B5 -> Are there viable populations of target species in alternative areas that can be exploited by fisheries? | C5: No, there are not enough viable target species for the fishery to rely on.
A6: ='Admin Potential Answers'!A6 -> Question_5 | B6: ='Admin Potential Answers'!B6 -> Which of the following most strongly drives the current fishing activities in the area to be designated as an MPA? | C6: The absence of the target species elsewhere is the primary driving factor.
A7: ='Admin Potential Answers'!A7 -> Question_6 | B7: ='Admin Potential Answers'!B7 -> Compared to other areas where the majority of fishers operate, how close is the MPA to the home port(s) of the fishers? | C7: The MPA is close to the home port(s) of the fishers in comparison to other areas where they operate.
A8: ='Admin Potential Answers'!A8 -> Question_7 | B8: ='Admin Potential Answers'!B8 -> Compared to other areas that the fishers use to steam between their home port and fishing grounds, what is the density of seabirds in the MPA and the routes towards it? | C8: This is unknown and/or uncertain (Q7).
A9: ='Admin Potential Answers'!A9 -> Question_8 | B9: ='Admin Potential Answers'!B9 -> Compared to other areas which the fishers use for fishing and/or steaming, what is the density of marine mammals in the MPA and the routes towards it? | C9: The density of marine mammals in the MPA and the routes towards it is low compared to other fishing and steaming areas.
A10: ='Admin Potential Answers'!A10 -> Question_9 | B10: ='Admin Potential Answers'!B10 -> To what extent would it be feasible and beneficial (less steaming time) for fishers to change port? | C10: Changing port would not be beneficial since the current port is still closer to valuable fishing grounds.
A11: ='Admin Potential Answers'!A11 -> Question_10 | B11: ='Admin Potential Answers'!B11 -> To what extent does the introduction of the MPA force fishers to make longer trips? | C11: Most fishers will have to make significantly longer trips to reach valuable fishing grounds.
A12: ='Admin Potential Answers'!A12 -> Question_11 | B12: ='Admin Potential Answers'!B12 -> To what degree do longer trips raise logistical issues for fishermen? | C12: Despite some changes, fishers will still be able to work in their accustomed working rhythm.
A13: ='Admin Potential Answers'!A13 -> Question_12 | B13: ='Admin Potential Answers'!B13 -> To what degree are fishing-free weekends important for the local community? | C13: This is not a problem in this area because the local community was already accustomed or is willing to fish in a rhythm that includes working on Sundays.
... A33: ='Admin Potential Answers'!A33 -> Question_32 | B33: ='Admin Potential Answers'!B33 -> If innovation is required, to what extent is the community capable of innovation (financial and willingness)? | C33: This is unknown and/or uncertain (Q32).
A34: ='Admin Potential Answers'!A34 -> Question_33
A35: ='Admin Potential Answers'!A35 -> Question_34
A36: ='Admin Potential Answers'!A36 -> Question_35
A37: ='Admin Potential Answers'!A37 -> Question_36
A38: ='Admin Potential Answers'!A38 -> Question_37
A39: ='Admin Potential Answers'!A39 -> Question_38
A40: ='Admin Potential Answers'!A40 -> Question_39
A41: ='Admin Potential Answers'!A41 -> Question_40
A42: ='Admin Potential Answers'!A42 -> Question_41
A43: ='Admin Potential Answers'!A43 -> Question_42
A44: ='Admin Potential Answers'!A44 -> Question_43
A45: ='Admin Potential Answers'!A45 -> Question_44
... A47: ='Admin Potential Answers'!A47 -> Question_46
A48: END OF QUESTIONNAIRE | C48: END OF QUESTIONNAIRE

Sheet Visualization
A1: Instructions
A2: In this sheet, you will find the key findings of this tool based on the responses provided to the questionnaire. The findings are presented through four tables. Table 1 presents a ranking of the fourteen distinct indicators, sorted from high (maximum of 5) risk-impact to low (minimum of 1). Table 2 allows you to select a specific variable of interest. Upon selection, the table will list the primary contributors to the risk-impact, the corresponding impact scores of these responses, and a short explanation of how each question influences the indicator. Table 3, you can find the relevant questions for each indicator to which 'this is unknown' was answered. Finally, table 4 lists all the questions to which 'this is unknown' was answered. Each table can easily be found by clicking on the desired table reference in the cells below.
C12: Table 1 | D12: Table 2 | E12: Table 3 | F12: Table 4
A14: Table 1: Ranking of indicators' risk-impact & number of unknowns | F14: Key findings | AL14: Indicator | AM14: Risk-Impact | AN14: Rank | AO14: Ties
A15: Rank | B15: Indicator | C15: Risk-Impact score | D15: Unknowns | F15: ="As shown in table 1, the three indicators with the highest risk-impact score are "&B16&", "&B17&", and "&B18&"." -> As shown in table 1, the three indicators with the highest risk-impact score are Revenue, Competition, and Costs. | AL15: =('Analysis Final Result'!C$4) -> Biodiversity | AM15: =('Analysis Final Result'!C$7) -> 2.625 | AN15: =_xlfn.RANK.EQ(AM15, Table9b[Risk-Impact], 0) -> 6 | AO15: =IF(COUNTIF($AN$15:AN15, AN15) = 1, AN15, AN15 + COUNTIF($AN$15:AN15, AN15) - 1) -> 6
A16: 1 | B16: =INDEX(Table9b[Indicator], MATCH(A16, Table9b[Ties],0)) -> Revenue | C16: =ROUND(INDEX(Table9b[Risk-Impact], MATCH(A16, Table9b[Ties],0)),2) -> 3.46 | D16: =INDEX('Analysis Final Result'!$C$13:$AP$13, 1, MATCH(B16, 'Analysis Final Result'!$C$4:$AP$4, 0)) -> 4 | F16: To mitigate these negative impacts, it is advized to study whether the MPA policy can be tailored in such a way that these negative effects can be minimized without hampering other indicators. In table 2, any indicator of interest can be selected to see what the main causes are for the impact on this indicator. This can be helpful in identifying how the MPA policy can be improved to minimize negative effects. | AL16: =('Analysis Final Result'!D$4) -> Food-web | AM16: =('Analysis Final Result'!D$7) -> 2.4666667 | AN16: =_xlfn.RANK.EQ(AM16, Table9b[Risk-Impact], 0) -> 11 | AO16: =IF(COUNTIF($AN$15:AN16, AN16) = 1, AN16, AN16 + COUNTIF($AN$15:AN16, AN16) - 1) -> 11
A17: 2 | B17: =INDEX(Table9b[Indicator], MATCH(A17, Table9b[Ties],0)) -> Competition | C17: =ROUND(INDEX(Table9b[Risk-Impact], MATCH(A17, Table9b[Ties],0)),2) -> 3.14 | D17: =INDEX('Analysis Final Result'!$C$13:$AP$13, 1, MATCH(B17, 'Analysis Final Result'!$C$4:$AP$4, 0)) -> 4 | AL17: =('Analysis Final Result'!E$4) -> Seafloor integrity | AM17: =('Analysis Final Result'!E$7) -> 2.5384615 | AN17: =_xlfn.RANK.EQ(AM17, Table9b[Risk-Impact], 0) -> 10 | AO17: =IF(COUNTIF($AN$15:AN17, AN17) = 1, AN17, AN17 + COUNTIF($AN$15:AN17, AN17) - 1) -> 10
A18: 3 | B18: =INDEX(Table9b[Indicator], MATCH(A18, Table9b[Ties],0)) -> Costs | C18: =ROUND(INDEX(Table9b[Risk-Impact], MATCH(A18, Table9b[Ties],0)),2) -> 3.08 | D18: =INDEX('Analysis Final Result'!$C$13:$AP$13, 1, MATCH(B18, 'Analysis Final Result'!$C$4:$AP$4, 0)) -> 3 | AL18: =('Analysis Final Result'!F$4) -> Noise | AM18: =('Analysis Final Result'!F$7) -> 2.5454545 | AN18: =_xlfn.RANK.EQ(AM18, Table9b[Risk-Impact], 0) -> 9 | AO18: =IF(COUNTIF($AN$15:AN18, AN18) = 1, AN18, AN18 + COUNTIF($AN$15:AN18, AN18) - 1) -> 9
A19: 4 | B19: =INDEX(Table9b[Indicator], MATCH(A19, Table9b[Ties],0)) -> Catch composition | C19: =ROUND(INDEX(Table9b[Risk-Impact], MATCH(A19, Table9b[Ties],0)),2) -> 3 | D19: =INDEX('Analysis Final Result'!$C$13:$AP$13, 1, MATCH(B19, 'Analysis Final Result'!$C$4:$AP$4, 0)) -> 3 | AL19: =('Analysis Final Result'!G$4) -> CO2-emissions | AM19: =('Analysis Final Result'!G$7) -> 2.5555556 | AN19: =_xlfn.RANK.EQ(AM19, Table9b[Risk-Impact], 0) -> 8 | AO19: =IF(COUNTIF($AN$15:AN19, AN19) = 1, AN19, AN19 + COUNTIF($AN$15:AN19, AN19) - 1) -> 8
A20: 5 | B20: =INDEX(Table9b[Indicator], MATCH(A20, Table9b[Ties],0)) -> Bycatch quantity | C20: =ROUND(INDEX(Table9b[Risk-Impact], MATCH(A20, Table9b[Ties],0)),2) -> 2.82 | D20: =INDEX('Analysis Final Result'!$C$13:$AP$13, 1, MATCH(B20, 'Analysis Final Result'!$C$4:$AP$4, 0)) -> 4 | AL20: =('Analysis Final Result'!H$4) -> Catch composition | AM20: =('Analysis Final Result'!H$7) -> 3 | AN20: =_xlfn.RANK.EQ(AM20, Table9b[Risk-Impact], 0) -> 4 | AO20: =IF(COUNTIF($AN$15:AN20, AN20) = 1, AN20, AN20 + COUNTIF($AN$15:AN20, AN20) - 1) -> 4
A21: 6 | B21: =INDEX(Table9b[Indicator], MATCH(A21, Table9b[Ties],0)) -> Biodiversity | C21: =ROUND(INDEX(Table9b[Risk-Impact], MATCH(A21, Table9b[Ties],0)),2) -> 2.63 | D21: =INDEX('Analysis Final Result'!$C$13:$AP$13, 1, MATCH(B21, 'Analysis Final Result'!$C$4:$AP$4, 0)) -> 7 | AL21: =('Analysis Final Result'!I$4) -> Bycatch quantity | AM21: =('Analysis Final Result'!I$7) -> 2.8181818 | AN21: =_xlfn.RANK.EQ(AM21, Table9b[Risk-Impact], 0) -> 5 | AO21: =IF(COUNTIF($AN$15:AN21, AN21) = 1, AN21, AN21 + COUNTIF($AN$15:AN21, AN21) - 1) -> 5 | BA21: Number of unkowns
A22: 7 | B22: =INDEX(Table9b[Indicator], MATCH(A22, Table9b[Ties],0)) -> Polyvalence (different strategies) | C22: =ROUND(INDEX(Table9b[Risk-Impact], MATCH(A22, Table9b[Ties],0)),2) -> 2.62 | D22: =INDEX('Analysis Final Result'!$C$13:$AP$13, 1, MATCH(B22, 'Analysis Final Result'!$C$4:$AP$4, 0)) -> 3 | AL22: =('Analysis Final Result'!J$4) -> Costs | AM22: =('Analysis Final Result'!J$7) -> 3.0769231 | AN22: =_xlfn.RANK.EQ(AM22, Table9b[Risk-Impact], 0) -> 3 | AO22: =IF(COUNTIF($AN$15:AN22, AN22) = 1, AN22, AN22 + COUNTIF($AN$15:AN22, AN22) - 1) -> 3 | BA22: ='Analysis Final Result'!I13 -> 4
A23: 8 | B23: =INDEX(Table9b[Indicator], MATCH(A23, Table9b[Ties],0)) -> CO2-emissions | C23: =ROUND(INDEX(Table9b[Risk-Impact], MATCH(A23, Table9b[Ties],0)),2) -> 2.56 | D23: =INDEX('Analysis Final Result'!$C$13:$AP$13, 1, MATCH(B23, 'Analysis Final Result'!$C$4:$AP$4, 0)) -> 2 | F23: In addition to the mean Risk-Impact shown table 1, the column 'Unknowns' indicates how many questions relevant to each individual indicator were answered with 'this is unknown'. These unknowns indicate knowledge gaps that consequently result in uncertainties. In order to facilitate well-informed management decisions, it is advisable to minimize these knowledge gaps. Thus, it is recommended to, wherever feasible, conduct further research into these areas of uncertainty, enabling the formulation of effective policy decisions. Table 3 (specific indicator of interest) and 4 (total) list the questions that were answered with unknowns. | AL23: =('Analysis Final Result'!K$4) -> Revenue | AM23: =('Analysis Final Result'!K$7) -> 3.4615385 | AN23: =_xlfn.RANK.EQ(AM23, Table9b[Risk-Impact], 0) -> 1 | AO23: =IF(COUNTIF($AN$15:AN23, AN23) = 1, AN23, AN23 + COUNTIF($AN$15:AN23, AN23) - 1) -> 1
A24: 9 | B24: =INDEX(Table9b[Indicator], MATCH(A24, Table9b[Ties],0)) -> Noise | C24: =ROUND(INDEX(Table9b[Risk-Impact], MATCH(A24, Table9b[Ties],0)),2) -> 2.55 | D24: =INDEX('Analysis Final Result'!$C$13:$AP$13, 1, MATCH(B24, 'Analysis Final Result'!$C$4:$AP$4, 0)) -> 1 | AL24: =('Analysis Final Result'!L$4) -> Business structure | AM24: =('Analysis Final Result'!L$7) -> 2.2857143 | AN24: =_xlfn.RANK.EQ(AM24, Table9b[Risk-Impact], 0) -> 13 | AO24: =IF(COUNTIF($AN$15:AN24, AN24) = 1, AN24, AN24 + COUNTIF($AN$15:AN24, AN24) - 1) -> 13
A25: 10 | B25: =INDEX(Table9b[Indicator], MATCH(A25, Table9b[Ties],0)) -> Seafloor integrity | C25: =ROUND(INDEX(Table9b[Risk-Impact], MATCH(A25, Table9b[Ties],0)),2) -> 2.54 | D25: =INDEX('Analysis Final Result'!$C$13:$AP$13, 1, MATCH(B25, 'Analysis Final Result'!$C$4:$AP$4, 0)) -> 3 | AL25: =('Analysis Final Result'!M$4) -> Working rhythm | AM25: =('Analysis Final Result'!M$7) -> 2.1333333 | AN25: =_xlfn.RANK.EQ(AM25, Table9b[Risk-Impact], 0) -> 14 | AO25: =IF(COUNTIF($AN$15:AN25, AN25) = 1, AN25, AN25 + COUNTIF($AN$15:AN25, AN25) - 1) -> 14
A26: 11 | B26: =INDEX(Table9b[Indicator], MATCH(A26, Table9b[Ties],0)) -> Food-web | C26: =ROUND(INDEX(Table9b[Risk-Impact], MATCH(A26, Table9b[Ties],0)),2) -> 2.47 | D26: =INDEX('Analysis Final Result'!$C$13:$AP$13, 1, MATCH(B26, 'Analysis Final Result'!$C$4:$AP$4, 0)) -> 7 | AL26: =('Analysis Final Result'!N$4) -> Polyvalence (different strategies) | AM26: =('Analysis Final Result'!N$7) -> 2.6153846 | AN26: =_xlfn.RANK.EQ(AM26, Table9b[Risk-Impact], 0) -> 7 | AO26: =IF(COUNTIF($AN$15:AN26, AN26) = 1, AN26, AN26 + COUNTIF($AN$15:AN26, AN26) - 1) -> 7
A27: 12 | B27: =INDEX(Table9b[Indicator], MATCH(A27, Table9b[Ties],0)) -> Community | C27: =ROUND(INDEX(Table9b[Risk-Impact], MATCH(A27, Table9b[Ties],0)),2) -> 2.33 | D27: =INDEX('Analysis Final Result'!$C$13:$AP$13, 1, MATCH(B27, 'Analysis Final Result'!$C$4:$AP$4, 0)) -> 2 | AL27: =('Analysis Final Result'!O$4) -> Competition | AM27: =('Analysis Final Result'!O$7) -> 3.1428571 | AN27: =_xlfn.RANK.EQ(AM27, Table9b[Risk-Impact], 0) -> 2 | AO27: =IF(COUNTIF($AN$15:AN27, AN27) = 1, AN27, AN27 + COUNTIF($AN$15:AN27, AN27) - 1) -> 2
A28: 13 | B28: =INDEX(Table9b[Indicator], MATCH(A28, Table9b[Ties],0)) -> Business structure | C28: =ROUND(INDEX(Table9b[Risk-Impact], MATCH(A28, Table9b[Ties],0)),2) -> 2.29 | D28: =INDEX('Analysis Final Result'!$C$13:$AP$13, 1, MATCH(B28, 'Analysis Final Result'!$C$4:$AP$4, 0)) -> 3 | AL28: =('Analysis Final Result'!P$4) -> Community | AM28: =('Analysis Final Result'!P$7) -> 2.3333333 | AN28: =_xlfn.RANK.EQ(AM28, Table9b[Risk-Impact], 0) -> 12 | AO28: =IF(COUNTIF($AN$15:AN28, AN28) = 1, AN28, AN28 + COUNTIF($AN$15:AN28, AN28) - 1) -> 12
A29: 14 | B29: =INDEX(Table9b[Indicator], MATCH(A29, Table9b[Ties],0)) -> Working rhythm | C29: =ROUND(INDEX(Table9b[Risk-Impact], MATCH(A29, Table9b[Ties],0)),2) -> 2.13 | D29: =INDEX('Analysis Final Result'!$C$13:$AP$13, 1, MATCH(B29, 'Analysis Final Result'!$C$4:$AP$4, 0)) -> 2
A31: Table 2: Top contributors to risk-impact of indicator of interest
A32: Select indicator of interest: | B32: Contributer rank | C32: Key Contributing Question | H32: Key Contributing Answer | I32: Impact Score | J32: Explanation of Key Impact
A33: Noise | B33: =IF(I33=0, " ", "Top Contributor") -> Top Contributor | C33: =IF($I33=0, " ", INDEX('Analysis Final Result'!$C23:$AP23, MATCH(Visualization!$A$33, 'Analysis Final Result'!$C$4:$AP$4, 0))) -> To what extent does the introduction of the MPA force fishers to make longer trips? | H33: =IF($I33=0, " ", INDEX('Analysis Final Result'!$C31:$AP31, MATCH(Visualization!$A$33, 'Analysis Final Result'!$C$4:$AP$4, 0))) -> Most fishers will have to make significantly longer trips to reach valuable fishing grounds. | I33: =INDEX('Analysis Final Result'!$C39:$AP39, MATCH(Visualization!$A$33, 'Analysis Final Result'!$C$4:$AP$4, 0)) -> 4 | J33: =IF($I33=0, " ", INDEX('Analysis Final Result'!$C48:$AP48, MATCH(Visualization!$A$33, 'Analysis Final Result'!$C$4:$AP$4, 0))) -> The introduction of the MPA leading to longer fishing trips might impact underwater noise levels. Increased vessel traffic and longer travel distances could result in higher noise levels along fishing routes, affecting marine animals' behavior and acoustic environment.
B34: =IF(I34=0, " ", "2nd Contributor") -> 2nd Contributor | C34: =IF($I34=0, " ", INDEX('Analysis Final Result'!$C24:$AP24, MATCH(Visualization!$A$33, 'Analysis Final Result'!$C$4:$AP$4, 0))) -> Compared to other areas where the fishers operate (or could operate), how high is the abundance of the target fish species in the MPA? | H34: =IF($I34=0, " ", INDEX('Analysis Final Result'!$C32:$AP32, MATCH(Visualization!$A$33, 'Analysis Final Result'!$C$4:$AP$4, 0))) -> The abundance of the target fish species in the MPA is higher compared to other areas where the fishers operate. | I34: =INDEX('Analysis Final Result'!$C40:$AP40, MATCH(Visualization!$A$33, 'Analysis Final Result'!$C$4:$AP$4, 0)) -> 4 | J34: =IF($I34=0, " ", INDEX('Analysis Final Result'!$C49:$AP49, MATCH(Visualization!$A$33, 'Analysis Final Result'!$C$4:$AP$4, 0))) -> Changes in fishing effort due to different target species abundance might lead to varying levels of vessel traffic and noise. This could impact marine animals' behavior, communication, and acoustic environment.
B35: =IF(I35=0, " ", "3rd Contributor") -> 3rd Contributor | C35: =IF($I35=0, " ", INDEX('Analysis Final Result'!$C25:$AP25, MATCH(Visualization!$A$33, 'Analysis Final Result'!$C$4:$AP$4, 0))) -> What is the importance of the MPA area for the affected fisheries? | H35: =IF($I35=0, " ", INDEX('Analysis Final Result'!$C33:$AP33, MATCH(Visualization!$A$33, 'Analysis Final Result'!$C$4:$AP$4, 0))) -> The majority of fishing activity is in the MPA. | I35: =INDEX('Analysis Final Result'!$C41:$AP41, MATCH(Visualization!$A$33, 'Analysis Final Result'!$C$4:$AP$4, 0)) -> 3 | J35: =IF($I35=0, " ", INDEX('Analysis Final Result'!$C50:$AP50, MATCH(Visualization!$A$33, 'Analysis Final Result'!$C$4:$AP$4, 0))) -> The share of the activity in the MPA dictates how big the displacement of activity will be. The larger the share, the more displacement is expected and hence more noise will be generated outside the MPA.
B36: =IF(I36=0, " ", "4th Contributor") -> 4th Contributor | C36: =IF($I36=0, " ", INDEX('Analysis Final Result'!$C26:$AP26, MATCH(Visualization!$A$33, 'Analysis Final Result'!$C$4:$AP$4, 0))) -> Will it be fully or partly closed? | H36: =IF($I36=0, " ", INDEX('Analysis Final Result'!$C34:$AP34, MATCH(Visualization!$A$33, 'Analysis Final Result'!$C$4:$AP$4, 0))) -> The MPA will be partly closed, allowing some fishing activities to take place. | I36: =INDEX('Analysis Final Result'!$C42:$AP42, MATCH(Visualization!$A$33, 'Analysis Final Result'!$C$4:$AP$4, 0)) -> 3 | J36: =IF($I36=0, " ", INDEX('Analysis Final Result'!$C51:$AP51, MATCH(Visualization!$A$33, 'Analysis Final Result'!$C$4:$AP$4, 0))) -> The extent of MPA closure, whether full or partial, relates to underwater noise levels. A fully closed MPA may lead to increased steaming time and activity outside the MPA, inherently affecting marine animals' behavior and communication.
B37: =IF(I37=0, " ", "5th Contributor") -> 5th Contributor | C37: =IF($I37=0, " ", INDEX('Analysis Final Result'!$C27:$AP27, MATCH(Visualization!$A$33, 'Analysis Final Result'!$C$4:$AP$4, 0))) -> Compared to other areas where the majority of fishers operate, how close is the MPA to the home port(s) of the fishers? | H37: =IF($I37=0, " ", INDEX('Analysis Final Result'!$C35:$AP35, MATCH(Visualization!$A$33, 'Analysis Final Result'!$C$4:$AP$4, 0))) -> The MPA is close to the home port(s) of the fishers in comparison to other areas where they operate. | I37: =INDEX('Analysis Final Result'!$C43:$AP43, MATCH(Visualization!$A$33, 'Analysis Final Result'!$C$4:$AP$4, 0)) -> 3 | J37: =IF($I37=0, " ", INDEX('Analysis Final Result'!$C52:$AP52, MATCH(Visualization!$A$33, 'Analysis Final Result'!$C$4:$AP$4, 0))) -> The displacement of fishing within the MPA to other areas impacts underwater noise levels. If fishing activities shift to areas farther from the home port(s), longer travel distances could lead to increased vessel traffic and noise, affecting marine animals' behavior and acoustic environment along the new routes.
A39: Table 3: Questions that were answered with 'this is unknown' for indicator of interest
A40: Indicator of interest | B40: Question number | C40: Question
A41: Biodiversity | B41: {=IFERROR(INDEX('Analysis Answers Matrix'!$A$2:$A$156, SMALL(IF(INDEX('Analysis Answers Matrix'!$A$2:$IV$156, 0, MATCH($A$41, 'Analysis Answers Matrix'!$A$2:$IV$2, 0))="u", ROW('Analysis Answers Matrix'!$A$2:$A$156)-ROW('Analysis Answers Matrix'!$A$2)+1), ROW(1:1))), "")} -> Question_7 | C41: {=IFERROR(INDEX('Analysis Answers Matrix'!$B$2:$B$156, SMALL(IF(INDEX('Analysis Answers Matrix'!$A$2:$IV$156, 0, MATCH($A$41, 'Analysis Answers Matrix'!$A$2:$IV$2, 0))="u", ROW('Analysis Answers Matrix'!$B$2:$B$156)-ROW('Analysis Answers Matrix'!$A$2)+1), ROW(1:1))), "")} -> Compared to other areas that the fishers use to steam between their home port and fishing grounds, what is the density of seabirds in the MPA and the routes towards it?
B42: {=IFERROR(INDEX('Analysis Answers Matrix'!$A$2:$A$156, SMALL(IF(INDEX('Analysis Answers Matrix'!$A$2:$IV$156, 0, MATCH($A$41, 'Analysis Answers Matrix'!$A$2:$IV$2, 0))="u", ROW('Analysis Answers Matrix'!$A$2:$A$156)-ROW('Analysis Answers Matrix'!$A$2)+1), ROW(2:2))), "")} -> Question_15 | C42: {=IFERROR(INDEX('Analysis Answers Matrix'!$B$2:$B$156, SMALL(IF(INDEX('Analysis Answers Matrix'!$A$2:$IV$156, 0, MATCH($A$41, 'Analysis Answers Matrix'!$A$2:$IV$2, 0))="u", ROW('Analysis Answers Matrix'!$B$2:$B$156)-ROW('Analysis Answers Matrix'!$A$2)+1), ROW(2:2))), "")} -> Compared to other areas where the fishers operate (or could operate), what is the catchability for the target species in the MPA?
B43: {=IFERROR(INDEX('Analysis Answers Matrix'!$A$2:$A$156, SMALL(IF(INDEX('Analysis Answers Matrix'!$A$2:$IV$156, 0, MATCH($A$41, 'Analysis Answers Matrix'!$A$2:$IV$2, 0))="u", ROW('Analysis Answers Matrix'!$A$2:$A$156)-ROW('Analysis Answers Matrix'!$A$2)+1), ROW(3:3))), "")} -> Question_19 | C43: {=IFERROR(INDEX('Analysis Answers Matrix'!$B$2:$B$156, SMALL(IF(INDEX('Analysis Answers Matrix'!$A$2:$IV$156, 0, MATCH($A$41, 'Analysis Answers Matrix'!$A$2:$IV$2, 0))="u", ROW('Analysis Answers Matrix'!$B$2:$B$156)-ROW('Analysis Answers Matrix'!$A$2)+1), ROW(3:3))), "")} -> How does the bycatch rate (bycatch biomass per unit of effort) within the MPA compare to alternative areas?
B44: {=IFERROR(INDEX('Analysis Answers Matrix'!$A$2:$A$156, SMALL(IF(INDEX('Analysis Answers Matrix'!$A$2:$IV$156, 0, MATCH($A$41, 'Analysis Answers Matrix'!$A$2:$IV$2, 0))="u", ROW('Analysis Answers Matrix'!$A$2:$A$156)-ROW('Analysis Answers Matrix'!$A$2)+1), ROW(4:4))), "")} -> Question_20 | C44: {=IFERROR(INDEX('Analysis Answers Matrix'!$B$2:$B$156, SMALL(IF(INDEX('Analysis Answers Matrix'!$A$2:$IV$156, 0, MATCH($A$41, 'Analysis Answers Matrix'!$A$2:$IV$2, 0))="u", ROW('Analysis Answers Matrix'!$B$2:$B$156)-ROW('Analysis Answers Matrix'!$A$2)+1), ROW(4:4))), "")} -> Compared to other areas where the fishers operate, what is the frequency of occurrence of spawning aggregations of species that are caught in or disturbed by the fishing gears used in the MPA?
B45: {=IFERROR(INDEX('Analysis Answers Matrix'!$A$2:$A$156, SMALL(IF(INDEX('Analysis Answers Matrix'!$A$2:$IV$156, 0, MATCH($A$41, 'Analysis Answers Matrix'!$A$2:$IV$2, 0))="u", ROW('Analysis Answers Matrix'!$A$2:$A$156)-ROW('Analysis Answers Matrix'!$A$2)+1), ROW(5:5))), "")} -> Question_23 | C45: {=IFERROR(INDEX('Analysis Answers Matrix'!$B$2:$B$156, SMALL(IF(INDEX('Analysis Answers Matrix'!$A$2:$IV$156, 0, MATCH($A$41, 'Analysis Answers Matrix'!$A$2:$IV$2, 0))="u", ROW('Analysis Answers Matrix'!$B$2:$B$156)-ROW('Analysis Answers Matrix'!$A$2)+1), ROW(5:5))), "")} -> Compared to other areas where the fishers operate, what is the abundance of species which are known to be sensitive to underwater noise (e.g. marine mammals) in the MPA?
B46: {=IFERROR(INDEX('Analysis Answers Matrix'!$A$2:$A$156, SMALL(IF(INDEX('Analysis Answers Matrix'!$A$2:$IV$156, 0, MATCH($A$41, 'Analysis Answers Matrix'!$A$2:$IV$2, 0))="u", ROW('Analysis Answers Matrix'!$A$2:$A$156)-ROW('Analysis Answers Matrix'!$A$2)+1), ROW(6:6))), "")} -> Question_31 | C46: {=IFERROR(INDEX('Analysis Answers Matrix'!$B$2:$B$156, SMALL(IF(INDEX('Analysis Answers Matrix'!$A$2:$IV$156, 0, MATCH($A$41, 'Analysis Answers Matrix'!$A$2:$IV$2, 0))="u", ROW('Analysis Answers Matrix'!$B$2:$B$156)-ROW('Analysis Answers Matrix'!$A$2)+1), ROW(6:6))), "")} -> How do these methods compare to the methods used in the MPA in terms of impact on the food-web?
B47: {=IFERROR(INDEX('Analysis Answers Matrix'!$A$2:$A$156, SMALL(IF(INDEX('Analysis Answers Matrix'!$A$2:$IV$156, 0, MATCH($A$41, 'Analysis Answers Matrix'!$A$2:$IV$2, 0))="u", ROW('Analysis Answers Matrix'!$A$2:$A$156)-ROW('Analysis Answers Matrix'!$A$2)+1), ROW(7:7))), "")} -> Question_32 | C47: {=IFERROR(INDEX('Analysis Answers Matrix'!$B$2:$B$156, SMALL(IF(INDEX('Analysis Answers Matrix'!$A$2:$IV$156, 0, MATCH($A$41, 'Analysis Answers Matrix'!$A$2:$IV$2, 0))="u", ROW('Analysis Answers Matrix'!$B$2:$B$156)-ROW('Analysis Answers Matrix'!$A$2)+1), ROW(7:7))), "")} -> If innovation is required, to what extent is the community capable of innovation (financial and willingness)?
B48: {=IFERROR(INDEX('Analysis Answers Matrix'!$A$2:$A$156, SMALL(IF(INDEX('Analysis Answers Matrix'!$A$2:$IV$156, 0, MATCH($A$41, 'Analysis Answers Matrix'!$A$2:$IV$2, 0))="u", ROW('Analysis Answers Matrix'!$A$2:$A$156)-ROW('Analysis Answers Matrix'!$A$2)+1), ROW(8:8))), "")} | C48: {=IFERROR(INDEX('Analysis Answers Matrix'!$B$2:$B$156, SMALL(IF(INDEX('Analysis Answers Matrix'!$A$2:$IV$156, 0, MATCH($A$41, 'Analysis Answers Matrix'!$A$2:$IV$2, 0))="u", ROW('Analysis Answers Matrix'!$B$2:$B$156)-ROW('Analysis Answers Matrix'!$A$2)+1), ROW(8:8))), "")}
B49: {=IFERROR(INDEX('Analysis Answers Matrix'!$A$2:$A$156, SMALL(IF(INDEX('Analysis Answers Matrix'!$A$2:$IV$156, 0, MATCH($A$41, 'Analysis Answers Matrix'!$A$2:$IV$2, 0))="u", ROW('Analysis Answers Matrix'!$A$2:$A$156)-ROW('Analysis Answers Matrix'!$A$2)+1), ROW(9:9))), "")} | C49: {=IFERROR(INDEX('Analysis Answers Matrix'!$B$2:$B$156, SMALL(IF(INDEX('Analysis Answers Matrix'!$A$2:$IV$156, 0, MATCH($A$41, 'Analysis Answers Matrix'!$A$2:$IV$2, 0))="u", ROW('Analysis Answers Matrix'!$B$2:$B$156)-ROW('Analysis Answers Matrix'!$A$2)+1), ROW(9:9))), "")}
B50: {=IFERROR(INDEX('Analysis Answers Matrix'!$A$2:$A$156, SMALL(IF(INDEX('Analysis Answers Matrix'!$A$2:$IV$156, 0, MATCH($A$41, 'Analysis Answers Matrix'!$A$2:$IV$2, 0))="u", ROW('Analysis Answers Matrix'!$A$2:$A$156)-ROW('Analysis Answers Matrix'!$A$2)+1), ROW(10:10))), "")} | C50: {=IFERROR(INDEX('Analysis Answers Matrix'!$B$2:$B$156, SMALL(IF(INDEX('Analysis Answers Matrix'!$A$2:$IV$156, 0, MATCH($A$41, 'Analysis Answers Matrix'!$A$2:$IV$2, 0))="u", ROW('Analysis Answers Matrix'!$B$2:$B$156)-ROW('Analysis Answers Matrix'!$A$2)+1), ROW(10:10))), "")}
B51: {=IFERROR(INDEX('Analysis Answers Matrix'!$A$2:$A$156, SMALL(IF(INDEX('Analysis Answers Matrix'!$A$2:$IV$156, 0, MATCH($A$41, 'Analysis Answers Matrix'!$A$2:$IV$2, 0))="u", ROW('Analysis Answers Matrix'!$A$2:$A$156)-ROW('Analysis Answers Matrix'!$A$2)+1), ROW(11:11))), "")} | C51: {=IFERROR(INDEX('Analysis Answers Matrix'!$B$2:$B$156, SMALL(IF(INDEX('Analysis Answers Matrix'!$A$2:$IV$156, 0, MATCH($A$41, 'Analysis Answers Matrix'!$A$2:$IV$2, 0))="u", ROW('Analysis Answers Matrix'!$B$2:$B$156)-ROW('Analysis Answers Matrix'!$A$2)+1), ROW(11:11))), "")}
B52: {=IFERROR(INDEX('Analysis Answers Matrix'!$A$2:$A$156, SMALL(IF(INDEX('Analysis Answers Matrix'!$A$2:$IV$156, 0, MATCH($A$41, 'Analysis Answers Matrix'!$A$2:$IV$2, 0))="u", ROW('Analysis Answers Matrix'!$A$2:$A$156)-ROW('Analysis Answers Matrix'!$A$2)+1), ROW(12:12))), "")} | C52: {=IFERROR(INDEX('Analysis Answers Matrix'!$B$2:$B$156, SMALL(IF(INDEX('Analysis Answers Matrix'!$A$2:$IV$156, 0, MATCH($A$41, 'Analysis Answers Matrix'!$A$2:$IV$2, 0))="u", ROW('Analysis Answers Matrix'!$B$2:$B$156)-ROW('Analysis Answers Matrix'!$A$2)+1), ROW(12:12))), "")}
...

Sheet Admin Potential Answers
A1: Question ID | B1: Question | C1: Answer 1 (Duplicates Not Allowed) | D1: Answer 2 (Duplicates Not Allowed) | E1: Answer 3 (Duplicates Not Allowed) | F1: Answer 4 (Duplicates Not Allowed) | G1: Answer 5 (Duplicates Not Allowed)
A2: Question_1 | B2: What is the importance of the MPA area for the affected fisheries? | C2: Less than 10% of fishing activity is in the MPA. | D2: Between 10 and 50% of fishing activity is in the MPA. | E2: The majority of fishing activity is in the MPA. | F2: The fisheries exclusively fish in the MPA. | G2: This is unknown and/or uncertain (Q1).
A3: Question_2 | B3: Will it be fully or partly closed? | C3: The MPA will be partly closed, allowing some fishing activities to take place. | D3: The MPA will be fully closed to fishing activities.
A4: Question_3 | B4: Will there be other restrictions for fishing within the MPA? | C4: Yes, there will be additional restrictions on fishing within the MPA, including limitations on fishing gears and equipment. | D4: Yes, fishing within the MPA will be restricted during specific periods to protect vulnerable species. | E4: Yes, fishers will be required to obtain permits to engage in fishing activities within the MPA. | F4: Yes, there will be limitations on catch quotas for specific species within the MPA. | G4: There will be no other restrictions (i.e. no fishing at all is allowed in the MPA).
A5: Question_4 | B5: Are there viable populations of target species in alternative areas that can be exploited by fisheries? | C5: Yes, there are viable target species occurring outside the MPA that fishers can exploit. | D5: Yes, but only few. | E5: No, there are not enough viable target species for the fishery to rely on. | F5: This is unknown and/or uncertain (Q4).
A6: Question_5 | B6: Which of the following most strongly drives the current fishing activities in the area to be designated as an MPA? | C6: The absence of the target species elsewhere is the primary driving factor. | D6: The efficiency of the gear in the area is the primary driving factor. | E6: The proximity to port relative to alternative areas is the primary driving factor. | F6: This is unknown and/or uncertain (Q5).
A7: Question_6 | B7: Compared to other areas where the majority of fishers operate, how close is the MPA to the home port(s) of the fishers? | C7: The MPA is close to the home port(s) of the fishers in comparison to other areas where they operate. | D7: The MPA is at an average distance from the home port(s) of the fishers in comparison to other areas where they operate. | E7: The MPA is far from the home port(s) of the fishers in comparison to other areas where they operate.
A8: Question_7 | B8: Compared to other areas that the fishers use to steam between their home port and fishing grounds, what is the density of seabirds in the MPA and the routes towards it? | C8: The density of seabirds in the MPA and the routes towards it is low compared to other areas used by the fishers for transit. | D8: The density of seabirds in the MPA and the routes towards it is average compared to other areas used by the fishers for transit. | E8: The density of seabirds in the MPA and the routes towards it is high compared to other areas used by the fishers for transit. | F8: This is unknown and/or uncertain (Q7).
A9: Question_8 | B9: Compared to other areas which the fishers use for fishing and/or steaming, what is the density of marine mammals in the MPA and the routes towards it? | C9: The density of marine mammals in the MPA and the routes towards it is low compared to other fishing and steaming areas. | D9: The density of marine mammals in the MPA and the routes towards it is average compared to other fishing and steaming areas. | E9: The density of marine mammals in the MPA and the routes towards it is high compared to other fishing and steaming areas. | F9: This is unknown and/or uncertain (Q8).
A10: Question_9 | B10: To what extent would it be feasible and beneficial (less steaming time) for fishers to change port? | C10: It would be beneficial and feasible for fishers to change port. | D10: Changing port would be beneficial, but is not possible due to logical constrains, established networks in the current port, location of fishing areas. | E10: Changing port would not be beneficial since the current port is still closer to valuable fishing grounds. | F10: This is unknown and/or uncertain (Q9).
A11: Question_10 | B11: To what extent does the introduction of the MPA force fishers to make longer trips? | C11: Most fishers will have to make significantly longer trips to reach valuable fishing grounds. | D11: Some fishers will have to make significantly longer trips to reach valuable fishing grounds. | E11: There will still be more or less sufficient grounds closeby, so fishers can choose to make longer trips or not. | F11: There are plenty of good alternative fishing grounds so longer trips are not neccessary. | G11: This is unknown and/or uncertain (Q10).
A12: Question_11 | B12: To what degree do longer trips raise logistical issues for fishermen? | C12: Fishers will not be able to complete trips within their preferred or traditional working rhythm (e.g. will have to work in weekends.) | D12: Despite some changes, fishers will still be able to work in their accustomed working rhythm. | E12: There is no reason to change working rhythm. | F12: This is unknown and/or uncertain (Q11).
A13: Question_12 | B13: To what degree are fishing-free weekends important for the local community? | C13: It is a very prevalent custom in this area to have fishing-free weekends that many families will not give up. | D13: It is a custom to be free on Sundays, but the community can likely adapt without significant issues. | E13: This is not a problem in this area because the local community was already accustomed or is willing to fish in a rhythm that includes working on Sundays. | F13: This is unknown and/or uncertain (Q12).
A14: Question_13 | B14: Compared to other areas where the fishers operate (or could operate), how high is the abundance of the target fish species in the MPA? | C14: The abundance of the target fish species in the MPA is higher compared to other areas where the fishers operate. | D14: The abundance of the target fish species in the MPA is similar to other areas where the fishers operate. | E14: The abundance of the target fish species in the MPA is lower compared to other areas where the fishers operate. | F14: This is unknown and/or uncertain (Q13).
A15: Question_14 | B15: If the alternative fishing areas are further away, will that reduce the time fishers have available to fish, on an annual basis? | C15: Yes, if the new areas are further away, it will reduce the time fishers have available to fish on an annual basis due to increased travel time. | D15: No, the increased distance to the new areas will not significantly impact the time fishers have available to fish on an annual basis. | E15: This is unknown and/or uncertain (Q14).
A16: Question_15 | B16: Compared to other areas where the fishers operate (or could operate), what is the catchability for the target species in the MPA? | C16: The catchability of the target species in the MPA is lower compared to other areas where the fishers operate. | D16: The catchability of the target species in the MPA is similar to other areas where the fishers operate. | E16: The catchability of the target species in the MPA is higher compared to other areas where the fishers operate. | F16: This is unknown and/or uncertain (Q15).
A17: Question_16 | B17: To what extent are there fishers that are highly specialized on certain target species who will have to increase their effort in searching productive new grounds? | C17: Very much so. There are fishers who are highly specialized in certain target species and will have to significantly increase their effort in searching for productive new grounds or invest in new gear. | D17: To some extent (average). Some fishers who are highly specialized in certain target species may need to increase their effort in searching for productive new grounds in response to the MPA, but the impact may not be as significant. | E17: They won't have problems finding their target species. Fishers who are highly specialized in certain target species are already familiar with productive fishing grounds and will not face significant challenges in catching target species outside the MPA. | F17: This is unknown and/or uncertain (Q16).
A18: Question_17 | B18: Compared to the other areas where the fishers operate (or could operate), how is the abundance of vulnerable and/or protected species and/or habitats which are sensitive to the fishing activity, inside the MPA? | C18: Higher compared to other areas where the fishers operate. | D18: Similar to other areas where the fishers operate. | E18: Lower compared to other areas where the fishers operate. | F18: This is unknown and/or uncertain (Q17).
A19: Question_18 | B19: Compared to other areas where the fishers operate, how large is the biodiversity in the MPA? | C19: The biodiversity in the MPA is high compared to other areas where the fishers operate. | D19: The biodiversity in the MPA is similar to other areas where the fishers operate. | E19: The biodiversity in the MPA is relatively low compared to other areas where the fishers operate. | F19: This is unknown and/or uncertain (Q18).
A20: Question_19 | B20: How does the bycatch rate (bycatch biomass per unit of effort) within the MPA compare to alternative areas? | C20: The bycatch rate in the MPA is low compared to other areas where the fishers operate. | D20: The bycatch rate in the MPA is similar to other areas where the fishers operate. | E20: The bycatch rate in the MPA is high compared to other areas where the fishers operate. | F20: This is unknown and/or uncertain (Q19).
A21: Question_20 | B21: Compared to other areas where the fishers operate, what is the frequency of occurrence of spawning aggregations of species that are caught in or disturbed by the fishing gears used in the MPA? | C21: Lower compared to other fishing areas. | D21: Similar to other fishing areas. | E21: Higher compared to other fishing areas. | F21: This is unknown and/or uncertain (Q20).
A22: Question_21 | B22: Compared to other areas where the fishers operate, what is the historic fishing intensity in the MPA? | C22: Fishing intensity in the MPA is generally low compared to other fishing areas. | D22: Fishing intensity in the MPA is similar to that of other fishing areas. | E22: Fishing intensity in the MPA is relatively high compared to other fishing areas. | F22: This is unknown and/or uncertain (Q21).
A23: Question_22 | B23: Compared to other areas where the fishers operate, what is the abundance of specific sensitive benthic species or features (such as oyster beds and boulders) in the MPA? | C23: The abundance is lower in the MPA. | D23: The abundance is similar in the MPA. | E23: The abundance is higher in the MPA. | F23: This is unknown and/or uncertain (Q22).
A24: Question_23 | B24: Compared to other areas where the fishers operate, what is the abundance of species which are known to be sensitive to underwater noise (e.g. marine mammals) in the MPA? | C24: The abundance in the MPA is lower. | D24: The abundance in the MPA is similar. | E24: The abundance in the MPA is higher. | F24: This is unknown and/or uncertain (Q23).
A25: Question_24 | B25: How significant is the total reduction in productive fishable grounds? | C25: The total reduction in productive fishable grounds is relatively small. | D25: The total reduction in productive fishable grounds is of average significance. | E25: The total reduction in productive fishable grounds is significant. | F25: This is unknown and/or uncertain (Q24).
A26: Question_25 | B26: Do fishers historically use different methods (e.g. vessel type, gear, mesh size) in areas alternative to the MPA? | C26: Fishers historically have no significant differences in methods used in areas alternative to the MPA. | D26: Fishers historically have some differences in methods used in areas alternative to the MPA. | E26: Fishers historically have many differences in methods used in areas alternative to the MPA. | F26: This is unknown and/or uncertain (Q25).
A27: Question_26 | B27: Are gear changes required to catch the target species in the alternative areas? | C27: No | D27: Yes | E27: This is unknown and/or uncertain (Q26).
A28: Question_27 | B28: How do these methods compare to the methods used in the MPA in terms of impact on the seafloor? | C28: These methods have less impact in terms of impact on the seafloor. | D28: These methods have a similar impact (or the same methods are used) in terms of impact on the seafloor. | E28: These methods have more impact in terms of impact on the seafloor. | F28: This is unknown and/or uncertain (Q27).
A29: Question_28 | B29: How do these methods compare to the methods used in the MPA in terms of impact on noise levels? | C29: These methods have less impact in terms of impact on noise levels. | D29: These methods have a similar impact (or the same methods are used) in terms of impact on noise levels. | E29: These methods have more impact in terms of impact on noise levels. | F29: This is unknown and/or uncertain (Q28).
A30: Question_29 | B30: How do these methods compare to the methods used in the MPA in terms of impact on CO2 emissions? | C30: These methods have less impact in terms of impact on CO2-emissions. | D30: These methods have a similar impact (or the same methods are used) in terms of impact on CO2-emissions. | E30: These methods have more impact in terms of impact on CO2-emissions. | F30: This is unknown and/or uncertain (Q29).
A31: Question_30 | B31: How do these methods compare to the methods used in the MPA in terms of impact on bycatch? | C31: These methods have less impact in terms of impact on bycatch. | D31: These methods have a similar impact (or the same methods are used) in terms of impact on bycatch. | E31: These methods have more impact in terms of impact on bycatch. | F31: This is unknown and/or uncertain (Q30).
A32: Question_31 | B32: How do these methods compare to the methods used in the MPA in terms of impact on the food-web? | C32: These methods have less impact in terms of impact on the food-web. | D32: These methods have a similar impact (or the same methods are used) in terms of impact on the food-web. | E32: These methods have more impact in terms of impact on the food-web. | F32: This is unknown and/or uncertain (Q31).
A33: Question_32 | B33: If innovation is required, to what extent is the community capable of innovation (financial and willingness)? | C33: The community is very capable (financially) and willing to innovate | D33: The community will only be able and willing to innovate to some extent. | E33: The community will not be able to innovate. | F33: This is unknown and/or uncertain (Q32).
A34: Question_33 | B34: Question 36
A35: Question_34 | B35: Question 37
A36: Question_35 | B36: Question 38
A37: Question_36 | B37: Question 39
A38: Question_37 | B38: Question 40
A39: Question_38 | B39: Question 41
A40: Question_39 | B40: Question 42
...

Sheet Admin Single Score
D1: Effect of impact on Indicators
C2: Indicator ID Number: | D2: 1 | E2: 2 | F2: 3 | G2: 4 | H2: 5 | I2: 6 | J2: 7 | K2: 8 | L2: 9 | M2: 10 | N2: 11 | O2: 12 | P2: 13 | Q2: 14 | R2: 15 | S2: 16 | T2: 17 | U2: 18 | V2: 19 | W2: 20 | X2: 21 | Y2: 22 | Z2: 23 | AA2: 24 | AB2: 25 | AC2: 26 | AD2: 27 | AE2: 28 | AF2: 29 | AG2: 30 | AH2: 31 | AI2: 32 | AJ2: 33 | AK2: 34 | AL2: 35 | AM2: 36 | AN2: 37 | AO2: 38 | AP2: 39 | AQ2: 40
A3: Question_ID | B3: Question | C3: Answer | D3: Biodiversity | E3: Food-web | F3: Seafloor integrity | G3: Noise | H3: CO2-emissions | I3: Catch composition | J3: Bycatch quantity | K3: Costs | L3: Revenue | M3: Business structure | N3: Working rhythm | O3: Polyvalence (different strategies) | P3: Competition | Q3: Community | R3: Indicator 15 | S3: Indicator 16 | T3: Indicator 17 | U3: Indicator 18 | V3: Indicator 19 | W3: Indicator 20 | X3: Indicator 21 | Y3: Indicator 22 | Z3: Indicator 23 | AA3: Indicator 24 | AB3: Indicator 25 | AC3: Indicator 26 | AD3: Indicator 27 | AE3: Indicator 28 | AF3: Indicator 29 | AG3: Indicator 30 | AH3: Indicator 31 | AI3: Indicator 32 | AJ3: Indicator 33 | AK3: Indicator 34 | AL3: Indicator 35 | AM3: Indicator 36 | AN3: Indicator 37 | AO3: Indicator 38 | AP3: Indicator 39 | AQ3: Indicator 40
A4: ='Admin Potential Answers'!A2 -> Question_1 | B4: ='Admin Potential Answers'!B2 -> What is the importance of the MPA area for the affected fisheries? | C4: ='Admin Potential Answers'!C$2 -> Less than 10% of fishing activity is in the MPA. | D4: the impact on this indicator is small and unlikely to occur | E4: the impact on this indicator is small and unlikely to occur | F4: the impact on this indicator is small and unlikely to occur | G4: the impact on this indicator is small and unlikely to occur | H4: the impact on this indicator is small and unlikely to occur | I4: the impact on this indicator is small and unlikely to occur | J4: the impact on this indicator is small and unlikely to occur | K4: the impact on this indicator is small and unlikely to occur | L4: the impact on this indicator is small or unlikely to occur | M4: the impact on this indicator is small and unlikely to occur | N4: the impact on this indicator is small and unlikely to occur | O4: the impact on this indicator is small and unlikely to occur | P4: the impact on this indicator is small and unlikely to occur | Q4: the impact on this indicator is small and unlikely to occur | R4: Placeholder Value | S4: Placeholder Value | T4: Placeholder Value | U4: Placeholder Value | V4: Placeholder Value | W4: Placeholder Value | X4: Placeholder Value | Y4: Placeholder Value | Z4: Placeholder Value | AA4: Placeholder Value | AB4: Placeholder Value | AC4: Placeholder Value | AD4: Placeholder Value | AE4: Placeholder Value | AF4: Placeholder Value | AG4: Placeholder Value | AH4: Placeholder Value | AI4: Placeholder Value | AJ4: Placeholder Value | AK4: Placeholder Value | AL4: Placeholder Value | AM4: Placeholder Value | AN4: Placeholder Value | AO4: Placeholder Value | AP4: Placeholder Value | AQ4: Placeholder Value
A5: ='Admin Potential Answers'!A2 -> Question_1 | B5: ='Admin Potential Answers'!B2 -> What is the importance of the MPA area for the affected fisheries? | C5: ='Admin Potential Answers'!D$2 -> Between 10 and 50% of fishing activity is in the MPA. | D5: the impact on this indicator is moderate in size and likeliness | E5: the impact on this indicator is moderate in size and likeliness | F5: the impact on this indicator is small and unlikely to occur | G5: the impact on this indicator is small and unlikely to occur | H5: the impact on this indicator is small and unlikely to occur | I5: the impact on this indicator is small and unlikely to occur | J5: the impact on this indicator is small and unlikely to occur | K5: the impact on this indicator is small or unlikely to occur | L5: the impact on this indicator is moderate in size and likeliness | M5: the impact on this indicator is small and unlikely to occur | N5: the impact on this indicator is small and unlikely to occur | O5: the impact on this indicator is small and unlikely to occur | P5: the impact on this indicator is moderate in size and likeliness | Q5: the impact on this indicator is small and unlikely to occur | R5: Placeholder Value | S5: Placeholder Value | T5: Placeholder Value | U5: Placeholder Value | V5: Placeholder Value | W5: Placeholder Value | X5: Placeholder Value | Y5: Placeholder Value | Z5: Placeholder Value | AA5: Placeholder Value | AB5: Placeholder Value | AC5: Placeholder Value | AD5: Placeholder Value | AE5: Placeholder Value | AF5: Placeholder Value | AG5: Placeholder Value | AH5: Placeholder Value | AI5: Placeholder Value | AJ5: Placeholder Value | AK5: Placeholder Value | AL5: Placeholder Value | AM5: Placeholder Value | AN5: Placeholder Value | AO5: Placeholder Value | AP5: Placeholder Value | AQ5: Placeholder Value
A6: ='Admin Potential Answers'!A2 -> Question_1 | B6: ='Admin Potential Answers'!B2 -> What is the importance of the MPA area for the affected fisheries? | C6: ='Admin Potential Answers'!E$2 -> The majority of fishing activity is in the MPA. | D6: the impact on this indicator is significant or likely to occur | E6: the impact on this indicator is significant or likely to occur | F6: the impact on this indicator is moderate in size and likeliness | G6: the impact on this indicator is moderate in size and likeliness | H6: the impact on this indicator is moderate in size and likeliness | I6: the impact on this indicator is moderate in size and likeliness | J6: the impact on this indicator is moderate in size and likeliness | K6: the impact on this indicator is moderate in size and likeliness | L6: the impact on this indicator is significant or likely to occur | M6: the impact on this indicator is moderate in size and likeliness | N6: the impact on this indicator is moderate in size and likeliness | O6: the impact on this indicator is moderate in size and likeliness | P6: the impact on this indicator is significant or likely to occur | Q6: the impact on this indicator is moderate in size and likeliness | R6: Placeholder Value | S6: Placeholder Value | T6: Placeholder Value | U6: Placeholder Value | V6: Placeholder Value | W6: Placeholder Value | X6: Placeholder Value | Y6: Placeholder Value | Z6: Placeholder Value | AA6: Placeholder Value | AB6: Placeholder Value | AC6: Placeholder Value | AD6: Placeholder Value | AE6: Placeholder Value | AF6: Placeholder Value | AG6: Placeholder Value | AH6: Placeholder Value | AI6: Placeholder Value | AJ6: Placeholder Value | AK6: Placeholder Value | AL6: Placeholder Value | AM6: Placeholder Value | AN6: Placeholder Value | AO6: Placeholder Value | AP6: Placeholder Value | AQ6: Placeholder Value
