Workbook

Sheet CRIM002
A1: Theme 2_Child offenders
A2: CRIM002 Minimum Age of Criminal Responsibility (MACR)
B5: Minimum Age of Criminal Responsibility (MACR) determined in law | E5: Age cohort of children that could potentially be considered criminally liable | G5: Number of children above the minimum age of criminal responsibility and below the age of 18
B6: 2012 | C6: Source | G6: 2008 | J6: 2009 | M6: 2010 | P6: 2011 | S6: Source
G7: Total | H7: Male | I7: Female | J7: Total | K7: Male | L7: Female | M7: Total | N7: Male | O7: Female | P7: Total | Q7: Male | R7: Female
A8: BE | B8: 18 | C8: Section 2.3.1, Contextual Overview | E8: 16-17 | G8: 263617 | H8: 134778 | I8: 128839 | J8: 264296 | K8: 135041 | L8: 129255 | M8: 259281 | N8: 132204 | O8: 127077 | P8: 253925 | Q8: 130211 | R8: 123714 | S8: EUROSTATDS1T1data
A9: BG | B9: 14 | C9: Section 2.3.1, Contextual Overview | E9: 14-17 | G9: 344778 | H9: 177223 | I9: 167555 | J9: 321699 | K9: 165177 | L9: 156522 | M9: 299246 | N9: 153295 | O9: 145951 | P9: 277942 | Q9: 142889 | R9: 135053 | S9: EUROSTATDS1T1data
A10: CZ | B10: 15 | C10: Section 2.3.1, Contextual Overview | E10: 15-17 | G10: 382195 | H10: 196205 | I10: 185990 | J10: 373973 | K10: 192023 | L10: 181950 | M10: 352641 | N10: 180891 | O10: 171750 | P10: 325591 | Q10: 166987 | R10: 158604 | S10: EUROSTATDS1T1data
A11: DK | B11: 15 | C11: Section 2.3.1, Contextual Overview | E11: 15-17 | G11: 205567 | H11: 105557 | I11: 100010 | J11: 209119 | K11: 107283 | L11: 101836 | M11: 214192 | N11: 109809 | O11: 104383 | P11: 215945 | Q11: 110716 | R11: 105229 | S11: EUROSTATDS1T1data
A12: DE | B12: 14 | C12: Section 2.3.1, Contextual Overview | E12: 14-17 | G12: 3509997 | H12: 1799990 | I12: 1710007 | J12: 3333801 | K12: 1709884 | L12: 1623917 | M12: 3238514 | N12: 1661368 | O12: 1577146 | P12: 3204259 | Q12: 1645299 | R12: 1558960 | S12: EUROSTATDS1T1data
A13: EE | B13: 14 | C13: Section 2.3.1, Contextual Overview | E13: 14-17 | G13: 68248 | H13: 35058 | I13: 33190 | J13: 61617 | K13: 31543 | L13: 30074 | M13: 56983 | N13: 29173 | O13: 27810 | P13: 52934 | Q13: 27103 | R13: 25831 | S13: EUROSTATDS1T1data
A14: IE | B14: 12 | C14: Section 2.3.1, Contextual Overview | E14: 10-17 | G14: 452690 | H14: 232137 | I14: 220553 | J14: 456541 | K14: 234091 | L14: 222450 | M14: 459383 | N14: 235544 | O14: 223839 | P14: 468781 | Q14: 240569 | R14: 228212 | S14: EUROSTATDS1T1data
A15: EL | B15: 15 | C15: Section 2.3.1, Contextual Overview | E15: 15-17 | G15: 347800 | H15: 179623 | I15: 168177 | J15: 339985 | K15: 174852 | L15: 165133 | M15: 336136 | N15: 173116 | O15: 163020 | P15: 332797 | Q15: 171531 | R15: 161266 | S15: EUROSTATDS1T1data
A16: ES | B16: 14 | C16: Section 2.3.1, Contextual Overview | E16: 14-17 | G16: 1765046 | H16: 907868 | I16: 857178 | J16: 1754732 | K16: 902213 | L16: 852519 | M16: 1734993 | N16: 891538 | O16: 843455 | P16: 1717790 | Q16: 882207 | R16: 835583 | S16: EUROSTATDS1T1data
A17: FR | B17: 18 | C17: Section 2.3.1, Contextual Overview | E17: 13-17 | G17: 3975196 | H17: 2033685 | I17: 1941511 | J17: 3948112 | K17: 2018784 | L17: 1929328 | M17: 3941583 | N17: 2017129 | O17: 1924454 | P17: 3938236 | Q17: 2015777 | R17: 1922459 | S17: EUROSTATDS1T1data
A18: HR | B18: 14 | C18: Section 2.3.1, Contextual Overview | E18: 14-17 | G18: 205906 | H18: 105426 | I18: 100480 | J18: 203195 | K18: 104003 | L18: 99192 | M18: 200584 | N18: 102558 | O18: 98026 | P18: 203673 | Q18: 104132 | R18: 99541 | S18: EUROSTATDS1T1data
A19: IT | B19: 14 | C19: Section 2.3.1, Contextual Overview | E19: 14-17 | G19: 2353535 | H19: 1209473 | I19: 1144062 | J19: 2332765 | K19: 1199378 | L19: 1133387 | M19: 2308870 | N19: 1188149 | O19: 1120721 | P19: 2279534 | Q19: 1173840 | R19: 1105694 | S19: EUROSTATDS1T1data
... A34: SE | B34: 15 | C34: Section 2.3.1, Contextual Overview | E34: 15-17 | G34: 389919 | H34: 200743 | I34: 189176 | J34: 382437 | K34: 196677 | L34: 185760 | M34: 371651 | N34: 190709 | O34: 180942 | P34: 354135 | Q34: 181847 | R34: 172288 | S34: EUROSTATDS1T1data
A35: UK E&W | B35: 10 | C35: Section 2.3.1, Contextual Overview | E35: 10-17 | G35: 5329600 | H35: 2733500 | I35: 2596100 | J35: 5249600 | K35: 2691000 | L35: 2558600 | M35: 5165900 | N35: 2648300 | O35: 2517600 | S35: EUROSTATDS1T1data
A36: UK NI | B36: 10 | C36: Section 2.3.1, Contextual Overview | E36: 10-17 | G36: 199800 | H36: 102500 | I36: 97300 | J36: 198200 | K36: 101600 | L36: 96600 | M36: 194900 | N36: 99800 | O36: 95100 | S36: EUROSTATDS1T1data
A37: UK Scot | B37: 8 | C37: Section 2.3.1, Contextual Overview | E37: 8-17 | G37: 604200 | H37: 309700 | I37: 294500 | J37: 592900 | K37: 303500 | L37: 289400 | M37: 580000 | N37: 296900 | O37: 283100 | S37: EUROSTATDS1T1data

Sheet CRIM003
A1: Theme 2_Child offenders
A2: CRIM 003 Upper age limit for juvenile justice
A3: Unit: age
B5: Lower age limit for Juvenile Justice | C5: Usual upper age limit for juvenile justice | D5: Upper age limit applicable in limited circumstances (if higher than usual upper age) | E5: Source | G5: Note The age stated in column B is the lower age limit for a child dealt with in the juvenile justice system. This means that the law, procedure and /or sentencing provisions applied to them will be those which are applicable in the juvenile justice system which exists in the member state. In Column D, where in limited circumstances children older than the usual upper limit for juvenile justice may be deal with in the juvenile system, the extended upper age is stated. Examples of circumstances in which the upper age limit is extended are: where the offence was committed when the offender was below the usual upper age but tried when he/she was older; and where the offender's level of maturity or discernment is equivalent to that of a person below the usual upper limit. In some member states not all the elements of the juvenile justice system are applicable in this extended age range. For example, it may be that only Juvenile sentences are applied but the offender is otherwise treated as an adult. Where the evidence describes the circumstances in which the higher age limit is applicable, this is noted in a comment box.
A6: BE | B6: 10 | C6: 17 | D6: 23 | E6: Information provided by MS
A7: BG | B7: 14 | C7: 17 | D7: No* | E7: Information provided by MS
A8: CZ | B8: 15 | C8: 18 | D8: Over 18 | E8: Section 2.3.1, Contextual Overview
A9: DK | B9: 15 | C9: 17 | D9: No* | E9: Section 2.3.1, Contextual Overview
A10: DE | B10: 14 | C10: 18 | D10: 21 | E10: Section 2.3.1, Contextual Overview
A11: EE | B11: 14 | C11: 18 | D11: No* | E11: Section 2.3.1, Contextual Overview
A12: IE | B12: 12 | C12: 18 | D12: No* | E12: Information provided by MS
A13: EL | B13: 8 | C13: 17 | D13: 25 | E13: Section 2.3.1, Contextual Overview
A14: ES | B14: 14 | C14: 17 | D14: No* | E14: Information provided by MS
A15: FR | B15: 13 | C15: 17 | D15: No* | E15: Section 2.3.1, Contextual Overview
A16: HR | B16: 14 | C16: 17 | D16: No* | E16: Section 2.3.1, Contextual Overview
A17: IT | B17: 14 | C17: 17 | D17: 25 | E17: Information provided by MS
A18: CY | B18: - | C18: - | D18: - | E18: Section 2.3.1, Contextual Overview
A19: LV | B19: 14 | C19: 17 | D19: No* | E19: Section 2.3.1, Contextual Overview
A20: LT | B20: 14 | C20: 18 | D20: No* | E20: Section 2.3.1, Contextual Overview
A21: LU | B21: - | C21: 17 | D21: 25 | E21: Section 2.3.1, Contextual Overview
A22: HU | B22: 14 | C22: 17 | D22: No* | E22: Section 2.3.1, Contextual Overview
A23: MT | B23: 9 | C23: 15 | D23: No* | E23: Section 2.3.1, Contextual Overview
A24: NL | B24: 12 | C24: 17 | D24: 20 | E24: Section 2.3.1, Contextual Overview
A25: AT | B25: 14 | C25: 18 | D25: 21 | E25: Section 2.3.1, Contextual Overview
A26: PL | B26: 13 | C26: 17 | D26: No* | E26: Section 2.3.1, Contextual Overview
A27: PT | B27: 16 | C27: 17 | D27: 21 | E27: Section 2.3.1, Contextual Overview
A28: RO | B28: 14 | C28: 18 | D28: No* | E28: Section 2.3.1, Contextual Overview
A29: SI | B29: 14 | C29: 17 | D29: 20 | E29: Information provided by MS
A30: SK | B30: 14 | C30: 17 | D30: No* | E30: Section 2.3.1, Contextual Overview
A31: FI | B31: 15 | C31: 18 | D31: No* | E31: Information provided by MS
A32: SE | B32: 15 | C32: 20 | D32: No* | E32: Section 2.3.1, Contextual Overview
A33: UK E&W | B33: 10 | C33: 17 | D33: 21 | E33: Section 2.3.1, Contextual Overview
A34: UK NI | B34: 10 | C34: 18 | D34: No* | E34: Section 2.3.1, Contextual Overview
A35: UK Scot | B35: 8 | C35: No* | D35: No* | E35: Section 2.3.1, Contextual Overview
A37: Information provided by the Member States
A38: BE - Juvenile protection measures end when the child reaches the age of 18 years. Protection Act)
A39: ES - Article 1 of LORPM (Organic Law Regulating the Penal Responsibility of the Minor)
A40: FI - Law 663/2010 on juvenile offenders
A41: IT - The jurisdiction of the Juvenile Courts covers the offences committed by children under 18.
A42: PT - Article 9 of the Criminal Code
A43: RO - This age limit can be deduced from the “child field” legislation (i.e. law no 272/2004 on protection and promoting children’s rights)
A44: SI - Art. 92 of the 1994 Criminal Code

Sheet CRIM004
A1: Theme 2_Child offenders
A2: CRIM004 Legal provision for a doli incapax mechanism for prosecutions of children around the age of MACR
B4: Age range for which doli incapax mechanism exists in respect of children who are over MACR | C4: Source
A5: BE | B5: - | C5: Section 2.3.1, Contextual Overview
A6: BG | B6: 14 - 17 | C6: Section 2.3.1, Contextual Overview | E6: Note Doli Incapax is where the judge may determine that a child above MACR but under 18 years is not criminally responsible based on an assessment of maturity or discernment and of his/her ability to tell right from wrong. This indicator is not applicable where MACR is 18.
A7: CZ | B7: 15 - 17 | C7: Section 2.3.1, Contextual Overview
A8: DK
A9: DE | B9: 14 - 17 | C9: Section 2.3.1, Contextual Overview
A10: EE
A11: IE | B11: - | C11: Information provided by MS
A12: EL | B12: 15 - 17 | C12: Section 2.3.1, Contextual Overview
A13: ES
A14: FR | B14: - | C14: Section 2.3.1, Contextual Overview
A15: HR
A16: IT | B16: 14 - 17 | C16: Section 2.3.1, Contextual Overview
A17: CY
A18: LV
A19: LT
A20: LU | B20: - | C20: Section 2.3.1, Contextual Overview
A21: HU
A22: MT
A23: NL
A24: AT | B24: 14 - 17 | C24: Section 2.3.1, Contextual Overview
A25: PL
A26: PT | B26: 12 - 16 | C26: Information provided by MS
A27: RO | B27: 14 - 15 | C27: Section 2.3.1, Contextual Overview
A28: SI
A29: SK | B29: 14 - 15 | C29: Section 2.3.1, Contextual Overview
A30: FI
A31: SE | B31: - | C31: Information provided by MS
A32: UK E&W
A33: UK NI
A34: UK Scot
A36: Information provided by the Member States
A37: IE - MACR is 12 but children aged 10-11 can also be criminally liable for serious crimes (murder, manslaughter, rape or aggravated sexual assault)
A38: PT - From the age of 12 up to 16 the Law on Educational Guardianship applies.
A39: SE - Children under 15 are not criminally liable and are not subject to sanctions (Chapter 1 Section 6 Criminal Code).

Sheet CRIM005
A1: Theme 2_Child offenders
A2: CRIM005 Existence of a national plan for the prevention of child involvement in crime
B5: Existence of a national plan for the prevention of child involvement in crime | C5: Date of entry into force | D5: Source
A6: BE
A7: BG | B7: Yes | D7: Information provided by MS
A8: CZ
A9: DK
A10: DE
A11: EE | B11: Yes | C11: 2010- | D11: Section 2.3.1, Contextual Overview
A12: IE | B12: In part | D12: Information provided by MS
A13: EL
A14: ES
A15: FR
A16: HR | B16: Yes | C16: 2009- | D16: Information provided by MS
A17: IT
A18: CY
A19: LV
A20: LT
A21: LU
A22: HU
A23: MT
A24: NL
A25: AT
A26: PL
A27: PT
A28: RO | B28: Yes | C28: 2008- | D28: Section 2.3.1, Contextual Overview
A29: SI
A30: SK
A31: FI
A32: SE | B32: Yes | C32: 2011- | D32: Information provided by MS
A33: UK E&W
A34: UK NI
A35: UK Scot
A37: Information provided by the Member States
A39: IE - National Youth Justice Strategy (2008-2010) and its successor the Youth Justice Action Plan (2013-2017).
A40: RO - National Strategy in the field of protection and promotion of child’s rights 2008-2013.
A41: HR - 2009-2012 National Strategy on prevention of disturbing behaviour of children and juveniles
A42: SE - The National Police Board commissioned an experimental work to prevent young people (15-25 year olds) from developing criminal lifestyle.

Sheet CRIM006
A1: Theme 2_Child offenders
A2: CRIM006 Existence of provisions in law for so-called status offences for juveniles (truancy, family misbehaviour, runaways, etc.)
B5: Legislation for status offences for juveniles | C5: Source
A6: BE | E6: Note A status offence for a juvenile is an act that would not, under the law of the jurisdiction in which the offence was committed, be a crime if committed by an adult. Examples of such offences are: truancy, family misbehaviour, and running away.
A7: BG | B7: Yes | C7: Information provided by MS
A8: CZ
A9: DK
A10: DE
A11: EE
A12: IE
A13: EL
A14: ES | B14: No | C14: Information provided by MS
A15: FR
A16: HR
A17: IT
A18: CY
A19: LV
A20: LT
A21: LU
A22: HU
A23: MT
A24: NL
A25: AT
A26: PL
A27: PT | B27: Yes | C27: Information provided by MS
A28: RO | B28: No | C28: Information provided by MS
A29: SI
A30: SK
A31: FI
A32: SE | B32: No | C32: Information provided by MS
A33: UK E&W
A34: UK NI
A35: UK Scot
A37: Information provided by the Member States
A38: BG - Article 49a of the Combating Anti-social Behaviour of Minors and Adolescents Act
A39: ES - There are no status offences for juveniles
A40: PT - Juvenile courts can apply measures for children between 12 and 16 years who demonstrate serious difficulties in adapting to a normal social life.
A41: RO - There are no status offences for juveniles

Sheet CRIM007
A1: .
A2: CRIM007 Child offenders tried in adult criminal court
B5: Notes | C5: Number of child offenders tried in adult criminal court during a 12-month period by sex | O5: Age* | Q5: Number of child offenders tried in adult criminal court | R5: Number of child offenders tried in adult criminal court
C6: 2008 | F6: 2009 | I6: 2010 | L6: 2011 | Q6: Countries where further disaggregation is available | R6: Countries where further approximate data are available | U6: Source
C7: Total | D7: Male | E7: Female | F7: Total | G7: Male | H7: Female | I7: Total | J7: Male | K7: Female | L7: Total | M7: Male | N7: Female
A8: BE | C8: 105 | F8: 83 | I8: 69 | L8: 96 | U8: BEDS34T2
A9: BG
A10: CZ
A11: DK
A12: DE
A13: EE | C13: 569 | F13: 536 | I13: 352 | L13: 257 | M13: 204 | N13: 53 | O13: 14-17 | R13: EEDS11T2 | U13: EEDS1T2,12
A14: IE
A15: EL
A16: ES
A17: FR
A18: HR
A19: IT | C19: 0 | D19: 0 | E19: 0 | F19: 0 | G19: 0 | H19: 0 | I19: 0 | J19: 0 | K19: 0 | L19: 0 | M19: 0 | N19: 0 | Q19: ITDS12T2
A20: CY
A21: LV
A22: LT
A23: LU
A24: HU
A25: MT
A26: NL
A27: AT
A28: PL
A29: PT
A30: RO
A31: SI
A32: SK | R32: SKDS7T2 | S32: SKDS8T2
A33: FI | U33: FIDS17T2
A34: SE
A35: UK E&W
A36: UK NI
A37: UK Scot
A39: Note: *The age of children varies between Member States - hence column 0 shows the ages in different Member States for nominators

Sheet CRIM008
A1: .
A2: CRIM008 Child offenders tried in juvenile courts
B5: Notes | C5: Number of child offenders tried in juvenile courts during a 12-month period | O5: Ages* | Q5: Number of child offenders tried in juvenile courts | T5: Number of child offenders tried in juvenile courts | AA5: Source
C6: 2008 | F6: 2009 | I6: 2010 | L6: 2011 | Q6: Countries where further disaggregation is available | T6: Countries where approximate data are available
C7: Total | D7: Male | E7: Female | F7: Total | G7: Male | H7: Female | I7: Total | J7: Male | K7: Female | L7: Total | M7: Male | N7: Female
A8: BE
A9: BG | C9: - | D9: - | E9: - | F9: - | G9: - | H9: - | I9: - | J9: - | K9: - | L9: - | M9: - | N9: -
A10: CZ
A11: DK
A12: DE | C12: 226985 | F12: 215032 | I12: 200656 | L12: 190049 | U12: DEDS2T2 | V12: DEDS3T2 | W12: DEDS54T2 | AA12: DEDS1T2
A13: EE | C13: - | D13: - | E13: - | F13: - | G13: - | H13: - | I13: - | J13: - | K13: - | L13: - | M13: - | N13: -
A14: IE | T14: IEDS14T2
A15: EL | L15: 14988 | M15: 12281 | N15: 966 | O15: 13-18 | Q15: ELDS5T2 | R15: ELDS6T2 | S15: ELDS7T2 | AA15: ELDS5T2
A16: ES | T16: ESDS9T2 | U16: ESDS14T2 | V16: ESDS15T2
A17: FR | T17: FRDS1T2 | U17: FRDS8T2 | V17: FRDS9T2 | W17: FRDS49T2 | X17: FRDS50T2 | Y17: FRDS51T2
A18: HR | C18: 1296 | D18: 1226 | E18: 70 | F18: 1238 | G18: 1172 | H18: 66 | I18: 1269 | J18: 1211 | K18: 58 | L18: 1084 | M18: 1029 | N18: 55 | AA18: HRDS13T2
A19: IT | C19: 36512 | D19: 30364.868 | E19: 6147.1321 | F19: 39118 | G19: 32810.078 | H19: 6307.9224 | I19: 41316 | J19: 34280.904 | K19: 7035.0964 | L19: - | M19: - | N19: - | Q19: ITDS13T2
A20: CY | C20: - | D20: - | E20: - | F20: - | G20: - | H20: - | I20: - | J20: - | K20: - | L20: - | M20: - | N20: -
A21: LV | C21: - | D21: - | E21: - | F21: - | G21: - | H21: - | I21: - | J21: - | K21: - | L21: - | M21: - | N21: -
A22: LT | C22: - | D22: - | E22: - | F22: - | G22: - | H22: - | I22: - | J22: - | K22: - | L22: - | M22: - | N22: -
A23: LU
A24: HU | C24: =SUM(D24:E24) -> 6532 | D24: 5763 | E24: 769 | F24: =SUM(G24:H24) -> 6481 | G24: 5663 | H24: 818 | I24: =SUM(J24:K24) -> 6743 | J24: 5887 | K24: 856 | L24: =SUM(M24:N24) -> 5970 | M24: 5248 | N24: 722 | Q24: HUDS13T2 | AA24: HUDS13T2
A25: MT
A26: NL | T26: NLDS29T2
A27: AT | F27: 6008 | I27: 5422 | L27: 4818 | Q27: ATDS43T2 | AA27: ATDS43T2
A28: PL | T28: PLDS8T2
A29: PT
A30: RO
A31: SI | C31: 814 | F31: 629 | I31: 613 | L31: 543 | Q31: SIDS16T2
A32: SK | C32: - | D32: - | E32: - | F32: - | G32: - | H32: - | I32: - | J32: - | K32: - | L32: - | M32: - | N32: -
A33: FI | C33: - | D33: - | E33: - | F33: - | G33: - | H33: - | I33: - | J33: - | K33: - | L33: - | M33: - | N33: -
A34: SE | C34: - | D34: - | E34: - | F34: - | G34: - | H34: - | I34: - | J34: - | K34: - | L34: - | M34: - | N34: -
A35: UK E&W | T35: UKEWDS24T2 | U35: UKEWDS25T2
A36: UK NI | T36: UKNIDS8T2
A37: UK Scot
A39: Note: *The age of children tried juvenile courts varies between Member States - hence column 0 shows the ages in different Member States for nominators

Sheet CRIM009
A1: .
A2: CRIM009 Children arrested
B5: Total number of children arrested by sex during a 12 month period | O5: Source | R5: Total number of children arrested | V5: Total number of children arrested | AB5: Number of children arrested per 100,000 child population (aged above MACR and below 18) by sex during a 12 month period | AO5: Percentage of children arrested out of total number of arrests by sex during a 12 month period | BA5: Percentage of children arrested | BC5: Number of children above the minimum age of criminal responsibility and below the age of 18
B6: 2008 | E6: 2009 | H6: 2010 | K6: 2011 | N6: Age* | R6: Countries where further disaggregation by age is available | V6: Countries where approximate data are available | AB6: 2008 | AE6: 2009 | AH6: 2010 | AK6: 2011 | AO6: 2008 | AR6: 2009 | AU6: 2010 | AX6: 2011 | BA6: Countries where approximate data are available | BC6: 2008 | BF6: 2009 | BI6: 2010 | BL6: 2011 | BO6: Source
B7: Total | C7: Male | D7: Female | E7: Total | F7: Male | G7: Female | H7: Total | I7: Male | J7: Female | K7: Total | L7: Male | M7: Female | AB7: Total | AC7: Male | AD7: Female | AE7: Total | AF7: Male | AG7: Female | AH7: Total | AI7: Male | AJ7: Female | AK7: Total | AL7: Male | AM7: Female | AO7: Total | AP7: Male | AQ7: Female | AR7: Total | AS7: Male | AT7: Female | AU7: Total | AV7: Male | AW7: Female | AX7: Total | AY7: Male | AZ7: Female | BC7: Total | BD7: Male | BE7: Female | BF7: Total | BG7: Male | BH7: Female | BI7: Total | BJ7: Male | BK7: Female | BL7: Total | BM7: Male | BN7: Female
A8: BE | BC8: =CRIM002!G8 -> 263617 | BD8: =CRIM002!H8 -> 134778 | BE8: =CRIM002!I8 -> 128839 | BF8: =CRIM002!J8 -> 264296 | BG8: =CRIM002!K8 -> 135041 | BH8: =CRIM002!L8 -> 129255 | BI8: =CRIM002!M8 -> 259281 | BJ8: =CRIM002!N8 -> 132204 | ... BN8: =CRIM002!R8 -> 123714 | BO8: EUROSTATDS1T1data
A9: BG | B9: 239 | E9: 199 | H9: 259 | K9: 294 | N9: 14-17 | O9: BGDS11T2 | R9: BGDS11T2 | V9: TransOtherDS1T2 | W9: BGDS15T2 | AB9: =(B9/BC9)*100000 -> 69.319968 | AE9: =(E9/BF9)*100000 -> 61.859067 | AH9: =(H9/BI9)*100000 -> 86.550865 | AK9: =(K9/BL9)*100000 -> 105.77746 | BC9: =CRIM002!G9 -> 344778 | BD9: =CRIM002!H9 -> 177223 | BE9: =CRIM002!I9 -> 167555 | BF9: =CRIM002!J9 -> 321699 | BG9: =CRIM002!K9 -> 165177 | BH9: =CRIM002!L9 -> 156522 | BI9: =CRIM002!M9 -> 299246 | BJ9: =CRIM002!N9 -> 153295 | ... BN9: =CRIM002!R9 -> 135053 | BO9: EUROSTATDS1T1data
A10: CZ | BC10: =CRIM002!G10 -> 382195 | BD10: =CRIM002!H10 -> 196205 | BE10: =CRIM002!I10 -> 185990 | BF10: =CRIM002!J10 -> 373973 | BG10: =CRIM002!K10 -> 192023 | BH10: =CRIM002!L10 -> 181950 | BI10: =CRIM002!M10 -> 352641 | BJ10: =CRIM002!N10 -> 180891 | ... BN10: =CRIM002!R10 -> 158604 | BO10: EUROSTATDS1T1data
A11: DK | V11: DKDS23T2 | BC11: =CRIM002!G11 -> 205567 | BD11: =CRIM002!H11 -> 105557 | BE11: =CRIM002!I11 -> 100010 | BF11: =CRIM002!J11 -> 209119 | BG11: =CRIM002!K11 -> 107283 | BH11: =CRIM002!L11 -> 101836 | BI11: =CRIM002!M11 -> 214192 | BJ11: =CRIM002!N11 -> 109809 | ... BN11: =CRIM002!R11 -> 105229 | BO11: EUROSTATDS1T1data
A12: DE | BC12: =CRIM002!G12 -> 3509997 | BD12: =CRIM002!H12 -> 1799990 | BE12: =CRIM002!I12 -> 1710007 | BF12: =CRIM002!J12 -> 3333801 | BG12: =CRIM002!K12 -> 1709884 | BH12: =CRIM002!L12 -> 1623917 | BI12: =CRIM002!M12 -> 3238514 | BJ12: =CRIM002!N12 -> 1661368 | ... BN12: =CRIM002!R12 -> 1558960 | BO12: EUROSTATDS1T1data
A13: EE | BC13: =CRIM002!G13 -> 68248 | BD13: =CRIM002!H13 -> 35058 | BE13: =CRIM002!I13 -> 33190 | BF13: =CRIM002!J13 -> 61617 | BG13: =CRIM002!K13 -> 31543 | BH13: =CRIM002!L13 -> 30074 | BI13: =CRIM002!M13 -> 56983 | BJ13: =CRIM002!N13 -> 29173 | ... BN13: =CRIM002!R13 -> 25831 | BO13: EUROSTATDS1T1data
A14: IE | BC14: =CRIM002!G14 -> 452690 | BD14: =CRIM002!H14 -> 232137 | BE14: =CRIM002!I14 -> 220553 | BF14: =CRIM002!J14 -> 456541 | BG14: =CRIM002!K14 -> 234091 | BH14: =CRIM002!L14 -> 222450 | BI14: =CRIM002!M14 -> 459383 | BJ14: =CRIM002!N14 -> 235544 | ... BN14: =CRIM002!R14 -> 228212 | BO14: EUROSTATDS1T1data
A15: EL | BC15: =CRIM002!G15 -> 347800 | BD15: =CRIM002!H15 -> 179623 | BE15: =CRIM002!I15 -> 168177 | BF15: =CRIM002!J15 -> 339985 | BG15: =CRIM002!K15 -> 174852 | BH15: =CRIM002!L15 -> 165133 | BI15: =CRIM002!M15 -> 336136 | BJ15: =CRIM002!N15 -> 173116 | ... BN15: =CRIM002!R15 -> 161266 | BO15: EUROSTATDS1T1data
A16: ES | BC16: =CRIM002!G16 -> 1765046 | BD16: =CRIM002!H16 -> 907868 | BE16: =CRIM002!I16 -> 857178 | BF16: =CRIM002!J16 -> 1754732 | BG16: =CRIM002!K16 -> 902213 | BH16: =CRIM002!L16 -> 852519 | BI16: =CRIM002!M16 -> 1734993 | BJ16: =CRIM002!N16 -> 891538 | ... BN16: =CRIM002!R16 -> 835583 | BO16: EUROSTATDS1T1data
A17: FR | BC17: =CRIM002!G17 -> 3975196 | BD17: =CRIM002!H17 -> 2033685 | BE17: =CRIM002!I17 -> 1941511 | BF17: =CRIM002!J17 -> 3948112 | BG17: =CRIM002!K17 -> 2018784 | BH17: =CRIM002!L17 -> 1929328 | BI17: =CRIM002!M17 -> 3941583 | BJ17: =CRIM002!N17 -> 2017129 | ... BN17: =CRIM002!R17 -> 1922459 | BO17: EUROSTATDS1T1data
A18: HR | H18: 1225 | I18: 1139 | J18: 86 | K18: 1174 | L18: 1086 | M18: 88 | N18: 14-17 | O18: HRDS14T2 | BC18: =CRIM002!G18 -> 205906 | BD18: =CRIM002!H18 -> 105426 | BE18: =CRIM002!I18 -> 100480 | BF18: =CRIM002!J18 -> 203195 | BG18: =CRIM002!K18 -> 104003 | BH18: =CRIM002!L18 -> 99192 | BI18: =CRIM002!M18 -> 200584 | BJ18: =CRIM002!N18 -> 102558 | ... BN18: =CRIM002!R18 -> 99541 | BO18: EUROSTATDS1T1data
A19: IT | B19: 6140 | E19: 5840 | H19: 4862 | K19: 5179 | O19: ITDS14T2 | V19: ITDS2T2 | BC19: =CRIM002!G19 -> 2353535 | BD19: =CRIM002!H19 -> 1209473 | BE19: =CRIM002!I19 -> 1144062 | BF19: =CRIM002!J19 -> 2332765 | BG19: =CRIM002!K19 -> 1199378 | BH19: =CRIM002!L19 -> 1133387 | BI19: =CRIM002!M19 -> 2308870 | BJ19: =CRIM002!N19 -> 1188149 | ... BN19: =CRIM002!R19 -> 1105694 | BO19: EUROSTATDS1T1data
A20: CY | BC20: =CRIM002!G20 -> 44893 | BD20: =CRIM002!H20 -> 22881 | BE20: =CRIM002!I20 -> 22012 | BF20: =CRIM002!J20 -> 45049 | BG20: =CRIM002!K20 -> 22960 | BH20: =CRIM002!L20 -> 22089 | BI20: =CRIM002!M20 -> 48711 | BJ20: =CRIM002!N20 -> 24958 | ... BN20: =CRIM002!R20 -> 23129 | BO20: EUROSTATDS1T1data
A21: LV | BC21: =CRIM002!G21 -> 121193 | BD21: =CRIM002!H21 -> 61513 | BE21: =CRIM002!I21 -> 59680 | BF21: =CRIM002!J21 -> 110057 | BG21: =CRIM002!K21 -> 56023 | BH21: =CRIM002!L21 -> 54034 | BI21: =CRIM002!M21 -> 98844 | BJ21: =CRIM002!N21 -> 50470 | ... BN21: =CRIM002!R21 -> 40917 | BO21: EUROSTATDS1T1data
A22: LT | BC22: =CRIM002!G22 -> 202336 | BD22: =CRIM002!H22 -> 103305 | BE22: =CRIM002!I22 -> 99031 | BF22: =CRIM002!J22 -> 189078 | BG22: =CRIM002!K22 -> 96670 | BH22: =CRIM002!L22 -> 92408 | BI22: =CRIM002!M22 -> 175857 | BJ22: =CRIM002!N22 -> 89901 | ... BN22: =CRIM002!R22 -> 76514 | BO22: EUROSTATDS1T1data
A23: LU | BC23: =CRIM002!G23 -> 11514 | BD23: =CRIM002!H23 -> 5972 | BE23: =CRIM002!I23 -> 5542 | BF23: =CRIM002!J23 -> 11623 | BG23: =CRIM002!K23 -> 5965 | BH23: =CRIM002!L23 -> 5658 | BI23: =CRIM002!M23 -> 11989 | BJ23: =CRIM002!N23 -> 6141 | ... BN23: =CRIM002!R23 -> 6061 | BO23: EUROSTATDS1T1data
A24: HU | B24: 638 | C24: 586 | D24: 52 | E24: 621 | F24: 575 | G24: 46 | H24: 537 | I24: 500 | J24: 37 | N24: 14-17 | O24: TransOtherDS1T2 | V24: HUDS13T2 | AB24: =(B24/BC24)*100000 -> 130.87475 | AC24: =(C24/BD24)*100000 -> 235.262 | AD24: =(D24/BE24)*100000 -> 21.811623 | AE24: =(E24/BF24)*100000 -> 130.75198 | AF24: =(F24/BG24)*100000 -> 236.6859 | AG24: =(G24/BH24)*100000 -> 19.826988 | AH24: =(H24/BI24)*100000 -> 116.52179 | AI24: =(I24/BJ24)*100000 -> 211.99825 | AJ24: =(J24/BK24)*100000 -> 16.443933 | BC24: =CRIM002!G24 -> 487489 | BD24: =CRIM002!H24 -> 249084 | BE24: =CRIM002!I24 -> 238405 | BF24: =CRIM002!J24 -> 474945 | BG24: =CRIM002!K24 -> 242938 | BH24: =CRIM002!L24 -> 232007 | BI24: =CRIM002!M24 -> 460858 | BJ24: =CRIM002!N24 -> 235851 | ... BN24: =CRIM002!R24 -> 217340 | BO24: EUROSTATDS1T1data
A25: MT | BC25: =CRIM002!G25 -> 22293 | BD25: =CRIM002!H25 -> 11408 | BE25: =CRIM002!I25 -> 10885 | BF25: =CRIM002!J25 -> 21754 | BG25: =CRIM002!K25 -> 11112 | BH25: =CRIM002!L25 -> 10642 | BI25: =CRIM002!M25 -> 21148 | BJ25: =CRIM002!N25 -> 10863 | ... BN25: =CRIM002!R25 -> 9926 | BO25: EUROSTATDS1T1data
A26: NL | B26: 29340 | C26: 23520 | D26: 5820 | E26: 25160 | F26: 20100 | G26: 5060 | H26: 22570 | I26: 18030 | J26: 4540 | O26: NLD38T2 | R26: NLD38T2 | S26: NLD37T2 | T26: NLD39T2 | U26: NLD40T2 | BC26: =CRIM002!G26 -> 1201945 | BD26: =CRIM002!H26 -> 614939 | BE26: =CRIM002!I26 -> 587006 | BF26: =CRIM002!J26 -> 1191453 | BG26: =CRIM002!K26 -> 609943 | BH26: =CRIM002!L26 -> 581510 | BI26: =CRIM002!M26 -> 1184064 | BJ26: =CRIM002!N26 -> 606063 | ... BN26: =CRIM002!R26 -> 578531 | BO26: EUROSTATDS1T1data
A27: AT | BC27: =CRIM002!G27 -> 399480 | BD27: =CRIM002!H27 -> 205046 | BE27: =CRIM002!I27 -> 194434 | BF27: =CRIM002!J27 -> 397523 | BG27: =CRIM002!K27 -> 204086 | BH27: =CRIM002!L27 -> 193437 | BI27: =CRIM002!M27 -> 390159 | BJ27: =CRIM002!N27 -> 200345 | ... BN27: =CRIM002!R27 -> 187256 | BO27: EUROSTATDS1T1data
A28: PL | B28: 6766 | C28: 6035 | D28: 731 | N28: 13-16 | O28: TransOtherDS1T2 | V28: PLDS11T2 | W28: PLDS24T2 | AB28: =(B28/BC28)*100000 -> 426.32504 | AC28: =(C28/BD28)*100000 -> 743.36117 | AD28: =(D28/BE28)*100000 -> 94.298367 | BC28: =CRIM002!G28 -> 1587052 | BD28: =CRIM002!H28 -> 811853 | BE28: =CRIM002!I28 -> 775199 | BF28: =CRIM002!J28 -> 1520229 | BG28: =CRIM002!K28 -> 777446 | BH28: =CRIM002!L28 -> 742783 | BI28: =CRIM002!M28 -> 1448494 | BJ28: =CRIM002!N28 -> 739549 | ... BN28: =CRIM002!R28 -> 678946 | BO28: EUROSTATDS1T1data
A29: PT | BC29: =CRIM002!G29 -> 233428 | BD29: =CRIM002!H29 -> 119134 | BE29: =CRIM002!I29 -> 114294 | BF29: =CRIM002!J29 -> 229340 | BG29: =CRIM002!K29 -> 116745 | BH29: =CRIM002!L29 -> 112595 | BI29: =CRIM002!M29 -> 223995 | BJ29: =CRIM002!N29 -> 114014 | ... BN29: =CRIM002!R29 -> 109691 | BO29: EUROSTATDS1T1data
A30: RO | B30: 683 | C30: 649 | D30: 34 | E30: 746 | F30: 721 | G30: 25 | H30: 459 | I30: 435 | J30: 24 | N30: 14-17 | O30: TransOtherDS1T2 | AB30: =(B30/BC30)*100000 -> 66.053775 | AC30: =(C30/BD30)*100000 -> 122.77181 | AD30: =(D30/BE30)*100000 -> 6.727571 | AE30: =(E30/BF30)*100000 -> 76.77322 | AF30: =(F30/BG30)*100000 -> 144.89958 | AG30: =(G30/BH30)*100000 -> 5.2730713 | AH30: =(H30/BI30)*100000 -> 48.967783 | AI30: =(I30/BJ30)*100000 -> 90.703232 | AJ30: =(J30/BK30)*100000 -> 5.2428648 | BC30: =CRIM002!G30 -> 1034006 | BD30: =CRIM002!H30 -> 528623 | BE30: =CRIM002!I30 -> 505383 | BF30: =CRIM002!J30 -> 971693 | BG30: =CRIM002!K30 -> 497586 | BH30: =CRIM002!L30 -> 474107 | BI30: =CRIM002!M30 -> 937351 | BJ30: =CRIM002!N30 -> 479586 | ... BN30: =CRIM002!R30 -> 441348 | BO30: EUROSTATDS1T1data
A31: SI | B31: 134 | C31: 128 | D31: 6 | E31: 120 | F31: 118 | G31: 2 | H31: 133 | I31: 124 | J31: 9 | N31: 14-17 | O31: TransOtherDS1T2 | P31: SIDS17T2 | AB31: =(B31/BC31)*100000 -> 157.84018 | AC31: =(C31/BD31)*100000 -> 293.18796 | AD31: =(D31/BE31)*100000 -> 14.549687 | AE31: =(E31/BF31)*100000 -> 145.36821 | AF31: =(F31/BG31)*100000 -> 278.09201 | AG31: =(G31/BH31)*100000 -> 4.9854177 | AH31: =(H31/BI31)*100000 -> 165.7982 | AI31: =(I31/BJ31)*100000 -> 301.02202 | AJ31: =(J31/BK31)*100000 -> 23.06214 | BC31: =CRIM002!G31 -> 84896 | BD31: =CRIM002!H31 -> 43658 | BE31: =CRIM002!I31 -> 41238 | BF31: =CRIM002!J31 -> 82549 | BG31: =CRIM002!K31 -> 42432 | BH31: =CRIM002!L31 -> 40117 | BI31: =CRIM002!M31 -> 80218 | BJ31: =CRIM002!N31 -> 41193 | ... BN31: =CRIM002!R31 -> 38596 | BO31: EUROSTATDS1T1data
A32: SK | B32: 186 | N32: 14-17 | O32: TransOtherDS1T2 | AB32: =(B32/BC32)*100000 -> 61.548032 | BC32: =CRIM002!G32 -> 302203 | BD32: =CRIM002!H32 -> 154668 | BE32: =CRIM002!I32 -> 147535 | BF32: =CRIM002!J32 -> 289241 | BG32: =CRIM002!K32 -> 147673 | BH32: =CRIM002!L32 -> 141568 | BI32: =CRIM002!M32 -> 272991 | BJ32: =CRIM002!N32 -> 139447 | ... BN32: =CRIM002!R32 -> 126043 | BO32: EUROSTATDS1T1data
A33: FI | B33: 363 | C33: 335 | D33: 28 | E33: 382 | F33: 351 | G33: 31 | H33: 361 | I33: 326 | J33: 35 | K33: 339 | L33: 310 | M33: 29 | O33: FIDS16T2 | R33: FIDS4T2 | S33: FIDS16T2 | V33: FIDS1T2 | BC33: =CRIM002!G33 -> 201435 | BD33: =CRIM002!H33 -> 102796 | BE33: =CRIM002!I33 -> 98639 | BF33: =CRIM002!J33 -> 200398 | BG33: =CRIM002!K33 -> 102093 | BH33: =CRIM002!L33 -> 98305 | BI33: =CRIM002!M33 -> 200133 | BJ33: =CRIM002!N33 -> 101912 | ... BN33: =CRIM002!R33 -> 96521 | BO33: EUROSTATDS1T1data
A34: SE | BC34: =CRIM002!G34 -> 389919 | BD34: =CRIM002!H34 -> 200743 | BE34: =CRIM002!I34 -> 189176 | BF34: =CRIM002!J34 -> 382437 | BG34: =CRIM002!K34 -> 196677 | BH34: =CRIM002!L34 -> 185760 | BI34: =CRIM002!M34 -> 371651 | BJ34: =CRIM002!N34 -> 190709 | ... BN34: =CRIM002!R34 -> 172288 | BO34: EUROSTATDS1T1data
A35: UK E&W | B35: =SUM(C35:D35) -> 315401 | C35: 250601 | D35: 64800 | E35: =SUM(F35:G35) -> 273269 | F35: 218141 | G35: 55128 | H35: =SUM(I35:J35) -> 241737 | I35: 193703 | J35: 48034 | K35: =SUM(L35:M35) -> 210660 | L35: 172017 | M35: 38643 | N35: 10-17 | O35: UKEWDS6T2 | R35: UKEWDS6T2 | AB35: =(B35/BC35)*100000 -> 5917.9113 | AC35: =(C35/BD35)*100000 -> 9167.7703 | AD35: =(D35/BE35)*100000 -> 2496.0518 | AE35: =(E35/BF35)*100000 -> 5205.5204 | AF35: =(F35/BG35)*100000 -> 8106.3174 | AG35: =(G35/BH35)*100000 -> 2154.6158 | AH35: =(H35/BI35)*100000 -> 4679.475 | AI35: =(I35/BJ35)*100000 -> 7314.2393 | AJ35: =(J35/BK35)*100000 -> 1907.9282 | BC35: =CRIM002!G35 -> 5329600 | BD35: =CRIM002!H35 -> 2733500 | BE35: =CRIM002!I35 -> 2596100 | BF35: =CRIM002!J35 -> 5249600 | BG35: =CRIM002!K35 -> 2691000 | BH35: =CRIM002!L35 -> 2558600 | BI35: =CRIM002!M35 -> 5165900 | BJ35: =CRIM002!N35 -> 2648300 | BK35: =CRIM002!O35 -> 2517600 | BO35: EUROSTATDS1T1data
A36: UK NI | B36: - | C36: - | D36: - | E36: - | F36: - | G36: - | H36: 2261 | I36: 1808 | J36: 453 | K36: 1839 | L36: 1492 | M36: 347 | N36: 10-17. | O36: UKNIDS7T2 | BC36: =CRIM002!G36 -> 199800 | BD36: =CRIM002!H36 -> 102500 | BE36: =CRIM002!I36 -> 97300 | BF36: =CRIM002!J36 -> 198200 | BG36: =CRIM002!K36 -> 101600 | BH36: =CRIM002!L36 -> 96600 | BI36: =CRIM002!M36 -> 194900 | BJ36: =CRIM002!N36 -> 99800 | BK36: =CRIM002!O36 -> 95100 | BO36: EUROSTATDS1T1data
A37: UK Scot | B37: - | C37: - | D37: - | E37: - | F37: - | G37: - | H37: - | I37: - | J37: - | K37: - | L37: - | M37: - | BC37: =CRIM002!G37 -> 604200 | BD37: =CRIM002!H37 -> 309700 | BE37: =CRIM002!I37 -> 294500 | BF37: =CRIM002!J37 -> 592900 | BG37: =CRIM002!K37 -> 303500 | BH37: =CRIM002!L37 -> 289400 | BI37: =CRIM002!M37 -> 580000 | BJ37: =CRIM002!N37 -> 296900 | BK37: =CRIM002!O37 -> 283100 | BO37: EUROSTATDS1T1data
A39: Note: *The age of children eligible for arrest varies between Member States - hence column N shows the ages in different Member States for nominators

Sheet CRIM010
A1: .
A2: CRIM010 Children brought into formal contact with the police and/or criminal justice system, all crimes
A3: Definition: “Formal Contact” with the police and/or criminal justice system may include persons suspected, or arrested or cautioned.
B5: Total number of children brought into formal contact with the police and/or criminal justice system | G5: Number of children brought into formal contact with the policy per 100,000 child population (aged above MACR and below 18)* | L5: Source | M5: Children brought into formal contact with the police and/or criminal justice system | T5: Number of children above the minimum age of criminal responsibility and below the age of 18
B6: 2008 | C6: 2009 | D6: 2010 | E6: 2011 | G6: 2008 | H6: 2009 | I6: 2010 | J6: 2011 | M6: Countries where approximate data are available | T6: 2008 | U6: 2009 | V6: 2010 | W6: 2011 | X6: Source
A7: BE | T7: =CRIM002!G8 -> 263617 | U7: =CRIM002!J8 -> 264296 | V7: =CRIM002!M8 -> 259281 | W7: =CRIM002!P8 -> 253925 | X7: EUROSTATDS1T1data
A8: BG | B8: 6316 | C8: 4712 | D8: 5080 | G8: =(B8/T8)*100000 -> 1831.9034 | H8: =(C8/U8)*100000 -> 1464.7232 | I8: =(D8/V8)*100000 -> 1697.6 | L8: UNODCDS2T2 | T8: =CRIM002!G9 -> 344778 | U8: =CRIM002!J9 -> 321699 | V8: =CRIM002!M9 -> 299246 | W8: =CRIM002!P9 -> 277942 | X8: EUROSTATDS1T1data
A9: CZ | B9: 8737 | C9: 7433 | G9: =(B9/T9)*100000 -> 2286.0058 | H9: =(C9/U9)*100000 -> 1987.5766 | L9: UNODCDS2T2 | T9: =CRIM002!G10 -> 382195 | U9: =CRIM002!J10 -> 373973 | V9: =CRIM002!M10 -> 352641 | W9: =CRIM002!P10 -> 325591 | X9: EUROSTATDS1T1data
A10: DK | M10: DKDS15T2 | T10: =CRIM002!G11 -> 205567 | U10: =CRIM002!J11 -> 209119 | V10: =CRIM002!M11 -> 214192 | W10: =CRIM002!P11 -> 215945 | X10: EUROSTATDS1T1data
A11: DE | B11: 265771 | C11: 254205 | D11: 231543 | G11: =(B11/T11)*100000 -> 7571.8298 | H11: =(C11/U11)*100000 -> 7625.0802 | I11: =(D11/V11)*100000 -> 7149.668 | L11: UNODCDS2T2 | M11: DEDS35T2 | N11: DEDS36T2 | O11: DEDS39T2 | P11: DEDS40T2 | Q11: DEDS41T2 | R11: DEDS42T2 | T11: =CRIM002!G12 -> 3509997 | U11: =CRIM002!J12 -> 3333801 | V11: =CRIM002!M12 -> 3238514 | W11: =CRIM002!P12 -> 3204259 | X11: EUROSTATDS1T1data
A12: EE | B12: 2227 | C12: 1673 | D12: 1486 | G12: =(B12/T12)*100000 -> 3263.0993 | H12: =(C12/U12)*100000 -> 2715.1598 | I12: =(D12/V12)*100000 -> 2607.7953 | L12: UNODCDS2T2 | M12: EEDS12T2 | T12: =CRIM002!G13 -> 68248 | U12: =CRIM002!J13 -> 61617 | V12: =CRIM002!M13 -> 56983 | W12: =CRIM002!P13 -> 52934 | X12: EUROSTATDS1T1data
A13: IE | T13: =CRIM002!G14 -> 452690 | U13: =CRIM002!J14 -> 456541 | V13: =CRIM002!M14 -> 459383 | W13: =CRIM002!P14 -> 468781 | X13: EUROSTATDS1T1data
A14: EL | B14: 7748 | C14: 6460 | D14: 7296 | G14: =(B14/T14)*100000 -> 2227.7171 | H14: =(C14/U14)*100000 -> 1900.0838 | I14: =(D14/V14)*100000 -> 2170.55 | L14: UNODCDS2T2 | T14: =CRIM002!G15 -> 347800 | U14: =CRIM002!J15 -> 339985 | V14: =CRIM002!M15 -> 336136 | W14: =CRIM002!P15 -> 332797 | X14: EUROSTATDS1T1data
A15: ES | B15: 18749 | C15: 19736 | D15: 18341 | G15: =(B15/T15)*100000 -> 1062.2386 | H15: =(C15/U15)*100000 -> 1124.7302 | I15: =(D15/V15)*100000 -> 1057.1224 | L15: UNODCDS2T2 | T15: =CRIM002!G16 -> 1765046 | U15: =CRIM002!J16 -> 1754732 | V15: =CRIM002!M16 -> 1734993 | W15: =CRIM002!P16 -> 1717790 | X15: EUROSTATDS1T1data
A16: FR | B16: 207821 | C16: 214612 | D16: Nav | G16: =(B16/T16)*100000 -> 5227.9435 | H16: =(C16/U16)*100000 -> 5435.8134 | L16: UNODCDS2T2 | T16: =CRIM002!G17 -> 3975196 | U16: =CRIM002!J17 -> 3948112 | V16: =CRIM002!M17 -> 3941583 | W16: =CRIM002!P17 -> 3938236 | X16: EUROSTATDS1T1data
A17: HR | B17: 3575 | C17: 3047 | D17: 3323 | G17: =(B17/T17)*100000 -> 1736.2292 | H17: =(C17/U17)*100000 -> 1499.5448 | I17: =(D17/V17)*100000 -> 1656.6625 | L17: UNODCDS2T2 | T17: =CRIM002!G18 -> 205906 | U17: =CRIM002!J18 -> 203195 | V17: =CRIM002!M18 -> 200584 | W17: =CRIM002!P18 -> 203673 | X17: EUROSTATDS1T1data
A18: IT | B18: 31826 | C18: 30161 | D18: 29558 | G18: =(B18/T18)*100000 -> 1352.2637 | H18: =(C18/U18)*100000 -> 1292.9292 | I18: =(D18/V18)*100000 -> 1280.1933 | L18: UNODCDS2T2 | T18: =CRIM002!G19 -> 2353535 | U18: =CRIM002!J19 -> 2332765 | V18: =CRIM002!M19 -> 2308870 | W18: =CRIM002!P19 -> 2279534 | X18: EUROSTATDS1T1data
A19: CY | C19: 757 | L19: UNODCDS2T2 | T19: =CRIM002!G20 -> 44893 | U19: =CRIM002!J20 -> 45049 | V19: =CRIM002!M20 -> 48711 | W19: =CRIM002!P20 -> 47581 | X19: EUROSTATDS1T1data
A20: LV | B20: 2257 | C20: 1773 | D20: 1538 | G20: =(B20/T20)*100000 -> 1862.3188 | H20: =(C20/U20)*100000 -> 1610.9834 | I20: =(D20/V20)*100000 -> 1555.9872 | L20: UNODCDS2T2 | T20: =CRIM002!G21 -> 121193 | U20: =CRIM002!J21 -> 110057 | V20: =CRIM002!M21 -> 98844 | W20: =CRIM002!P21 -> 83911 | X20: EUROSTATDS1T1data
A21: LT | B21: 3418 | C21: 3147 | D21: 2655 | G21: =(B21/T21)*100000 -> 1689.2693 | H21: =(C21/U21)*100000 -> 1664.3925 | I21: =(D21/V21)*100000 -> 1509.7494 | L21: UNODCDS2T2 | T21: =CRIM002!G22 -> 202336 | U21: =CRIM002!J22 -> 189078 | V21: =CRIM002!M22 -> 175857 | W21: =CRIM002!P22 -> 156665 | X21: EUROSTATDS1T1data
A22: LU | B22: 2145 | G22: =(B22/T22)*100000 -> 18629.495 | L22: UNODCDS2T2 | T22: =CRIM002!G23 -> 11514 | U22: =CRIM002!J23 -> 11623 | V22: =CRIM002!M23 -> 11989 | W22: =CRIM002!P23 -> 12321 | X22: EUROSTATDS1T1data
A23: HU | B23: 13511 | C23: 12062 | D23: 11413 | G23: =(B23/T23)*100000 -> 2771.5497 | H23: =(C23/U23)*100000 -> 2539.6625 | I23: =(D23/V23)*100000 -> 2476.4678 | L23: UNODCDS2T2 | T23: =CRIM002!G24 -> 487489 | U23: =CRIM002!J24 -> 474945 | V23: =CRIM002!M24 -> 460858 | W23: =CRIM002!P24 -> 445532 | X23: EUROSTATDS1T1data
A24: MT | B24: 282 | C24: 300 | D24: 389 | G24: =(B24/T24)*100000 -> 1264.9711 | H24: =(C24/U24)*100000 -> 1379.0567 | I24: =(D24/V24)*100000 -> 1839.4174 | L24: UNODCDS2T2 | T24: =CRIM002!G25 -> 22293 | U24: =CRIM002!J25 -> 21754 | V24: =CRIM002!M25 -> 21148 | W24: =CRIM002!P25 -> 20493 | X24: EUROSTATDS1T1data
A25: NL | B25: 84115 | C25: 70405 | D25: 60575 | G25: =(B25/T25)*100000 -> 6998.2404 | H25: =(C25/U25)*100000 -> 5909.1714 | I25: =(D25/V25)*100000 -> 5115.8552 | L25: UNODCDS2T2 | M25: NLDS27T2 | T25: =CRIM002!G26 -> 1201945 | U25: =CRIM002!J26 -> 1191453 | V25: =CRIM002!M26 -> 1184064 | W25: =CRIM002!P26 -> 1184970 | X25: EUROSTATDS1T1data
A26: AT | B26: 35912 | C26: 33063 | D26: 29306 | G26: =(B26/T26)*100000 -> 8989.6866 | H26: =(C26/U26)*100000 -> 8317.2546 | I26: =(D26/V26)*100000 -> 7511.2967 | L26: UNODCDS2T2 | M26: ATDS24T2 | N26: ATDS26T2 | T26: =CRIM002!G27 -> 399480 | U26: =CRIM002!J27 -> 397523 | V26: =CRIM002!M27 -> 390159 | W26: =CRIM002!P27 -> 384062 | X26: EUROSTATDS1T1data
A27: PL | B27: 52081 | C27: 50872 | D27: 51163 | G27: =(B27/T27)*100000 -> 3281.619 | H27: =(C27/U27)*100000 -> 3346.338 | I27: =(D27/V27)*100000 -> 3532.1513 | L27: UNODCDS2T2 | T27: =CRIM002!G28 -> 1587052 | U27: =CRIM002!J28 -> 1520229 | V27: =CRIM002!M28 -> 1448494 | W27: =CRIM002!P28 -> 1387473 | X27: EUROSTATDS1T1data
A28: PT | B28: 3619 | C28: 3613 | D28: 3200 | G28: =(B28/T28)*100000 -> 1550.371 | H28: =(C28/U28)*100000 -> 1575.3903 | I28: =(D28/V28)*100000 -> 1428.6033 | L28: UNODCDS2T2 | T28: =CRIM002!G29 -> 233428 | U28: =CRIM002!J29 -> 229340 | V28: =CRIM002!M29 -> 223995 | W28: =CRIM002!P29 -> 224413 | X28: EUROSTATDS1T1data
A29: RO | B29: 13831 | C29: 13134 | G29: =(B29/T29)*100000 -> 1337.6131 | H29: =(C29/U29)*100000 -> 1351.6615 | L29: UNODCDS2T2 | T29: =CRIM002!G30 -> 1034006 | U29: =CRIM002!J30 -> 971693 | V29: =CRIM002!M30 -> 937351 | W29: =CRIM002!P30 -> 903970 | X29: EUROSTATDS1T1data
A30: SI | B30: 1474 | C30: 1563 | D30: 1455 | G30: =(B30/T30)*100000 -> 1736.242 | H30: =(C30/U30)*100000 -> 1893.4209 | I30: =(D30/V30)*100000 -> 1813.8074 | L30: UNODCDS2T2 | M30: SIDS5T2 | T30: =CRIM002!G31 -> 84896 | U30: =CRIM002!J31 -> 82549 | V30: =CRIM002!M31 -> 80218 | W30: =CRIM002!P31 -> 79273 | X30: EUROSTATDS1T1data
A31: SK | B31: 6196 | C31: 6031 | G31: =(B31/T31)*100000 -> 2050.2775 | H31: =(C31/U31)*100000 -> 2085.1124 | L31: UNODCDS2T2 | T31: =CRIM002!G32 -> 302203 | U31: =CRIM002!J32 -> 289241 | V31: =CRIM002!M32 -> 272991 | W31: =CRIM002!P32 -> 258520 | X31: EUROSTATDS1T1data
A32: FI | B32: 38574 | C32: 35703 | D32: 35032 | G32: =(B32/T32)*100000 -> 19149.602 | H32: =(C32/U32)*100000 -> 17816.046 | I32: =(D32/V32)*100000 -> 17504.36 | L32: UNODCDS2T2 | M32: FIDS15T2 | T32: =CRIM002!G33 -> 201435 | U32: =CRIM002!J33 -> 200398 | V32: =CRIM002!M33 -> 200133 | W32: =CRIM002!P33 -> 196619 | X32: EUROSTATDS1T1data
A33: SE | B33: 17711 | C33: 18039 | D33: 16664 | E33: 14270 | G33: 4631.0896 | H33: 4853.7472 | I33: 4705.5501 | J33: 4260.5154 | T33: =CRIM002!G34 -> 389919 | U33: =CRIM002!J34 -> 382437 | V33: =CRIM002!M34 -> 371651 | W33: =CRIM002!P34 -> 354135 | X33: EUROSTATDS1T1data
A34: UK E&W | T34: =CRIM002!G35 -> 5329600 | U34: =CRIM002!J35 -> 5249600 | V34: =CRIM002!M35 -> 5165900 | X34: EUROSTATDS1T1data
A35: UK NI | B35: 8820 | G35: =(B35/T35)*100000 -> 4414.4144 | L35: UNODCDS2T2 | T35: =CRIM002!G36 -> 199800 | U35: =CRIM002!J36 -> 198200 | V35: =CRIM002!M36 -> 194900 | X35: EUROSTATDS1T1data
A36: UK Scot | T36: =CRIM002!G37 -> 604200 | U36: =CRIM002!J37 -> 592900 | V36: =CRIM002!M37 -> 580000 | X36: EUROSTATDS1T1data
A38: Notes: *The police can make formal contact with children below the age of MACR and the same child might be in contact with the police more than once. UNODC provides a rate based on total child population (0-17 year olds) [for details see UNODCDS2T2data].

Sheet CRIM011
A1: .
A2: CRIM011 Children arrested who were arrested for the first time
B5: Total number of children arrested who were arrested for the first time by sex during a 12 month period | O5: Percentage of children arrested for the first time out of total arrested children by sex during a 12 month period | AA5: Children arrested who were arrested for the first time
B6: 2008 | E6: 2009 | H6: 2010 | K6: 2011 | O6: 2008 | R6: 2009 | U6: 2010 | X6: 2011 | AA6: Countries where further disaggregation is available
B7: Total | C7: Male | D7: Female | E7: Total | F7: Male | G7: Female | H7: Total | I7: Male | J7: Female | K7: Total | L7: Male | M7: Female | O7: Total | P7: Male | Q7: Female | R7: Total | S7: Male | T7: Female | U7: Total | V7: Male | W7: Female | X7: Total | Y7: Male | Z7: Female
A8: BE
A9: BG | AA9: BGDS9T2data
A10: CZ
A11: DK
A12: DE
A13: EE
A14: IE
A15: EL
A16: ES
A17: FR
A18: HR
A19: IT
A20: CY
A21: LV
... A26: NL
A27: AT | B27: 445 | C27: 385 | D27: 60 | E27: 522 | F27: 471 | G27: 51 | H27: 514 | I27: 455 | J27: 59 | K27: 351 | L27: 306 | M27: 45 | AA27: ATDS44T2
A28: PL
A29: PT
A30: RO
A31: SI
A32: SK
A33: FI
A34: SE
A35: UK E&W
A36: UK NI | AA36: UKNIDS7T2
A37: UK Scot

Sheet CRIM012
A1: .
A2: CRIM012 Children charged with an offence
B5: Notes | C5: Total number of children charged with an offence by sex during a 12 month period | T5: Number of children charged with an offence | Z5: Number of children charged with an offence per 100,000 child population (above MACR and below 18 years) by sex during a 12 month period | AM5: Percentage of children charged with an offence out of total arrested children by sex during a 12 month period | AY5: Source | BA5: Number of children above the minimum age of criminal responsibility and below the age of 18
C6: 2008 | F6: 2009 | I6: 2010 | L6: 2011 | P6: Age* | R6: Source | T6: Countries where further disaggregation by age is available | V6: Countries where approximate data are available | Z6: 2008 | AC6: 2009 | AF6: 2010 | AI6: 2011 | AM6: 2008 | AP6: 2009 | AS6: 2010 | AV6: 2011 | BA6: 2008 | BD6: 2009 | BG6: 2010 | BJ6: 2011 | BM6: Source
C7: Total | D7: Male | E7: Female | F7: Total | G7: Male | H7: Female | I7: Total | J7: Male | K7: Female | L7: Total | M7: Male | N7: Female | Z7: Total | AA7: Male | AB7: Female | AC7: Total | AD7: Male | AE7: Female | AF7: Total | AG7: Male | AH7: Female | AI7: Total | AJ7: Male | AK7: Female | AM7: Total | AN7: Male | AO7: Female | AP7: Total | AQ7: Male | AR7: Female | AS7: Total | AT7: Male | AU7: Female | AV7: Total | AW7: Male | AX7: Female | BA7: Total | BB7: Male | BC7: Female | BD7: Total | BE7: Male | BF7: Female | BG7: Total | BH7: Male | BI7: Female | BJ7: Total | BK7: Male | BL7: Female
A8: BE | BA8: =CRIM002!G8 -> 263617 | BB8: =CRIM002!H8 -> 134778 | BC8: =CRIM002!I8 -> 128839 | BD8: =CRIM002!J8 -> 264296 | BE8: =CRIM002!K8 -> 135041 | BF8: =CRIM002!L8 -> 129255 | BG8: =CRIM002!M8 -> 259281 | BH8: =CRIM002!N8 -> 132204 | ... BL8: =CRIM002!R8 -> 123714 | BM8: EUROSTATDS1T1data
A9: BG | AP9: 97 | AS9: 90.3 | AV9: 86 | AY9: BGDS13T2 | BA9: =CRIM002!G9 -> 344778 | BB9: =CRIM002!H9 -> 177223 | BC9: =CRIM002!I9 -> 167555 | BD9: =CRIM002!J9 -> 321699 | BE9: =CRIM002!K9 -> 165177 | BF9: =CRIM002!L9 -> 156522 | BG9: =CRIM002!M9 -> 299246 | BH9: =CRIM002!N9 -> 153295 | ... BL9: =CRIM002!R9 -> 135053 | BM9: EUROSTATDS1T1data
A10: CZ | V10: CZDS23T2 | BA10: =CRIM002!G10 -> 382195 | BB10: =CRIM002!H10 -> 196205 | BC10: =CRIM002!I10 -> 185990 | BD10: =CRIM002!J10 -> 373973 | BE10: =CRIM002!K10 -> 192023 | BF10: =CRIM002!L10 -> 181950 | BG10: =CRIM002!M10 -> 352641 | BH10: =CRIM002!N10 -> 180891 | ... BL10: =CRIM002!R10 -> 158604 | BM10: EUROSTATDS1T1data
A11: DK | V11: DKDS14T2 | BA11: =CRIM002!G11 -> 205567 | BB11: =CRIM002!H11 -> 105557 | BC11: =CRIM002!I11 -> 100010 | BD11: =CRIM002!J11 -> 209119 | BE11: =CRIM002!K11 -> 107283 | BF11: =CRIM002!L11 -> 101836 | BG11: =CRIM002!M11 -> 214192 | BH11: =CRIM002!N11 -> 109809 | ... BL11: =CRIM002!R11 -> 105229 | BM11: EUROSTATDS1T1data
A12: DE | V12: DEDS22T2 | BA12: =CRIM002!G12 -> 3509997 | BB12: =CRIM002!H12 -> 1799990 | BC12: =CRIM002!I12 -> 1710007 | BD12: =CRIM002!J12 -> 3333801 | BE12: =CRIM002!K12 -> 1709884 | BF12: =CRIM002!L12 -> 1623917 | BG12: =CRIM002!M12 -> 3238514 | BH12: =CRIM002!N12 -> 1661368 | ... BL12: =CRIM002!R12 -> 1558960 | BM12: EUROSTATDS1T1data
A13: EE | BA13: =CRIM002!G13 -> 68248 | BB13: =CRIM002!H13 -> 35058 | BC13: =CRIM002!I13 -> 33190 | BD13: =CRIM002!J13 -> 61617 | BE13: =CRIM002!K13 -> 31543 | BF13: =CRIM002!L13 -> 30074 | BG13: =CRIM002!M13 -> 56983 | BH13: =CRIM002!N13 -> 29173 | ... BL13: =CRIM002!R13 -> 25831 | BM13: EUROSTATDS1T1data
A14: IE | BA14: =CRIM002!G14 -> 452690 | BB14: =CRIM002!H14 -> 232137 | BC14: =CRIM002!I14 -> 220553 | BD14: =CRIM002!J14 -> 456541 | BE14: =CRIM002!K14 -> 234091 | BF14: =CRIM002!L14 -> 222450 | BG14: =CRIM002!M14 -> 459383 | BH14: =CRIM002!N14 -> 235544 | ... BL14: =CRIM002!R14 -> 228212 | BM14: EUROSTATDS1T1data
A15: EL | BA15: =CRIM002!G15 -> 347800 | BB15: =CRIM002!H15 -> 179623 | BC15: =CRIM002!I15 -> 168177 | BD15: =CRIM002!J15 -> 339985 | BE15: =CRIM002!K15 -> 174852 | BF15: =CRIM002!L15 -> 165133 | BG15: =CRIM002!M15 -> 336136 | BH15: =CRIM002!N15 -> 173116 | ... BL15: =CRIM002!R15 -> 161266 | BM15: EUROSTATDS1T1data
A16: ES | BA16: =CRIM002!G16 -> 1765046 | BB16: =CRIM002!H16 -> 907868 | BC16: =CRIM002!I16 -> 857178 | BD16: =CRIM002!J16 -> 1754732 | BE16: =CRIM002!K16 -> 902213 | BF16: =CRIM002!L16 -> 852519 | BG16: =CRIM002!M16 -> 1734993 | BH16: =CRIM002!N16 -> 891538 | ... BL16: =CRIM002!R16 -> 835583 | BM16: EUROSTATDS1T1data
A17: FR | V17: FRDS49T2data | Z17: =(C17/BA17)*100000 -> 0 | AC17: =(F17/BD17)*100000 -> 0 | AF17: =(I17/BG17)*100000 -> 0 | BA17: =CRIM002!G17 -> 3975196 | BB17: =CRIM002!H17 -> 2033685 | BC17: =CRIM002!I17 -> 1941511 | BD17: =CRIM002!J17 -> 3948112 | BE17: =CRIM002!K17 -> 2018784 | BF17: =CRIM002!L17 -> 1929328 | BG17: =CRIM002!M17 -> 3941583 | BH17: =CRIM002!N17 -> 2017129 | ... BL17: =CRIM002!R17 -> 1922459 | BM17: EUROSTATDS1T1data
A18: HR | C18: 1296 | D18: 1226 | E18: 70 | F18: 1238 | G18: 1172 | H18: 66 | I18: 1269 | J18: 1211 | K18: 58 | L18: 1084 | M18: 1029 | N18: 55 | R18: TransMonEEDS4T2data | T18: HRDS2T2data | Z18: =(C18/BA18)*100000 -> 629.41342 | AA18: =(D18/BB18)*100000 -> 1162.901 | AB18: =(E18/BC18)*100000 -> 69.665605 | AC18: =(F18/BD18)*100000 -> 609.26696 | AD18: =(G18/BE18)*100000 -> 1126.8906 | AE18: =(H18/BF18)*100000 -> 66.537624 | AF18: =(I18/BG18)*100000 -> 632.65265 | AG18: =(J18/BH18)*100000 -> 1180.7953 | ... AK18: =(N18/BL18)*100000 -> 55.253614 | BA18: =CRIM002!G18 -> 205906 | BB18: =CRIM002!H18 -> 105426 | BC18: =CRIM002!I18 -> 100480 | BD18: =CRIM002!J18 -> 203195 | BE18: =CRIM002!K18 -> 104003 | BF18: =CRIM002!L18 -> 99192 | BG18: =CRIM002!M18 -> 200584 | BH18: =CRIM002!N18 -> 102558 | ... BL18: =CRIM002!R18 -> 99541 | BM18: EUROSTATDS1T1data
A19: IT | C19: 18590 | D19: 15740.861 | E19: 2849.1394 | F19: 19938 | G19: 17108.787 | H19: 2829.2127 | I19: 20859 | J19: 17623.796 | K19: 3235.2042 | R19: ITDS16T2 | BA19: =CRIM002!G19 -> 2353535 | BB19: =CRIM002!H19 -> 1209473 | BC19: =CRIM002!I19 -> 1144062 | BD19: =CRIM002!J19 -> 2332765 | BE19: =CRIM002!K19 -> 1199378 | BF19: =CRIM002!L19 -> 1133387 | BG19: =CRIM002!M19 -> 2308870 | BH19: =CRIM002!N19 -> 1188149 | ... BL19: =CRIM002!R19 -> 1105694 | BM19: EUROSTATDS1T1data
A20: CY | BA20: =CRIM002!G20 -> 44893 | BB20: =CRIM002!H20 -> 22881 | BC20: =CRIM002!I20 -> 22012 | BD20: =CRIM002!J20 -> 45049 | BE20: =CRIM002!K20 -> 22960 | BF20: =CRIM002!L20 -> 22089 | BG20: =CRIM002!M20 -> 48711 | BH20: =CRIM002!N20 -> 24958 | ... BL20: =CRIM002!R20 -> 23129 | BM20: EUROSTATDS1T1data
A21: LV | R21: TransMonEEDS4T2data | BA21: =CRIM002!G21 -> 121193 | BB21: =CRIM002!H21 -> 61513 | BC21: =CRIM002!I21 -> 59680 | BD21: =CRIM002!J21 -> 110057 | BE21: =CRIM002!K21 -> 56023 | BF21: =CRIM002!L21 -> 54034 | BG21: =CRIM002!M21 -> 98844 | BH21: =CRIM002!N21 -> 50470 | ... BL21: =CRIM002!R21 -> 40917 | BM21: EUROSTATDS1T1data
A22: LT | C22: 3627 | D22: 3357 | E22: 270 | F22: 3353 | G22: 3136 | H22: 217 | I22: 2865 | J22: 2627 | K22: 238 | L22: 2612 | M22: 2364 | N22: 248 | R22: LTDS3T2data | T22: LTDS3T2 | U22: LTDS2T2 | Z22: =(C22/BA22)*100000 -> 1792.5629 | AA22: =(D22/BB22)*100000 -> 3249.6007 | AB22: =(E22/BC22)*100000 -> 272.6419 | AC22: =(F22/BD22)*100000 -> 1773.3422 | AD22: =(G22/BE22)*100000 -> 3244.0261 | AE22: =(H22/BF22)*100000 -> 234.82815 | AF22: =(I22/BG22)*100000 -> 1629.1646 | AG22: =(J22/BH22)*100000 -> 2922.1032 | ... AK22: =(N22/BL22)*100000 -> 324.12369 | BA22: =CRIM002!G22 -> 202336 | BB22: =CRIM002!H22 -> 103305 | BC22: =CRIM002!I22 -> 99031 | BD22: =CRIM002!J22 -> 189078 | BE22: =CRIM002!K22 -> 96670 | BF22: =CRIM002!L22 -> 92408 | BG22: =CRIM002!M22 -> 175857 | BH22: =CRIM002!N22 -> 89901 | ... BL22: =CRIM002!R22 -> 76514 | BM22: EUROSTATDS1T1data
A23: LU | BA23: =CRIM002!G23 -> 11514 | BB23: =CRIM002!H23 -> 5972 | BC23: =CRIM002!I23 -> 5542 | BD23: =CRIM002!J23 -> 11623 | BE23: =CRIM002!K23 -> 5965 | BF23: =CRIM002!L23 -> 5658 | BG23: =CRIM002!M23 -> 11989 | BH23: =CRIM002!N23 -> 6141 | ... BL23: =CRIM002!R23 -> 6061 | BM23: EUROSTATDS1T1data
A24: HU | C24: 6532 | D24: 5763 | E24: 769 | F24: 6481 | G24: 5663 | H24: 818 | I24: 6743 | J24: 5887 | K24: 856 | L24: 5970 | M24: 5248 | N24: 722 | R24: TransMonEEDS4T2data | Z24: =(C24/BA24)*100000 -> 1339.9277 | AA24: =(D24/BB24)*100000 -> 2313.6773 | AB24: =(E24/BC24)*100000 -> 322.56035 | AC24: =(F24/BD24)*100000 -> 1364.5791 | AD24: =(G24/BE24)*100000 -> 2331.0474 | AE24: =(H24/BF24)*100000 -> 352.57557 | AF24: =(I24/BG24)*100000 -> 1463.1405 | AG24: =(J24/BH24)*100000 -> 2496.0674 | ... AK24: =(N24/BL24)*100000 -> 332.1984 | BA24: =CRIM002!G24 -> 487489 | BB24: =CRIM002!H24 -> 249084 | BC24: =CRIM002!I24 -> 238405 | BD24: =CRIM002!J24 -> 474945 | BE24: =CRIM002!K24 -> 242938 | BF24: =CRIM002!L24 -> 232007 | BG24: =CRIM002!M24 -> 460858 | BH24: =CRIM002!N24 -> 235851 | ... BL24: =CRIM002!R24 -> 217340 | BM24: EUROSTATDS1T1data
A25: MT | BA25: =CRIM002!G25 -> 22293 | BB25: =CRIM002!H25 -> 11408 | BC25: =CRIM002!I25 -> 10885 | BD25: =CRIM002!J25 -> 21754 | BE25: =CRIM002!K25 -> 11112 | BF25: =CRIM002!L25 -> 10642 | BG25: =CRIM002!M25 -> 21148 | BH25: =CRIM002!N25 -> 10863 | ... BL25: =CRIM002!R25 -> 9926 | BM25: EUROSTATDS1T1data
A26: NL | BA26: =CRIM002!G26 -> 1201945 | BB26: =CRIM002!H26 -> 614939 | BC26: =CRIM002!I26 -> 587006 | BD26: =CRIM002!J26 -> 1191453 | BE26: =CRIM002!K26 -> 609943 | BF26: =CRIM002!L26 -> 581510 | BG26: =CRIM002!M26 -> 1184064 | BH26: =CRIM002!N26 -> 606063 | ... BL26: =CRIM002!R26 -> 578531 | BM26: EUROSTATDS1T1data
A27: AT | V27: ATDS21T2 | W27: ATDS34T2 | BA27: =CRIM002!G27 -> 399480 | BB27: =CRIM002!H27 -> 205046 | BC27: =CRIM002!I27 -> 194434 | BD27: =CRIM002!J27 -> 397523 | BE27: =CRIM002!K27 -> 204086 | BF27: =CRIM002!L27 -> 193437 | BG27: =CRIM002!M27 -> 390159 | BH27: =CRIM002!N27 -> 200345 | ... BL27: =CRIM002!R27 -> 187256 | BM27: EUROSTATDS1T1data
A28: PL | C28: 52081 | F28: 50800 | I28: 51162 | L28: 49654 | R28: TransMonEEDS4T2data | Z28: =(C28/BA28)*100000 -> 3281.619 | AC28: =(F28/BD28)*100000 -> 3341.6018 | AF28: =(I28/BG28)*100000 -> 3532.0823 | AI28: =(L28/BJ28)*100000 -> 3578.7363 | BA28: =CRIM002!G28 -> 1587052 | BB28: =CRIM002!H28 -> 811853 | BC28: =CRIM002!I28 -> 775199 | BD28: =CRIM002!J28 -> 1520229 | BE28: =CRIM002!K28 -> 777446 | BF28: =CRIM002!L28 -> 742783 | BG28: =CRIM002!M28 -> 1448494 | BH28: =CRIM002!N28 -> 739549 | ... BL28: =CRIM002!R28 -> 678946 | BM28: EUROSTATDS1T1data
A29: PT | V29: PTDS15T2 | BA29: =CRIM002!G29 -> 233428 | BB29: =CRIM002!H29 -> 119134 | BC29: =CRIM002!I29 -> 114294 | BD29: =CRIM002!J29 -> 229340 | BE29: =CRIM002!K29 -> 116745 | BF29: =CRIM002!L29 -> 112595 | BG29: =CRIM002!M29 -> 223995 | BH29: =CRIM002!N29 -> 114014 | ... BL29: =CRIM002!R29 -> 109691 | BM29: EUROSTATDS1T1data
A30: RO | C30: 13197 | D30: 12204 | E30: 993 | F30: 12474 | G30: 11471 | H30: 1003 | I30: 11732 | J30: 10711 | K30: 1021 | L30: 10764 | M30: 9927 | N30: 837 | P30: 14-17 | R30: TransMonEEDS4T2data | Z30: =(C30/BA30)*100000 -> 1276.2982 | AA30: =(D30/BB30)*100000 -> 2308.6396 | AB30: =(E30/BC30)*100000 -> 196.48465 | AC30: =(F30/BD30)*100000 -> 1283.7388 | AD30: =(G30/BE30)*100000 -> 2305.3301 | AE30: =(H30/BF30)*100000 -> 211.55562 | AF30: =(I30/BG30)*100000 -> 1251.6123 | AG30: =(J30/BH30)*100000 -> 2233.3846 | ... AK30: =(N30/BL30)*100000 -> 189.64627 | BA30: =CRIM002!G30 -> 1034006 | BB30: =CRIM002!H30 -> 528623 | BC30: =CRIM002!I30 -> 505383 | BD30: =CRIM002!J30 -> 971693 | BE30: =CRIM002!K30 -> 497586 | BF30: =CRIM002!L30 -> 474107 | BG30: =CRIM002!M30 -> 937351 | BH30: =CRIM002!N30 -> 479586 | ... BL30: =CRIM002!R30 -> 441348 | BM30: EUROSTATDS1T1data
A31: SI | C31: 1473 | D31: 1185 | E31: 288 | F31: 1563 | G31: 1178 | H31: 385 | I31: 1454 | J31: 1095 | K31: 360 | L31: 1319 | M31: 1023 | N31: 296 | R31: TransMonEEDS4T2data | Z31: =(C31/BA31)*100000 -> 1735.0641 | AA31: =(D31/BB31)*100000 -> 2714.2792 | AB31: =(E31/BC31)*100000 -> 698.38498 | AC31: =(F31/BD31)*100000 -> 1893.4209 | AD31: =(G31/BE31)*100000 -> 2776.2066 | AE31: =(H31/BF31)*100000 -> 959.6929 | AF31: =(I31/BG31)*100000 -> 1812.5608 | AG31: =(J31/BH31)*100000 -> 2658.2186 | ... AK31: =(N31/BL31)*100000 -> 766.91885 | BA31: =CRIM002!G31 -> 84896 | BB31: =CRIM002!H31 -> 43658 | BC31: =CRIM002!I31 -> 41238 | BD31: =CRIM002!J31 -> 82549 | BE31: =CRIM002!K31 -> 42432 | BF31: =CRIM002!L31 -> 40117 | BG31: =CRIM002!M31 -> 80218 | BH31: =CRIM002!N31 -> 41193 | ... BL31: =CRIM002!R31 -> 38596 | BM31: EUROSTATDS1T1data
A32: SK | C32: 2437 | D32: 2319 | E32: 118 | F32: 2158 | G32: 2019 | H32: 138 | I32: 2545 | J32: 2398 | K32: 147 | L32: 2238 | M32: 2103 | N32: 134 | R32: TransMonEEDS4T2data | Z32: =(C32/BA32)*100000 -> 806.41158 | AA32: =(D32/BB32)*100000 -> 1499.3405 | AB32: =(E32/BC32)*100000 -> 79.981021 | AC32: =(F32/BD32)*100000 -> 746.09063 | AD32: =(G32/BE32)*100000 -> 1367.21 | AE32: =(H32/BF32)*100000 -> 97.479656 | AF32: =(I32/BG32)*100000 -> 932.26517 | AG32: =(J32/BH32)*100000 -> 1719.6498 | ... AK32: =(N32/BL32)*100000 -> 106.31292 | BA32: =CRIM002!G32 -> 302203 | BB32: =CRIM002!H32 -> 154668 | BC32: =CRIM002!I32 -> 147535 | BD32: =CRIM002!J32 -> 289241 | BE32: =CRIM002!K32 -> 147673 | BF32: =CRIM002!L32 -> 141568 | BG32: =CRIM002!M32 -> 272991 | BH32: =CRIM002!N32 -> 139447 | ... BL32: =CRIM002!R32 -> 126043 | BM32: EUROSTATDS1T1data
A33: FI | BA33: =CRIM002!G33 -> 201435 | BB33: =CRIM002!H33 -> 102796 | BC33: =CRIM002!I33 -> 98639 | BD33: =CRIM002!J33 -> 200398 | BE33: =CRIM002!K33 -> 102093 | BF33: =CRIM002!L33 -> 98305 | BG33: =CRIM002!M33 -> 200133 | BH33: =CRIM002!N33 -> 101912 | ... BL33: =CRIM002!R33 -> 96521 | BM33: EUROSTATDS1T1data
A34: SE | C34: - | D34: - | E34: - | F34: - | G34: - | H34: - | I34: - | J34: - | K34: - | L34: - | M34: - | N34: - | BA34: =CRIM002!G34 -> 389919 | BB34: =CRIM002!H34 -> 200743 | BC34: =CRIM002!I34 -> 189176 | BD34: =CRIM002!J34 -> 382437 | BE34: =CRIM002!K34 -> 196677 | BF34: =CRIM002!L34 -> 185760 | BG34: =CRIM002!M34 -> 371651 | BH34: =CRIM002!N34 -> 190709 | ... BL34: =CRIM002!R34 -> 172288 | BM34: EUROSTATDS1T1data
A35: UK E&W | BA35: =CRIM002!G35 -> 5329600 | BB35: =CRIM002!H35 -> 2733500 | BC35: =CRIM002!I35 -> 2596100 | BD35: =CRIM002!J35 -> 5249600 | BE35: =CRIM002!K35 -> 2691000 | BF35: =CRIM002!L35 -> 2558600 | BG35: =CRIM002!M35 -> 5165900 | BH35: =CRIM002!N35 -> 2648300 | BI35: =CRIM002!O35 -> 2517600 | BM35: EUROSTATDS1T1data
A36: UK NI | BA36: =CRIM002!G36 -> 199800 | BB36: =CRIM002!H36 -> 102500 | BC36: =CRIM002!I36 -> 97300 | BD36: =CRIM002!J36 -> 198200 | BE36: =CRIM002!K36 -> 101600 | BF36: =CRIM002!L36 -> 96600 | BG36: =CRIM002!M36 -> 194900 | BH36: =CRIM002!N36 -> 99800 | BI36: =CRIM002!O36 -> 95100 | BM36: EUROSTATDS1T1data
A37: UK Scot | BA37: =CRIM002!G37 -> 604200 | BB37: =CRIM002!H37 -> 309700 | BC37: =CRIM002!I37 -> 294500 | BD37: =CRIM002!J37 -> 592900 | BE37: =CRIM002!K37 -> 303500 | BF37: =CRIM002!L37 -> 289400 | BG37: =CRIM002!M37 -> 580000 | BH37: =CRIM002!N37 -> 296900 | BI37: =CRIM002!O37 -> 283100 | BM37: EUROSTATDS1T1data
A39: Note: *The age of children eligible for charges being brought against them varies between Member States - hence column P shows the ages in different Member States for nominators

Sheet CRIM013delete
A1: .
A3: CRIM013 Children prosecuted for an offence
B7: Total number of children prosecuted for an offence by sex during a 12 month period | O7: Number of children prosecuted for an offence | Q7: Number of children prosecuted for an offence per 100,000 child population by sex during a 12 month period | AD7: Percentage of children prosecuted for an offence out of total arrested children by sex during a 12 month period
B8: 2008 | E8: 2009 | H8: 2010 | K8: 2011 | O8: Countries where further dissagregation by age is available | Q8: 2008 | T8: 2009 | W8: 2010 | Z8: 2011 | AD8: 2008 | AG8: 2009 | AJ8: 2010 | AM8: 2011 | AQ8: Source
B9: Total | C9: Male | D9: Female | E9: Total | F9: Male | G9: Female | H9: Total | I9: Male | J9: Female | K9: Total | L9: Male | M9: Female | Q9: Total | R9: Male | S9: Female | T9: Total | U9: Male | V9: Female | W9: Total | X9: Male | Y9: Female | Z9: Total | AA9: Male | AB9: Female | AD9: Total | AE9: Male | AF9: Female | AG9: Total | AH9: Male | AI9: Female | AJ9: Total | AK9: Male | AL9: Female | AM9: Total | AN9: Male | AO9: Female
A10: EU27
A11: BE
A12: BG
A13: CZ
A14: DK
A15: DE
A16: EE
A17: IE
A18: EL
A19: ES
A20: FR
A21: HR
... A41: UK Scot

Sheet CRIM013
A1: .
A2: CRIM013 Children acquitted
B5: Notes | C5: Total number of children acquitted by sex during a 12 month period | O5: Source | Q5: Countries where further disaggregation is available | S5: Countries where approximate data are available | U5: Percentage of children acquitted out of total children charged during a 12 month period
C6: 2008 | F6: 2009 | I6: 2010 | L6: 2011 | U6: 2008 | X6: 2009 | AA6: 2010 | AD6: 2011
C7: Total | D7: Male | E7: Female | F7: Total | G7: Male | H7: Female | I7: Total | J7: Male | K7: Female | L7: Total | M7: Male | N7: Female | U7: Total | V7: Male | W7: Female | X7: Total | Y7: Male | Z7: Female | AA7: Total | AB7: Male | AC7: Female | AD7: Total | AE7: Male | AF7: Female
A8: BE
A9: BG
A10: CZ
A11: DK | C11: 2251 | D11: 1959 | E11: 292 | F11: 2259 | G11: 1995 | H11: 264 | I11: 2304 | J11: 2001 | K11: 303 | L11: 2069 | M11: 1860 | N11: 209 | O11: DKDS19T2 | Q11: DKDS20T2
A12: DE | I12: 32387 | O12: DEDS21T2 | Q12: DEDS32T2
A13: EE
A14: IE
A15: EL | L15: 3321 | O15: ELDS8T2 | P15: ELDS9T2 | Q15: ELDS8T2 | R15: ELDS9T2
A16: ES
A17: FR | C17: 9226 | F17: 8925 | I17: 7645 | O17: FRDS9T2 | U17: =(CRIM013!C19*100)/CRIM012!C19 -> 0 | X17: =(CRIM013!F19*100)/CRIM012!F19 -> 0 | AA17: =(CRIM013!I19*100)/CRIM012!I19 -> 0
A18: HR | C18: 495 | F18: 426 | I18: 91 | L18: 290 | O18: HRDS2T2 | Q18: HRDS2T2 | U18: =(CRIM013!C18*100)/CRIM012!C18 -> 38.194444 | X18: =(CRIM013!F18*100)/CRIM012!F18 -> 34.410339 | AA18: =(CRIM013!I18*100)/CRIM012!I18 -> 7.1710008 | AD18: =(CRIM013!L18*100)/CRIM012!L18 -> 26.752768
A19: IT | S19: ITDS17T2
A20: CY
A21: LV | C21: 247 | D21: 207 | E21: 40 | F21: 308 | G21: 248 | H21: 60 | I21: 236 | J21: 198 | K21: 38 | L21: 259 | M21: 220 | N21: 39 | O21: LVDS19T2 | Q21: LVDS19T2
A22: LT | C22: 2 | F22: 7 | I22: 7 | L22: 2 | O22: LTDS8T2 | U22: =(CRIM013!C22*100)/CRIM012!C22 -> 0.055141991 | X22: =(CRIM013!F22*100)/CRIM012!F22 -> 0.20876827 | AA22: =(CRIM013!I22*100)/CRIM012!I22 -> 0.2443281 | AD22: =(CRIM013!L22*100)/CRIM012!L22 -> 0.076569678
A23: LU
A24: HU
A25: MT
A26: NL
A27: AT | S27: ATDS10T2
A28: PL
A29: PT
A30: RO | C30: 15 | F30: 0 | I30: 5 | L30: 19 | O30: RODS2T2 | U30: =(CRIM013!C30*100)/CRIM012!C30 -> 0.1136622 | X30: =(CRIM013!F30*100)/CRIM012!F30 -> 0 | AA30: =(CRIM013!I30*100)/CRIM012!I30 -> 0.042618479 | AD30: =(CRIM013!L30*100)/CRIM012!L30 -> 0.17651431
A31: SI | C31: 323 | F31: 319 | I31: 204 | L31: 181 | O31: SIDS7T2,16 | Q31: SIDS7T2,16 | S31: SIDS6T16,18 | U31: =(CRIM013!C32*100)/CRIM012!C32 -> 0 | X31: =(CRIM013!F32*100)/CRIM012!F32 -> 0 | AA31: =(CRIM013!I32*100)/CRIM012!I32 -> 0 | AD31: =(CRIM013!L32*100)/CRIM012!L32 -> 0
A32: SK
A33: FI
A34: SE
A35: UK E&W
A36: UK NI
A37: UK Scot

Sheet CRIM014delete
A1: Suggest to delete this as international and national datasets do not distinguish between convicted and sentenced persons; the two terms are used interchangeably; see CRIM015
A3: CRIM014rev Children convicted of an offence

Sheet CRIM014
A1: .
A2: CRIM014 Children sentenced for criminal activity by sex
B4: Notes | C4: Total number of children sentenced for criminal activity by sex during a 12 month period | P4: Source | S4: Children sentenced for criminal activity | AJ4: Number of children sentenced for criminal activity per 100,000 child population (aged above MACR and below 18) during a 12 month period | AW4: Percentage of children sentenced for criminal activity out of total arrested children by sex during a 12 month period | BI4: Source | BJ4: Children sentenced for criminal activity by sex | BL4: Number of children above the minimum age of criminal responsibility and below the age of 18
C5: 2008 | F5: 2009 | I5: 2010 | L5: 2011 | S5: Datasets where approximate data is available | AJ5: 2008 | AM5: 2009 | AP5: 2010 | AS5: 2011 | AW5: 2008 | AZ5: 2009 | BC5: 2010 | BF5: 2011 | BJ5: Datasets where further levels of disaggregation are available | BL5: 2008 | BO5: 2009 | BR5: 2010 | BU5: 2011 | BX5: Source
C6: Total | D6: Male | E6: Female | F6: Total | G6: Male | H6: Female | I6: Total | J6: Male | K6: Female | L6: Total | M6: Male | N6: Female | AJ6: Total | AK6: Male | AL6: Female | AM6: Total | AN6: Male | AO6: Female | AP6: Total | AQ6: Male | AR6: Female | AS6: Total | AT6: Male | AU6: Female | AW6: Total | AX6: Male | AY6: Female | AZ6: Total | BA6: Male | BB6: Female | BC6: Total | BD6: Male | BE6: Female | BF6: Total | BG6: Male | BH6: Female | BL6: Total | BM6: Male | BN6: Female | BO6: Total | BP6: Male | BQ6: Female | BR6: Total | BS6: Male | BT6: Female | BU6: Total | BV6: Male | BW6: Female
A7: BE | C7: 2303 | F7: 2473 | I7: 2062 | P7: BEDS2T2 | BL7: =CRIM002!G8 -> 263617 | BM7: =CRIM002!H8 -> 134778 | BN7: =CRIM002!I8 -> 128839 | BO7: =CRIM002!J8 -> 264296 | BP7: =CRIM002!K8 -> 135041 | BQ7: =CRIM002!L8 -> 129255 | BR7: =CRIM002!M8 -> 259281 | BS7: =CRIM002!N8 -> 132204 | ... BW7: =CRIM002!R8 -> 123714 | BX7: EUROSTATDS1T1
A8: BG | C8: 2964 | D8: 2831 | E8: 133 | F8: 3123 | G8: 2962 | H8: 161 | I8: 2694 | J8: 2542 | K8: 152 | L8: 2746 | M8: 2623 | N8: 123 | P8: BGDS6T2 | AJ8: =(C8/BL8)*100000 -> 859.68362 | AK8: =(D8/BM8)*100000 -> 1597.4225 | AL8: =(E8/BN8)*100000 -> 79.376921 | AM8: =(F8/BO8)*100000 -> 970.78325 | AN8: =(G8/BP8)*100000 -> 1793.2279 | AO8: =(H8/BQ8)*100000 -> 102.86094 | AP8: =(I8/BR8)*100000 -> 900.26266 | AQ8: =(J8/BS8)*100000 -> 1658.2406 | ... AU8: =(N8/BW8)*100000 -> 91.075356 | BJ8: BGDS12T2data | BL8: =CRIM002!G9 -> 344778 | BM8: =CRIM002!H9 -> 177223 | BN8: =CRIM002!I9 -> 167555 | BO8: =CRIM002!J9 -> 321699 | BP8: =CRIM002!K9 -> 165177 | BQ8: =CRIM002!L9 -> 156522 | BR8: =CRIM002!M9 -> 299246 | BS8: =CRIM002!N9 -> 153295 | ... BW8: =CRIM002!R9 -> 135053 | BX8: EUROSTATDS1T1
A9: CZ | C9: 2882 | F9: 2718 | I9: 2389 | L9: 2203 | P9: CZDS23T2 | S9: UNODCDS1T2 | T9: CZDS24T2 | AJ9: =(C9/BL9)*100000 -> 754.06533 | AM9: =(F9/BO9)*100000 -> 726.79044 | AP9: =(I9/BR9)*100000 -> 677.45951 | AS9: =(L9/BU9)*100000 -> 676.61575 | BL9: =CRIM002!G10 -> 382195 | BM9: =CRIM002!H10 -> 196205 | BN9: =CRIM002!I10 -> 185990 | BO9: =CRIM002!J10 -> 373973 | BP9: =CRIM002!K10 -> 192023 | BQ9: =CRIM002!L10 -> 181950 | BR9: =CRIM002!M10 -> 352641 | BS9: =CRIM002!N10 -> 180891 | ... BW9: =CRIM002!R10 -> 158604 | BX9: EUROSTATDS1T1
A10: DK | C10: 5619 | F10: 5780 | P10: UNODCDS1T2 | S10: DKDS20T2 | T10: DKDS6T2 | AF10: DKDS13T2 | AJ10: =(C10/BL10)*100000 -> 2733.4154 | AM10: =(F10/BO10)*100000 -> 2763.9765 | BL10: =CRIM002!G11 -> 205567 | BM10: =CRIM002!H11 -> 105557 | BN10: =CRIM002!I11 -> 100010 | BO10: =CRIM002!J11 -> 209119 | BP10: =CRIM002!K11 -> 107283 | BQ10: =CRIM002!L11 -> 101836 | BR10: =CRIM002!M11 -> 214192 | BS10: =CRIM002!N11 -> 109809 | ... BW10: =CRIM002!R11 -> 105229 | BX10: EUROSTATDS1T1
A11: DE | C11: 62216 | F11: 60900 | I11: 55388 | P11: UNODCDS1T2 | Q11: DEDS21T2 | R11: DEDS22T2 | S11: DEDS19T2 | AJ11: =(C11/BL11)*100000 -> 1772.5371 | AM11: =(F11/BO11)*100000 -> 1826.7437 | AP11: =(I11/BR11)*100000 -> 1710.2906 | BL11: =CRIM002!G12 -> 3509997 | BM11: =CRIM002!H12 -> 1799990 | BN11: =CRIM002!I12 -> 1710007 | BO11: =CRIM002!J12 -> 3333801 | BP11: =CRIM002!K12 -> 1709884 | BQ11: =CRIM002!L12 -> 1623917 | BR11: =CRIM002!M12 -> 3238514 | BS11: =CRIM002!N12 -> 1661368 | ... BW11: =CRIM002!R12 -> 1558960 | BX11: EUROSTATDS1T1
A12: EE | C12: 1030 | F12: 730 | I12: 578 | L12: 516 | P12: TransMonEEDS5T2 | AJ12: =(C12/BL12)*100000 -> 1509.2017 | AM12: =(F12/BO12)*100000 -> 1184.738 | AP12: =(I12/BR12)*100000 -> 1014.3376 | AS12: =(L12/BU12)*100000 -> 974.79881 | BL12: =CRIM002!G13 -> 68248 | BM12: =CRIM002!H13 -> 35058 | BN12: =CRIM002!I13 -> 33190 | BO12: =CRIM002!J13 -> 61617 | BP12: =CRIM002!K13 -> 31543 | BQ12: =CRIM002!L13 -> 30074 | BR12: =CRIM002!M13 -> 56983 | BS12: =CRIM002!N13 -> 29173 | ... BW12: =CRIM002!R13 -> 25831 | BX12: EUROSTATDS1T1
A13: IE | C13: 3130 | F13: 2415 | I13: 1706 | P13: IEDS26T2 | S13: IEDS17T2 | AJ13: =(C13/BL13)*100000 -> 691.42239 | AM13: =(F13/BO13)*100000 -> 528.97768 | AP13: =(I13/BR13)*100000 -> 371.36768 | BL13: =CRIM002!G14 -> 452690 | BM13: =CRIM002!H14 -> 232137 | BN13: =CRIM002!I14 -> 220553 | BO13: =CRIM002!J14 -> 456541 | BP13: =CRIM002!K14 -> 234091 | BQ13: =CRIM002!L14 -> 222450 | BR13: =CRIM002!M14 -> 459383 | BS13: =CRIM002!N14 -> 235544 | ... BW13: =CRIM002!R14 -> 228212 | BX13: EUROSTATDS1T1
A14: EL | L14: 6800 | P14: ELDS8T18 | S14: ELDS8T2 | T14: ELDS14T2 | AF14: ESDS9T2 | AS14: 2043 | BL14: =CRIM002!G15 -> 347800 | BM14: =CRIM002!H15 -> 179623 | BN14: =CRIM002!I15 -> 168177 | BO14: =CRIM002!J15 -> 339985 | BP14: =CRIM002!K15 -> 174852 | BQ14: =CRIM002!L15 -> 165133 | BR14: =CRIM002!M15 -> 336136 | BS14: =CRIM002!N15 -> 173116 | ... BW14: =CRIM002!R15 -> 161266 | BX14: EUROSTATDS1T1
A15: ES | C15: 15919 | D15: 13477 | E15: 2442 | F15: 17572 | G15: 14782 | H15: 2790 | I15: 18238 | J15: 15337 | K15: 2901 | L15: 17039 | M15: 14362 | N15: 2677 | P15: ESDS1T2 | S15: UNODCDS1T2 | T15: ESDS4T2 | AJ15: =(C15/BL15)*100000 -> 901.90284 | AK15: =(D15/BM15)*100000 -> 1484.4669 | AL15: =(E15/BN15)*100000 -> 284.88832 | AM15: =(F15/BO15)*100000 -> 1001.4065 | AN15: =(G15/BP15)*100000 -> 1638.4158 | AO15: =(H15/BQ15)*100000 -> 327.26543 | AP15: =(I15/BR15)*100000 -> 1051.1858 | AQ15: =(J15/BS15)*100000 -> 1720.2856 | ... AU15: =(N15/BW15)*100000 -> 320.37512 | BL15: =CRIM002!G16 -> 1765046 | BM15: =CRIM002!H16 -> 907868 | BN15: =CRIM002!I16 -> 857178 | BO15: =CRIM002!J16 -> 1754732 | BP15: =CRIM002!K16 -> 902213 | BQ15: =CRIM002!L16 -> 852519 | BR15: =CRIM002!M16 -> 1734993 | BS15: =CRIM002!N16 -> 891538 | ... BW15: =CRIM002!R16 -> 835583 | BX15: EUROSTATDS1T1
A16: FR | C16: 57967 | F16: 56261 | I16: 53528 | P16: UNODCDS1T2 | AJ16: =(C16/BL16)*100000 -> 1458.2174 | AM16: =(F16/BO16)*100000 -> 1425.0102 | AP16: =(I16/BR16)*100000 -> 1358.0331 | BL16: =CRIM002!G17 -> 3975196 | BM16: =CRIM002!H17 -> 2033685 | BN16: =CRIM002!I17 -> 1941511 | BO16: =CRIM002!J17 -> 3948112 | BP16: =CRIM002!K17 -> 2018784 | BQ16: =CRIM002!L17 -> 1929328 | BR16: =CRIM002!M17 -> 3941583 | BS16: =CRIM002!N17 -> 2017129 | ... BW16: =CRIM002!R17 -> 1922459 | BX16: EUROSTATDS1T1
A17: HR | C17: 958 | D17: 899 | E17: 59 | F17: 987 | G17: 933 | H17: 54 | I17: 925 | J17: 880 | K17: 45 | L17: 814 | M17: 773 | N17: 41 | P17: HRDS5T2 | Q17: TransMonEEDS5T2 | AJ17: =(C17/BL17)*100000 -> 465.26085 | AK17: =(D17/BM17)*100000 -> 852.73083 | AL17: =(E17/BN17)*100000 -> 58.718153 | AM17: =(F17/BO17)*100000 -> 485.7403 | AN17: =(G17/BP17)*100000 -> 897.08951 | AO17: =(H17/BQ17)*100000 -> 54.439874 | AP17: =(I17/BR17)*100000 -> 461.15343 | AQ17: =(J17/BS17)*100000 -> 858.05105 | ... AU17: =(N17/BW17)*100000 -> 41.189058 | BL17: =CRIM002!G18 -> 205906 | BM17: =CRIM002!H18 -> 105426 | BN17: =CRIM002!I18 -> 100480 | BO17: =CRIM002!J18 -> 203195 | BP17: =CRIM002!K18 -> 104003 | BQ17: =CRIM002!L18 -> 99192 | BR17: =CRIM002!M18 -> 200584 | BS17: =CRIM002!N18 -> 102558 | ... BW17: =CRIM002!R18 -> 99541 | BX17: EUROSTATDS1T1
A18: IT | C18: 3183 | D18: 2655 | E18: 528 | F18: 2719 | G18: 2230 | H18: 489 | I18: 3139 | J18: 2563 | K18: 576 | P18: ITDS18T2 | AJ18: =(C18/BL18)*100000 -> 135.24337 | AK18: =(D18/BM18)*100000 -> 219.5171 | AL18: =(E18/BN18)*100000 -> 46.151345 | AM18: =(F18/BO18)*100000 -> 116.55696 | AN18: =(G18/BP18)*100000 -> 185.92971 | AO18: =(H18/BQ18)*100000 -> 43.145016 | AP18: =(I18/BR18)*100000 -> 135.95395 | AQ18: =(J18/BS18)*100000 -> 215.71369 | AR18: =(K18/BT18)*100000 -> 51.395486 | BJ18: ITDS18T2 | BK18: ITDS18T2 | BL18: =CRIM002!G19 -> 2353535 | BM18: =CRIM002!H19 -> 1209473 | BN18: =CRIM002!I19 -> 1144062 | BO18: =CRIM002!J19 -> 2332765 | BP18: =CRIM002!K19 -> 1199378 | BQ18: =CRIM002!L19 -> 1133387 | BR18: =CRIM002!M19 -> 2308870 | BS18: =CRIM002!N19 -> 1188149 | ... BW18: =CRIM002!R19 -> 1105694 | BX18: EUROSTATDS1T1
A19: CY | C19: 804 | F19: 835 | P19: CYDS12T2 | AJ19: =(C19/BL19)*100000 -> 1790.9251 | AM19: =(F19/BO19)*100000 -> 1853.5373 | BL19: =CRIM002!G20 -> 44893 | BM19: =CRIM002!H20 -> 22881 | BN19: =CRIM002!I20 -> 22012 | BO19: =CRIM002!J20 -> 45049 | BP19: =CRIM002!K20 -> 22960 | BQ19: =CRIM002!L20 -> 22089 | BR19: =CRIM002!M20 -> 48711 | BS19: =CRIM002!N20 -> 24958 | ... BW19: =CRIM002!R20 -> 23129 | BX19: EUROSTATDS1T1
A20: LV | C20: 1159 | F20: 936 | I20: 755 | L20: 650 | P20: LVDS9T2 | S20: TransMonEEDS5T2 | T20: LVDS1T2 | AJ20: =(C20/BL20)*100000 -> 956.32586 | AM20: =(F20/BO20)*100000 -> 850.46839 | AP20: =(I20/BR20)*100000 -> 763.82987 | AS20: =(L20/BU20)*100000 -> 774.63026 | BL20: =CRIM002!G21 -> 121193 | BM20: =CRIM002!H21 -> 61513 | BN20: =CRIM002!I21 -> 59680 | BO20: =CRIM002!J21 -> 110057 | BP20: =CRIM002!K21 -> 56023 | BQ20: =CRIM002!L21 -> 54034 | BR20: =CRIM002!M21 -> 98844 | BS20: =CRIM002!N21 -> 50470 | ... BW20: =CRIM002!R21 -> 40917 | BX20: EUROSTATDS1T1
A21: LT | C21: 1263 | D21: 1190 | E21: 73 | F21: 1342 | G21: 1278 | H21: 64 | I21: 1197 | J21: 1132 | K21: 65 | L21: 1127 | P21: LTDS8T2 | Q21: LTDS10T2 | R21: TransMonEEDS5T2 | S21: UNODCDS1T2 | AJ21: =(C21/BL21)*100000 -> 624.20924 | AK21: =(D21/BM21)*100000 -> 1151.9288 | AL21: =(E21/BN21)*100000 -> 73.714291 | AM21: =(F21/BO21)*100000 -> 709.75999 | AN21: =(G21/BP21)*100000 -> 1322.0234 | AO21: =(H21/BQ21)*100000 -> 69.258073 | AP21: =(I21/BR21)*100000 -> 680.66668 | AQ21: =(J21/BS21)*100000 -> 1259.1629 | ... AS21: =(L21/BU21)*100000 -> 719.36935 | BL21: =CRIM002!G22 -> 202336 | BM21: =CRIM002!H22 -> 103305 | BN21: =CRIM002!I22 -> 99031 | BO21: =CRIM002!J22 -> 189078 | BP21: =CRIM002!K22 -> 96670 | BQ21: =CRIM002!L22 -> 92408 | BR21: =CRIM002!M22 -> 175857 | BS21: =CRIM002!N22 -> 89901 | ... BW21: =CRIM002!R22 -> 76514 | BX21: EUROSTATDS1T1
A22: LU | BL22: =CRIM002!G23 -> 11514 | BM22: =CRIM002!H23 -> 5972 | BN22: =CRIM002!I23 -> 5542 | BO22: =CRIM002!J23 -> 11623 | BP22: =CRIM002!K23 -> 5965 | BQ22: =CRIM002!L23 -> 5658 | BR22: =CRIM002!M23 -> 11989 | BS22: =CRIM002!N23 -> 6141 | ... BW22: =CRIM002!R23 -> 6061 | BX22: EUROSTATDS1T1
A23: HU | C23: 6234 | D23: 5515 | E23: 719 | F23: 6283 | G23: 5489 | H23: 825 | I23: 6554 | J23: 5729 | K23: 825 | L23: 5840 | M23: 5132 | N23: 708 | P23: TransMonEEDS5T2 | S23: HUDS7T2 | AJ23: =(C23/BL23)*100000 -> 1278.7981 | AK23: =(D23/BM23)*100000 -> 2214.1125 | AL23: =(E23/BN23)*100000 -> 301.58763 | AM23: =(F23/BO23)*100000 -> 1322.89 | AN23: =(G23/BP23)*100000 -> 2259.4242 | AO23: =(H23/BQ23)*100000 -> 355.59272 | AP23: =(I23/BR23)*100000 -> 1422.13 | AQ23: =(J23/BS23)*100000 -> 2429.076 | ... AU23: =(N23/BW23)*100000 -> 325.75688 | BL23: =CRIM002!G24 -> 487489 | BM23: =CRIM002!H24 -> 249084 | BN23: =CRIM002!I24 -> 238405 | BO23: =CRIM002!J24 -> 474945 | BP23: =CRIM002!K24 -> 242938 | BQ23: =CRIM002!L24 -> 232007 | BR23: =CRIM002!M24 -> 460858 | BS23: =CRIM002!N24 -> 235851 | ... BW23: =CRIM002!R24 -> 217340 | BX23: EUROSTATDS1T1
A24: MT | C24: 64 | F24: 50 | P24: UNODCDS1T2 | AJ24: =(C24/BL24)*100000 -> 287.08563 | AM24: =(F24/BO24)*100000 -> 229.84279 | BL24: =CRIM002!G25 -> 22293 | BM24: =CRIM002!H25 -> 11408 | BN24: =CRIM002!I25 -> 10885 | BO24: =CRIM002!J25 -> 21754 | BP24: =CRIM002!K25 -> 11112 | BQ24: =CRIM002!L25 -> 10642 | BR24: =CRIM002!M25 -> 21148 | BS24: =CRIM002!N25 -> 10863 | ... BW24: =CRIM002!R25 -> 9926 | BX24: EUROSTATDS1T1
A25: NL | C25: 12088 | F25: 10595 | I25: 9024 | L25: 596 | P25: UNODCDS1T2 | S25: NLDS19T2 | T25: NLDS26T2 | AJ25: =(C25/BL25)*100000 -> 1005.7033 | AM25: =(F25/BO25)*100000 -> 889.25035 | AP25: =(I25/BR25)*100000 -> 762.12097 | AS25: =(L25/BU25)*100000 -> 50.296632 | BL25: =CRIM002!G26 -> 1201945 | BM25: =CRIM002!H26 -> 614939 | BN25: =CRIM002!I26 -> 587006 | BO25: =CRIM002!J26 -> 1191453 | BP25: =CRIM002!K26 -> 609943 | BQ25: =CRIM002!L26 -> 581510 | BR25: =CRIM002!M26 -> 1184064 | BS25: =CRIM002!N26 -> 606063 | ... BW25: =CRIM002!R26 -> 578531 | BX25: EUROSTATDS1T1
A26: AT | C26: 2988 | F26: 3155 | P26: UNODCDS1T2 | AJ26: =(C26/BL26)*100000 -> 747.97236 | AM26: =(F26/BO26)*100000 -> 793.66477 | BL26: =CRIM002!G27 -> 399480 | BM26: =CRIM002!H27 -> 205046 | BN26: =CRIM002!I27 -> 194434 | BO26: =CRIM002!J27 -> 397523 | BP26: =CRIM002!K27 -> 204086 | BQ26: =CRIM002!L27 -> 193437 | BR26: =CRIM002!M27 -> 390159 | BS26: =CRIM002!N27 -> 200345 | ... BW26: =CRIM002!R27 -> 187256 | BX26: EUROSTATDS1T1
A27: PL | C27: 26957 | D27: 22462 | E27: 4495 | F27: 24953 | G27: 20453 | H27: 4500 | I27: 22758 | J27: 18318 | K27: 4440 | L27: 22807 | M27: 18237 | N27: 4570 | P27: TransMonEEDS5T2 | AJ27: =(C27/BL27)*100000 -> 1698.5581 | AK27: =(D27/BM27)*100000 -> 2766.757 | AL27: =(E27/BN27)*100000 -> 579.85111 | AM27: =(F27/BO27)*100000 -> 1641.3974 | AN27: =(G27/BP27)*100000 -> 2630.7936 | AO27: =(H27/BQ27)*100000 -> 605.8297 | AP27: =(I27/BR27)*100000 -> 1571.1491 | AQ27: =(J27/BS27)*100000 -> 2476.915 | ... AU27: =(N27/BW27)*100000 -> 673.10213 | BL27: =CRIM002!G28 -> 1587052 | BM27: =CRIM002!H28 -> 811853 | BN27: =CRIM002!I28 -> 775199 | BO27: =CRIM002!J28 -> 1520229 | BP27: =CRIM002!K28 -> 777446 | BQ27: =CRIM002!L28 -> 742783 | BR27: =CRIM002!M28 -> 1448494 | BS27: =CRIM002!N28 -> 739549 | ... BW27: =CRIM002!R28 -> 678946 | BX27: EUROSTATDS1T1
A28: PT | C28: 9732 | F28: 8411 | I28: 7647 | P28: UNODCDS1T2 | S28: PTDS1T2 | T28: PTDS2T2 | AJ28: =(C28/BL28)*100000 -> 4169.1657 | AM28: =(F28/BO28)*100000 -> 3667.4806 | AP28: =(I28/BR28)*100000 -> 3413.9155 | BL28: =CRIM002!G29 -> 233428 | BM28: =CRIM002!H29 -> 119134 | BN28: =CRIM002!I29 -> 114294 | BO28: =CRIM002!J29 -> 229340 | BP28: =CRIM002!K29 -> 116745 | BQ28: =CRIM002!L29 -> 112595 | BR28: =CRIM002!M29 -> 223995 | BS28: =CRIM002!N29 -> 114014 | ... BW28: =CRIM002!R29 -> 109691 | BX28: EUROSTATDS1T1
A29: RO | C29: 3624 | D29: 3418 | E29: 206 | F29: 3035 | G29: 2859 | H29: 176 | I29: 3263 | J29: 3079 | K29: 184 | L29: 3373 | M29: 3078 | N29: 295 | P29: TransMonEEDS5T2 | R29: RODS26T2 | S29: RODS3T2 | AJ29: =(C29/BL29)*100000 -> 350.48153 | AK29: =(D29/BM29)*100000 -> 646.58556 | AL29: =(E29/BN29)*100000 -> 40.761165 | AM29: =(F29/BO29)*100000 -> 312.34145 | AN29: =(G29/BP29)*100000 -> 574.57404 | AO29: =(H29/BQ29)*100000 -> 37.122422 | AP29: =(I29/BR29)*100000 -> 348.10866 | AQ29: =(J29/BS29)*100000 -> 642.01207 | ... AU29: =(N29/BW29)*100000 -> 66.840679 | BL29: =CRIM002!G30 -> 1034006 | BM29: =CRIM002!H30 -> 528623 | BN29: =CRIM002!I30 -> 505383 | BO29: =CRIM002!J30 -> 971693 | BP29: =CRIM002!K30 -> 497586 | BQ29: =CRIM002!L30 -> 474107 | BR29: =CRIM002!M30 -> 937351 | BS29: =CRIM002!N30 -> 479586 | ... BW29: =CRIM002!R30 -> 441348 | BX29: EUROSTATDS1T1
A30: SI | C30: 489 | D30: 455 | E30: 34 | F30: 418 | G30: 392 | H30: 26 | I30: 330 | J30: 303 | K30: 27 | L30: 369 | M30: 321 | N30: 48 | P30: SIDS8T2 | AJ30: =(C30/BL30)*100000 -> 575.99887 | AK30: =(D30/BM30)*100000 -> 1042.1916 | AL30: =(E30/BN30)*100000 -> 82.448227 | AM30: =(F30/BO30)*100000 -> 506.36592 | AN30: =(G30/BP30)*100000 -> 923.83107 | AO30: =(H30/BQ30)*100000 -> 64.810429 | AP30: =(I30/BR30)*100000 -> 411.37899 | AQ30: =(J30/BS30)*100000 -> 735.56187 | ... AU30: =(N30/BW30)*100000 -> 124.36522 | BL30: =CRIM002!G31 -> 84896 | BM30: =CRIM002!H31 -> 43658 | BN30: =CRIM002!I31 -> 41238 | BO30: =CRIM002!J31 -> 82549 | BP30: =CRIM002!K31 -> 42432 | BQ30: =CRIM002!L31 -> 40117 | BR30: =CRIM002!M31 -> 80218 | BS30: =CRIM002!N31 -> 41193 | ... BW30: =CRIM002!R31 -> 38596 | BX30: EUROSTATDS1T1
A31: SK | C31: 2126 | D31: 2005 | E31: 121 | F31: 2026 | G31: 1903 | H31: 123 | I31: 1748 | J31: 1639 | K31: 109 | L31: 1711 | M31: 1618 | N31: 93 | P31: SKDS16T2 | AJ31: =(C31/BL31)*100000 -> 703.50063 | AK31: =(D31/BM31)*100000 -> 1296.325 | AL31: =(E31/BN31)*100000 -> 82.014437 | AM31: =(F31/BO31)*100000 -> 700.45395 | AN31: =(G31/BP31)*100000 -> 1288.658 | AO31: =(H31/BQ31)*100000 -> 86.884042 | AP31: =(I31/BR31)*100000 -> 640.31415 | AQ31: =(J31/BS31)*100000 -> 1175.3569 | ... AU31: =(N31/BW31)*100000 -> 73.784343 | BL31: =CRIM002!G32 -> 302203 | BM31: =CRIM002!H32 -> 154668 | BN31: =CRIM002!I32 -> 147535 | BO31: =CRIM002!J32 -> 289241 | BP31: =CRIM002!K32 -> 147673 | BQ31: =CRIM002!L32 -> 141568 | BR31: =CRIM002!M32 -> 272991 | BS31: =CRIM002!N32 -> 139447 | ... BW31: =CRIM002!R32 -> 126043 | BX31: EUROSTATDS1T1
A32: FI | C32: 11469 | F32: 12343 | I32: 12212 | P32: UNODCDS1T2 | AJ32: =(C32/BL32)*100000 -> 5693.6481 | AM32: =(F32/BO32)*100000 -> 6159.2431 | AP32: =(I32/BR32)*100000 -> 6101.9422 | BL32: =CRIM002!G33 -> 201435 | BM32: =CRIM002!H33 -> 102796 | BN32: =CRIM002!I33 -> 98639 | BO32: =CRIM002!J33 -> 200398 | BP32: =CRIM002!K33 -> 102093 | BQ32: =CRIM002!L33 -> 98305 | BR32: =CRIM002!M33 -> 200133 | BS32: =CRIM002!N33 -> 101912 | ... BW32: =CRIM002!R33 -> 96521 | BX32: EUROSTATDS1T1
A33: SE | C33: 28820 | F33: 29650 | I33: 28963 | P33: UNODCDS1T2 | AJ33: =(C33/BL33)*100000 -> 7391.2787 | AM33: =(F33/BO33)*100000 -> 7752.9109 | AP33: =(I33/BR33)*100000 -> 7793.0639 | BL33: =CRIM002!G34 -> 389919 | BM33: =CRIM002!H34 -> 200743 | BN33: =CRIM002!I34 -> 189176 | BO33: =CRIM002!J34 -> 382437 | BP33: =CRIM002!K34 -> 196677 | BQ33: =CRIM002!L34 -> 185760 | BR33: =CRIM002!M34 -> 371651 | BS33: =CRIM002!N34 -> 190709 | ... BW33: =CRIM002!R34 -> 172288 | BX33: EUROSTATDS1T1
A34: UK E&W | C34: 88391 | F34: 81517 | I34: 73883 | P34: UNODCDS1T2 | S34: UKEWDS9T2 | AJ34: =(C34/BL34)*100000 -> 1658.4922 | AM34: =(F34/BO34)*100000 -> 1552.8231 | AP34: =(I34/BR34)*100000 -> 1430.2058 | BL34: =CRIM002!G35 -> 5329600 | BM34: =CRIM002!H35 -> 2733500 | BN34: =CRIM002!I35 -> 2596100 | BO34: =CRIM002!J35 -> 5249600 | BP34: =CRIM002!K35 -> 2691000 | BQ34: =CRIM002!L35 -> 2558600 | BR34: =CRIM002!M35 -> 5165900 | BS34: =CRIM002!N35 -> 2648300 | BT34: =CRIM002!O35 -> 2517600 | BX34: EUROSTATDS1T1
A35: UK NI | S35: UKNIDS6T2 | T35: UKNIDS3T2 | AJ35: =(C35/BL35)*100000 -> 0 | BL35: =CRIM002!G36 -> 199800 | BM35: =CRIM002!H36 -> 102500 | BN35: =CRIM002!I36 -> 97300 | BO35: =CRIM002!J36 -> 198200 | BP35: =CRIM002!K36 -> 101600 | BQ35: =CRIM002!L36 -> 96600 | BR35: =CRIM002!M36 -> 194900 | BS35: =CRIM002!N36 -> 99800 | BT35: =CRIM002!O36 -> 95100 | BX35: EUROSTATDS1T1
A36: UK Scot | C36: 14297 | F36: 12146 | I36: 10743 | P36: UNODCDS1T2 | AJ36: =(C36/BL36)*100000 -> 2366.2694 | AM36: =(F36/BO36)*100000 -> 2048.5748 | AP36: =(I36/BR36)*100000 -> 1852.2414 | BL36: =CRIM002!G37 -> 604200 | BM36: =CRIM002!H37 -> 309700 | BN36: =CRIM002!I37 -> 294500 | BO36: =CRIM002!J37 -> 592900 | BP36: =CRIM002!K37 -> 303500 | BQ36: =CRIM002!L37 -> 289400 | BR36: =CRIM002!M37 -> 580000 | BS36: =CRIM002!N37 -> 296900 | BT36: =CRIM002!O37 -> 283100 | BX36: EUROSTATDS1T1

Sheet CRIM015
A1: .
A2: CRIM015 Sentenced children for criminal activity receiving custodial sentences
B4: Notes | C4: Total number of sentenced children who received a custodial sentence by sex during a 12 month period | Q4: Number of sentenced children who received a custodial sentence | S4: Number of sentenced children who received a custodial sentence | AH4: Source | AK4: Percentage of children receiving a custodial sentence out of total sentenced children by sex during a 12 month period | AX4: Percentage of children receiving a custodial sentence out of total arrested children by sex during a 12 month period
C5: 2008 | F5: 2009 | I5: 2010 | L5: 2011 | O5: Age | Q5: Countries where further disaggregation is available | S5: Countries where approximate data are available | AK5: 2008 | AN5: 2009 | AQ5: 2010 | AT5: 2011 | AX5: 2008 | BA5: 2009 | BD5: 2010 | BG5: 2011
C6: Total | D6: Male | E6: Female | F6: Total | G6: Male | H6: Female | I6: Total | J6: Male | K6: Female | L6: Total | M6: Male | N6: Female | AK6: Total | AL6: Male | AM6: Female | AN6: Total | AO6: Male | AP6: Female | AQ6: Total | AR6: Male | AS6: Female | AT6: Total | AU6: Male | AV6: Female | AX6: Total | AY6: Male | AZ6: Female | BA6: Total | BB6: Male | BC6: Female | BD6: Total | BE6: Male | BF6: Female | BG6: Total | BH6: Male | BI6: Female
A7: BE
A8: BG
A9: CZ | C9: 152 | D9: 148 | E9: 4 | F9: 174 | G9: 166 | H9: 8 | I9: 151 | J9: 142 | K9: 9 | O9: <18 | AH9: CZDS20T2 | AK9: 5.3 | AN9: 6.4 | AQ9: 6.3
A10: DK | C10: 711 | D10: 648 | E10: 63 | F10: 772 | G10: 719 | H10: 53 | I10: 725 | J10: 683 | K10: 42 | L10: 693 | M10: 655 | N10: 38 | O10: 15-18 | Q10: DKDS12T2 | S10: DKDS14T2 | T10: DKDS18T2 | U10: DKDS9T2 | AH10: DKDS12T2 | AK10: 12.7 | AN10: 13.4
A11: DE | L11: 587 | M11: 555 | N11: 32 | O11: 14-17 | Q11: DEDS31T2 | S11: DEDS4T2 | T11: DEDS10T2 | U11: DEDS11T2 | V11: DEDS12T2 | W11: DEDS13T2 | X11: DEDS14T2 | Y11: DEDS15T2 | Z11: DEDS17T2 | AA11: DEDS18T2 | AB11: DEDS19T2 | AC11: DEDS20T2 | AD11: DEDS27T2 | AE11: DEDS28T2 | AF11: DEDS29T2 | AG11: DEDS30T2
A12: EE
A13: IE | C13: 280 | F13: 272 | I13: 221 | L13: 263 | O13: 10-18 | Q13: IEDS15T2 | S13: IEDS23T2 | AH13: IEDS15T2 | AK13: 8.9 | AN13: 11.3 | AQ13: 13
A14: EL | I14: 689 | O14: 13-18 | Q14: ELDS9T2 | R14: ELDS8T2 | AH14: ELDS9T2
A15: ES | C15: 1260 | D15: 1111 | E15: 149 | F15: 1205 | G15: 1081 | H15: 124 | I15: 1255 | J15: 1110 | K15: 145 | L15: 1245 | M15: 1135 | N15: 110 | O15: 14-17 | Q15: ESDS5T2 | AH15: ESDS5T2 | AK15: 7.9 | AL15: 8.2 | AM15: 6.1 | AN15: 6.9 | AO15: 7.3 | AP15: 4.4 | AQ15: 6.9 | AR15: 7.2 | AS15: 5 | AT15: 7.3 | AU15: 7.9 | AV15: 4.1
A16: FR | S16: FRDS15T2 | AK16: 1 | AN16: 0.9 | AQ16: 0.9
A17: HR | C17: 9 | F17: 12 | I17: 13 | L17: 15 | O17: 14-17 | Q17: HRDS6T2 | AH17: HRDS6T2 | AK17: 0.9 | AN17: 1.2 | AQ17: 1.4 | AT17: 1.8
A18: IT | C18: 3183 | D18: 528 | E18: 2655 | F18: 2719 | G18: 2230 | H18: 489 | I18: 3139 | J18: 2563 | K18: 576 | O18: 14-17 | Q18: ITDS19T2
A19: CY
A20: LV | C20: 265 | F20: 201 | I20: 157 | L20: 125 | O20: 14-17 | Q20: LVDS9T2 | AH20: LVDS9T2 | AK20: 22.9 | AN20: 21.5 | AQ20: 20.8 | AT20: 19.2
A21: LT | C21: 718 | F21: 746 | I21: 659 | L21: 580 | O21: 14-17 | Q21: LTDS9T2 | AH21: LTDS9T2 | AK21: 56.8 | AN21: 55.6 | AQ21: 55.1 | AT21: 51.5
A22: LU
A23: HU | C23: 427 | F23: 432 | I23: 405 | L23: 402 | O23: 14-17 | Q23: HUDS7T2 | AH23: HUDS7T2 | AK23: 6.8 | AN23: 6.9 | AQ23: 6.2 | AT23: 6.9 | AX23: =(C23*100)/CRIM009!B24 -> 66.9279 | BA23: =(F23*100)/CRIM009!E24 -> 69.565217 | BD23: =(I23*100)/CRIM009!H24 -> 75.418994
A24: MT | AK24: 0 | AN24: 0
A25: NL | C25: 418 | F25: 440 | I25: 370 | L25: 285 | Q25: NLDS15T2 | AH25: NLDS15T2 | AK25: 3.5 | AN25: 4.2 | AQ25: 4.1 | AT25: 47.8
A26: AT | F26: 1780 | O26: 14-17 | Q26: ATDS33T2 | AH26: ATDS33T2 | AI26: ATDS17T2 | AK26: 0.7 | AN26: 1.1
A27: PL | AK27: 0 | AN27: 0 | AQ27: 0
A28: PT | C28: 174 | F28: 149 | I28: 133 | L28: 105 | O28: 16-17 | Q28: PTDS2T2 | AH28: PTDS2T2 | AK28: 1.8 | AN28: 1.8 | AQ28: 1.7
A29: RO | C29: 431 | F29: 470 | I29: 459 | L29: 450 | Q29: RODS7T2 | R29: RODS26T2 | AK29: 11.9 | AN29: 15.5 | AQ29: 14.1 | AT29: 13.3 | AX29: =(C29*100)/CRIM009!B30 -> 63.103953 | BA29: =(F29*100)/CRIM009!E30 -> 63.002681 | BD29: =(I29*100)/CRIM009!H30 -> 100
A30: SI
A31: SK | C31: 107 | D31: 105 | E31: 2 | F31: 112 | G31: 109 | H31: 3 | I31: 104 | J31: 103 | K31: 1 | L31: 102 | M31: 99 | N31: 3 | Q31: SKDS3T2 | R31: SKDS2T2 | AH31: SKDS2T2 | AK31: 5 | AL31: 5.2 | AM31: 1.7 | AN31: 5.5 | AO31: 5.7 | AP31: 2.4 | AQ31: 5.9 | AR31: 6.3 | AS31: 0.9 | AT31: 6 | AU31: 6.1 | AV31: 3.2 | AX31: =(C31*100)/CRIM009!B32 -> 57.526882
A32: FI | F32: 41 | I32: 44 | L32: 53 | O32: <14-17 | Q32: FIDS4T2 | AH32: FIDS4T2 | AN32: 0.3 | AQ32: 0.4
A33: SE | C33: 77 | D33: 75 | E33: 2 | L33: 58 | M33: 53 | N33: 5 | O33: 15-17 | Q33: SEDS11T2 | AH33: SEDS11T2 | AK33: 0.3 | AN33: 0
A34: UK E&W | O34: 10 - 18 | Q34: UKEWDS24T2 | AH34: UKEWDS18T2,18 | AI34: UKEWDS9T2
A35: UK NI | C35: 357 | D35: 303 | E35: 54 | F35: 474 | G35: 421 | H35: 53 | I35: 551 | J35: 472 | K35: 79 | L35: 546 | M35: 476 | N35: 70 | O35: 10-17+ | Q35: UKNIDS4T2 | AH35: UKNIDS4T2 | AK35: 29.2
A36: UK Scot | C36: 489 | D36: 460 | E36: 29 | F36: 413 | G36: 378 | H36: 35 | I36: 296 | J36: 279 | K36: 17 | L36: 301 | M36: 291 | N36: 10 | O36: <16-17 | Q36: UKSDS5T2 | AH36: UKSDS5T2 | AK36: 3.4 | AN36: 3.4 | AQ36: 2.8
A38: Note: *The age of children varies between Member States - hence column 0 shows the ages in different Member States for nominators

Sheet CRIM016
A1: .
A2: CRIM016: Children receiving alternative sentences (monetary sanctions, Community Sanctions and Measures (CSM) or being under probation and suspended sentences) (2008, 2009, 2010, 2011)
B6: Total number of children receiving alternative sentences (monetary sanctions, CSM or being under probation and suspended sentences) | AV6: Percentage of children receiving alternative sentences (monetary sanctions, CSM or being under probation and suspended sentences) out of total number of charged children | BK6: Total number of children charged with an offence | BO6: Source
B7: Monetary sanctions | Y7: CMS or being under probation | AN7: Suspended sentence | AV7: Monetary sanctions | BA7: CMS or being under probation | BF7: Suspended sentence
B8: Notes | C8: 2008 | D8: 2009 | E8: 2010 | F8: 2011 | H8: Age | I8: Source | K8: Countries where further levels of disaggregation are available | M8: Countries where approximate data are available | Y8: Notes | Z8: 2008 | AA8: 2009 | AB8: 2010 | AC8: 2011 | AE8: Age | AF8: Source | AH8: Countries where further levels of disaggregation are available | AJ8: Countries where approximate data are available | AN8: 2008 | AO8: 2009 | AP8: 2010 | AQ8: 2011 | AR8: Age | AS8: Source | AT8: Countries where further levels of disaggregation are available | AV8: 2008 | AW8: 2009 | AX8: 2010 | AY8: 2011 | BA8: 2008 | BB8: 2009 | BC8: 2010 | BD8: 2011 | BF8: 2008 | BG8: 2009 | BH8: 2010 | BI8: 2011 | BK8: 2008 | BL8: 2009 | BM8: 2010 | BN8: 2011
A9: BE | AA9: 305 | AB9: 439 | AE9: 0-17 | AF9: SPACE II, FLOW
A10: BG | AB10: 5,221 | AE10: 0-17 | AF10: SPACE II, FLOW
A11: CZ | AB11: 3,823 | AE11: 0-14, 15-17 | AF11: SPACE II, FLOW
A12: DK | M12: DKDS18T2 | N12: DKDS9T2 | O12: DKDS14T2 | AA12: 349 | AE12: 14-17 | AF12: SPACE II, FLOW | AJ12: DKDS14T2 | AN12: 1779 | AO12: 1918 | AP12: 2117 | AQ12: 1737 | AR12: 15-18 | AS12: DKDS11T18
A13: DE | K13: DEDS20T2 | M13: DEDS10T2 | N13: DEDS11T2 | O13: DEDS12T2 | P13: DEDS14T2 | Q13: DEDS15T2 | R13: DEDS17T2 | S13: DEDS18T2 | AB13: 35529 | AF13: DEDS32T2 | AH13: DEDS34T2 | AJ13: DEDS33T2
A14: EE | AJ14: SPACE II, STOCK
A15: IE | C15: 246 | D15: 277 | E15: 276 | F15: 288 | I15: IEDS15T2 | AJ15: IEDS13T2 | AK15: IEDS9T2 | AL15: IEDS10T2 | AN15: 150 | AO15: 126 | AP15: 135 | AR15: 10 - 18 | AS15: IEDS15T2
A16: EL | E16: 56 | H16: 13-18 | I16: ELDS8T2 | J16: ESDS9T2 | K16: ELDS8T2 | L16: ESDS9T2 | AB16: 2,888 | AE16: 13-18 | AF16: ELDS8T2 | AG16: ESDS9T2 | AH16: ELDS8T2 | AI16: ESDS9T2
A17: ES | AJ17: ESDS5T2 | AK17: ESDS25T2 | AL17: ESDS31T2
A18: FR | M18: FRDS9T2 | AH18: FRDS9T2 | AJ18: FRDS48T2 | AK18: FRDS19T2 | AL18: FRDS50T2 | AN18: 14611 | AO18: 12849 | AP18: 12950 | AR18: 0-17 | AS18: FRDS9T2 | AX18: 7 | BC18: 32 | BH18: 23 | BM18: 56707 | BN18: - | BO18: FRDS49T2
A19: HR | Z19: 897 | AA19: 925 | AB19: 867 | AE19: 14-17 | AF19: HRDS6T2 | AH19: HRDS6T2 | AN19: 52 | AO19: 50 | AP19: 45 | AQ19: 33 | AR19: 14-17 | AS19: HRDS6T2 | AT19: HRDS6T2 | BA19: 69 | BB19: 75 | BC19: 68 | BF19: 4 | BG19: 4 | BH19: 4 | BI19: 3 | BK19: 1296 | BL19: 1238 | BM19: 1269 | BN19: 1084 | BO19: TransMonEEDS4T2
A20: IT | C20: 3 | D20: 5 | E20: 6 | H20: 14-17 | I20: ITDS20T2 | AB20: 300 | AC20: 378 | AE20: 14-17 | AF20: ITDS7T11 | AN20: 5 | AO20: 3 | AP20: 4 | AR20: 14-17 | AS20: ITDS20T2
A21: CY | C21: 28 | D21: 16 | I21: CYDS15T2 | Z21: 101 | AA21: 67 | AF21: CYDS15T2 | AH21: CYDS15T2 | AN21: 8 | AO21: 5 | AS21: CYDS15T2
A22: LV | C22: 7 | D22: 2 | E22: 6 | F22: 2 | H22: 14-17 | I22: LVDS10T2 | K22: LVDS10T2 | Z22: 299 | AA22: 283 | AB22: 341 | AC22: 237 | AE22: 14-17 | AF22: LVDS10T2 | AH22: LVDS10T2 | AI22: LVDS24T2 | AJ22: LVDS9T2 | AK22: LVDS20T2 | AL22: LVDS6T2 | AN22: 639 | AO22: 493 | AP22: 398 | AQ22: 309 | AR22: 14-17 | AS22: LVDS9T2 | AT22: LVDS9T2 | BO22: TransMonEEDS4T2
A23: LT | C23: 64 | D23: 81 | E23: 62 | F23: 44 | H23: 14-17 | I23: LTDS9T2 | K23: LTDS9T2 | Z23: 432 | AA23: 465 | AB23: 445 | AC23: 444 | AE23: 14-17 | AF23: LTDS9T2 | AH23: LTDS9T2 | AV23: 2 | AW23: 2 | AX23: 2 | AY23: 2 | BA23: 12 | BB23: 14 | BC23: 16 | BD23: 17 | BF23: 0 | BG23: 0 | BH23: 0 | BI23: 0 | BK23: 3627 | BL23: 3353 | BM23: 2865 | BN23: 2612 | BO23: LTDS3T2
A24: LU
A25: HU | Z25: 3515 | AA25: 3403 | AB25: 3,136 | AC25: 3321 | AE25: 14-17 | AF25: HUDS8T2 | AH25: HUDS8T2 | AN25: 1183 | AO25: 1330 | AP25: 1385 | AQ25: 1465 | AR25: 14-17 | AS25: HUDS7T2 | BA25: 54 | BB25: 53 | BC25: 47 | BD25: 56 | BF25: 18 | BG25: 21 | BH25: 21 | BI25: 25 | BK25: 6532 | BL25: 6481 | BM25: 6743 | BN25: 5970 | BO25: TransMonEEDS4T2
A26: MT | AB26: 79 | AF26: SPACE II, FLOW
A27: NL | Z27: 22096 | AA27: 21122 | AB27: 18,069 | AC27: 16526 | AE27: 0-17 | AF27: NLDS11T12 | AH27: NLDS11T12 | AJ27: NLDS12T12 | AK27: NLDS20T2 | AL27: NLDS2T2
A28: AT | D28: 3298 | I28: ATDS33T2 | K28: ATDS33T2 | AA28: 3486 | AB28: 4,196 | AE28: 14-17 | AF28: SPACE II, FLOW | BF28: 0 | BK28: 36543 | BO28: ATDS34T2
A29: PL | Z29: 36832 | AA29: 33991 | AB29: 31,784 | AC29: 30999 | AE29: 13-16 | AF29: PLDS5T2 | AH29: PLDS5T2 | AI29: PLDS1T18-PLDS7T18 | AJ29: PLDS1T18-PLDS7T18 | BA29: 71 | BB29: 67 | BC29: 62 | BD29: 62 | BF29: 0 | BG29: 0 | BH29: 0 | BI29: 0 | BK29: 52081 | BL29: 50800 | BM29: 51162 | BN29: 49654 | BO29: TransMonEEDS4T2
A30: PT | C30: 85 | D30: 89 | E30: 58 | F30: 55 | H30: 7-17 | I30: PTDS3T2 | K30: PTDS3T2 | Z30: 895 | AA30: 846 | AB30: 1,268 | AC30: 1045 | AE30: 7-17 y | AF30: PTDS3T2 | AH30: PTDS3T2 | AJ30: PTDS5T2 | AN30: 367 | AO30: 400 | AP30: 442 | AQ30: 439 | AR30: 16-17 | AS30: PTDS2T2
A31: RO | C31: 112 | D31: 59 | E31: 101 | F31: 102 | H31: 14-17 | I31: RODS3T2 | K31: RODS3T2 | L31: RODS26T2 | Z31: 204 | AA31: 156 | AB31: 137 | AC31: 146 | AE31: 14-17 | AF31: RODS3T2 | AH31: RODS3T2 | AI31: RODS26T2 | AJ31: RODS3T2 | AN31: 1944 | AO31: 1704 | AP31: 1791 | AQ31: 2167 | AR31: 14-17 | AS31: RODS3T2 | AT31: RODS3T2 | AV31: 1 | AW31: 0 | AX31: 1 | AY31: 1 | BA31: 2 | BB31: 1 | BC31: 1 | BD31: 1 | BF31: 15 | BG31: 14 | BH31: 15 | BI31: 20 | BK31: 13197 | BL31: 12474 | BM31: 11732 | BN31: 10764 | BO31: TransMonEEDS4T2
A32: SI | C32: 3 | D32: 1 | E32: 2 | F32: 1 | H32: 14-18 | I32: SIDS8T2 | K32: SIDS8T2 | Z32: 352 | AA32: 316 | AB32: 240 | AC32: 265 | AE32: 14-18 | AF32: SIDS8T2 | AH32: SIDS8T2 | AV32: 0 | AW32: 0 | AX32: 0 | AY32: 0 | BA32: 24 | BB32: 20 | BC32: 17 | BD32: 20 | BF32: 0 | BG32: 0 | BH32: 0 | BI32: 0 | BK32: 1473 | BL32: 1563 | BM32: 1454 | BN32: 1319 | BO32: TransMonEEDS4T2
A33: SK | C33: 27 | D33: 20 | E33: 21 | F33: 17 | H33: 14-17 | I33: SKDS16T2 | K33: SKDS16T2 | AN33: 1325 | AO33: 1211 | AP33: 1058 | AQ33: 1029 | AR33: 14-17 | AS33: SKDS16T2 | AT33: SKDS16T2 | AV33: 1 | AW33: 1 | AX33: 1 | AY33: 1 | BF33: 54 | BG33: 56 | BH33: 42 | BI33: 46 | BK33: 2437 | BL33: 2158 | BM33: 2545 | BN33: 2238 | BO33: TransMonEEDS4T2
A34: FI | AA34: 274 | AC34: 14 | AF34: SPACE II, FLOW | AJ34: FIDS10T2
A35: SE | F35: 3801 | H35: 15-17 | I35: SEDS1T2 | K35: SEDS1T2 | AC35: 3750 | AE35: 15-17 | AF35: SEDS1T2 | AH35: SEDS1T2 | AP35: 13 | AR35: 15-17 | AS35: SEDS1T2 | BK35: - | BL35: - | BM35: - | BN35: -
A36: UK E&W | C36: 9041 | D36: 7939 | E36: 6496 | F36: 5143 | H36: 10 - 18 | I36: UKEWDS24T2 | K36: UKEWDS24T2 | M36: UKEWDS9T18 | AJ36: UKEWDS9T2
A37: UK NI | Z37: 121 | AA37: 86 | AB37: 99 | AC37: 101 | AE37: 10-17 y | AF37: UKNIDS4T2 | AH37: UKNIDS4T2
A38: UK Scot

Sheet CRIM026new CRIM273
A2: CRIM026new Children serving Community Sanctions and Measures (CSM) or being under probation
A3: Unit: persons, rate, per cent
B6: Notes | C6: Total number of children serving Community Sanctions and Measures (CSM) or being under probation | P6: Source | R6: Children serving Community Sanctions and Measures (CSM) or being under probation | S6: Children serving Community Sanctions and Measures (CSM) or being under probation | U6: Number of children serving Community Sanctions and Measures (CSM) or being under probation per 100,000 child population (aged above MACR and below 18) by sex during a 12 month period | AH6: Percentage of children serving Community Sanctions and Measures (CSM) or being under probationn detention out of total persons serving Community Sanctions and Measures (CSM) or being under probation by sex during a 12 month period | AU6: Number of children above the minimum age of criminal responsibility and below the age of 18
C7: 2008 | F7: 2009 | I7: 2010 | L7: 2011 | U7: 2008 | X7: 2009 | AA7: 2010 | AD7: 2011 | AH7: 2008 | AK7: 2009 | AN7: 2010 | AQ7: 2011 | AU7: 2010 | AX7: Source
C8: Total | D8: Male | E8: Female | F8: Total | G8: Male | H8: Female | I8: Total | J8: Male | K8: Female | L8: Total | M8: Male | N8: Female | R8: Countries where further levels of dissagregation are available | S8: Countries where approximate data are available | U8: Total | V8: Male | W8: Female | X8: Total | Y8: Male | Z8: Female | AA8: Total | AB8: Male | AC8: Female | AD8: Total | AE8: Male | AF8: Female | AH8: Total | AI8: Male | AJ8: Female | AK8: Total | AL8: Male | AM8: Female | AN8: Total | AO8: Male | AP8: Female | AQ8: Total | AR8: Male | AS8: Female | AU8: Total | AV8: Male | AW8: Female
A9: EU27 | AU9: =CRIM002!#REF! -> #REF! | AV9: =CRIM002!#REF! -> #REF! | AW9: =CRIM002!#REF! -> #REF! | AX9: =CRIM002!#REF! -> #REF!
A10: AT | AU10: =CRIM002!M8 -> 259281 | AV10: =CRIM002!N8 -> 132204 | AW10: =CRIM002!O8 -> 127077 | AX10: =CRIM002!S8 -> EUROSTATDS1T1data
A11: BE | AU11: =CRIM002!M9 -> 299246 | AV11: =CRIM002!N9 -> 153295 | AW11: =CRIM002!O9 -> 145951 | AX11: =CRIM002!S9 -> EUROSTATDS1T1data
A12: BG | AU12: =CRIM002!M10 -> 352641 | AV12: =CRIM002!N10 -> 180891 | AW12: =CRIM002!O10 -> 171750 | AX12: =CRIM002!S10 -> EUROSTATDS1T1data
A13: CY | AU13: =CRIM002!M11 -> 214192 | AV13: =CRIM002!N11 -> 109809 | AW13: =CRIM002!O11 -> 104383 | AX13: =CRIM002!S11 -> EUROSTATDS1T1data
A14: CZ | AU14: =CRIM002!M12 -> 3238514 | AV14: =CRIM002!N12 -> 1661368 | AW14: =CRIM002!O12 -> 1577146 | AX14: =CRIM002!S12 -> EUROSTATDS1T1data
A15: DE | AU15: =CRIM002!M13 -> 56983 | AV15: =CRIM002!N13 -> 29173 | AW15: =CRIM002!O13 -> 27810 | AX15: =CRIM002!S13 -> EUROSTATDS1T1data
A16: DK | AU16: =CRIM002!M14 -> 459383 | AV16: =CRIM002!N14 -> 235544 | AW16: =CRIM002!O14 -> 223839 | AX16: =CRIM002!S14 -> EUROSTATDS1T1data
A17: EE | AU17: =CRIM002!M15 -> 336136 | AV17: =CRIM002!N15 -> 173116 | AW17: =CRIM002!O15 -> 163020 | AX17: =CRIM002!S15 -> EUROSTATDS1T1data
A18: EL | AU18: =CRIM002!M16 -> 1734993 | AV18: =CRIM002!N16 -> 891538 | AW18: =CRIM002!O16 -> 843455 | AX18: =CRIM002!S16 -> EUROSTATDS1T1data
A19: ES | AU19: =CRIM002!M17 -> 3941583 | AV19: =CRIM002!N17 -> 2017129 | AW19: =CRIM002!O17 -> 1924454 | AX19: =CRIM002!S17 -> EUROSTATDS1T1data
A20: FI | AU20: =CRIM002!M18 -> 200584 | AV20: =CRIM002!N18 -> 102558 | AW20: =CRIM002!O18 -> 98026 | AX20: =CRIM002!S18 -> EUROSTATDS1T1data
A21: FR | AU21: =CRIM002!M19 -> 2308870 | AV21: =CRIM002!N19 -> 1188149 | AW21: =CRIM002!O19 -> 1120721 | AX21: =CRIM002!S19 -> EUROSTATDS1T1data
... A35: SK | AU35: =CRIM002!M33 -> 200133 | AV35: =CRIM002!N33 -> 101912 | AW35: =CRIM002!O33 -> 98221 | AX35: =CRIM002!S33 -> EUROSTATDS1T1data
A36: UK | AU36: =CRIM002!#REF! -> #REF! | AV36: =CRIM002!#REF! -> #REF! | AW36: =CRIM002!#REF! -> #REF! | AX36: =CRIM002!#REF! -> #REF!
A37: UK EN& Wal | AU37: =CRIM002!#REF! -> #REF! | AV37: =CRIM002!#REF! -> #REF! | AW37: =CRIM002!#REF! -> #REF! | AX37: =CRIM002!#REF! -> #REF!
A38: UK NI | AU38: =CRIM002!M35 -> 5165900 | AV38: =CRIM002!N35 -> 2648300 | AW38: =CRIM002!O35 -> 2517600 | AX38: =CRIM002!S35 -> EUROSTATDS1T1data
A39: UK Scot | AU39: =CRIM002!M36 -> 194900 | AV39: =CRIM002!N36 -> 99800 | AW39: =CRIM002!O36 -> 95100 | AX39: =CRIM002!S36 -> EUROSTATDS1T1data
A40: HR | AU40: =CRIM002!M37 -> 580000 | AV40: =CRIM002!N37 -> 296900 | AW40: =CRIM002!O37 -> 283100 | AX40: =CRIM002!S37 -> EUROSTATDS1T1data
A42: Note: *Calculated by SPACEI. For more information see SPACEIDS1T2data

Sheet CRIM017
A1: .
A2: CRIM017 Sentenced children who lodged an appeal
B5: Notes | C5: Number of sentenced children who lodged an appeal during a 12 month period | L5: Percentage of children sentenced during a 12 month period who lodged an appeal
C6: 2008 | D6: 2009 | E6: 2010 | F6: 2011 | G6: Source | H6: Countries where further disaggregation is available | I6: Countries where approximate data are available | L6: 2008 | M6: 2009 | N6: 2010 | O6: 2011
A8: BE
A9: BG
A10: CZ
A11: DK
A12: DE | I12: DEDS7T2
A13: EE
A14: IE | I14: IEDS18T2 | J14: IEDS19T2
A15: EL | I15: ELDS10T2
A16: ES | I16: ESDS16T2
A17: FR | I17: FRDS43T2
A18: HR
A19: IT | I19: ITDS21T2 | J19: ITDS9T2
A20: CY
A21: LV | I21: LVDS22T2 | J21: LVDS28T2 | K21: LVDS30T2,16 | L21: 25.7 | M21: 34.6 | N21: 27.9 | O21: 28
A22: LT
A23: LU
A24: HU
A25: MT
A26: NL
A27: AT
A28: PL
A29: PT
A30: RO
A31: SI
A32: SK
A33: FI
... A37: UK Scot

Sheet CRIM018
A1: .
A2: CRIM018 Sentenced children for criminal activity by selected types of crime (homicides, sexual offences, property crimes)
A3: Definition: Data refer to children sentenced for homicides, sexual offences and property crimes. Definitions of crime vary considerably across Member States - hence column C provides more details on types of crime included in each sub-category in (Member) States.
B5: Notes | C5: Number of sentenced children for criminal activity by selected types of crime (homicides, sexual offences, property crimes) | AH5: Number of sentenced children for criminal activity by selected types of crime (homicides, sexual offences, property crimes) per 100,000 child population (aged above MACR and below 18) during a 12 month period | AT5: Number of children above the minimum age of criminal responsibility and below the age of 18
C6: 2008 | F6: 2009 | I6: 2010 | L6: 2011 | O6: Age* | P6: Source | R6: Datasets where further disaggregation is available | U6: Datasets where approximate data is available | AH6: 2008 | AK6: 2009 | AN6: 2010 | AQ6: 2011 | AT6: 2008 | AU6: 2009 | AV6: 2010 | AW6: 2011 | AX6: Source
C7: Homicides | D7: Sexual Offences | E7: Property Crimes | F7: Homicides | G7: Sexual Offences | H7: Property Crimes | I7: Homicides | J7: Sexual Offences | K7: Property Crimes | L7: Homicides | M7: Sexual Offences | N7: Property Crimes | AH7: Homicides | AI7: Sexual Offences | AJ7: Property Crimes | AK7: Homicides | AL7: Sexual Offences | AM7: Property Crimes | AN7: Homicides | AO7: Sexual Offences | AP7: Property Crimes | AQ7: Homicides | AR7: Sexual Offences | AS7: Property Crimes
A9: BE | AT9: =CRIM002!G8 -> 263617 | AU9: =CRIM002!J8 -> 264296 | AV9: =CRIM002!M8 -> 259281 | AW9: =CRIM002!P8 -> 253925 | AX9: EUROSTATDS1T1
A10: BG | C10: 8 | D10: 61 | E10: 2412 | F10: 6 | G10: 46 | H10: 2464 | I10: 9 | J10: 37 | K10: 2111 | L10: 7 | M10: 56 | N10: 2275 | P10: BGDS6T2 | Q10: BGDS5T2 | R10: BGDS1T2 | S10: BGDS6T2 | U10: BGDS8T2 | AH10: =(C10/$AT10)*100000 -> 2.3203337 | AI10: =(D10/$AT10)*100000 -> 17.692544 | AJ10: =(E10/$AT10)*100000 -> 699.5806 | AK10: =(F10/$AU10)*100000 -> 1.8650975 | AL10: =(G10/$AU10)*100000 -> 14.299081 | AM10: =(H10/$AU10)*100000 -> 765.93337 | AN10: =(I10/$AV10)*100000 -> 3.007559 | AO10: =(J10/$AV10)*100000 -> 12.364409 | AP10: =(K10/$AV10)*100000 -> 705.43967 | AQ10: =(L10/$AW10)*100000 -> 2.5185111 | AR10: =(M10/$AW10)*100000 -> 20.148088 | AS10: =(N10/$AW10)*100000 -> 818.51609 | AT10: =CRIM002!G9 -> 344778 | AU10: =CRIM002!J9 -> 321699 | AV10: =CRIM002!M9 -> 299246 | AW10: =CRIM002!P9 -> 277942 | AX10: EUROSTATDS1T1
A11: CZ | C11: 10 | D11: 117 | E11: 997 | F11: 3 | G11: 93 | H11: 1311 | I11: 4 | J11: 112 | K11: 1223 | L11: 2 | M11: 95 | N11: 1265 | O11: 15-17 | P11: CZDS23T2 | Q11: CZDS23T2 | R11: CZDS23T2 | U11: CZDS17T2 | AH11: =(C11/$AT11)*100000 -> 2.6164654 | AI11: =(D11/$AT11)*100000 -> 30.612645 | AJ11: =(E11/$AT11)*100000 -> 260.8616 | AK11: =(F11/$AU11)*100000 -> 0.80219695 | AL11: =(G11/$AU11)*100000 -> 24.868105 | AM11: =(H11/$AU11)*100000 -> 350.56007 | AN11: =(I11/$AV11)*100000 -> 1.1342981 | AO11: =(J11/$AV11)*100000 -> 31.760346 | AP11: =(K11/$AV11)*100000 -> 346.81163 | AQ11: =(L11/$AW11)*100000 -> 0.61426759 | AR11: =(M11/$AW11)*100000 -> 29.177711 | AS11: =(N11/$AW11)*100000 -> 388.52425 | AT11: =CRIM002!G10 -> 382195 | AU11: =CRIM002!J10 -> 373973 | AV11: =CRIM002!M10 -> 352641 | AW11: =CRIM002!P10 -> 325591 | AX11: EUROSTATDS1T1
A12: DK | C12: 2 | D12: 65 | E12: 3056 | F12: 1 | G12: 47 | H12: 3300 | I12: 1 | J12: 40 | K12: 3109 | L12: 0 | M12: 60 | N12: 2976 | Q12: UNODCDS1T2 | R12: DKDS8T2 | S12: DKDS6T2 | U12: DKDS14T2 | V12: DKDS15T2 | AH12: =(C12/$AT12)*100000 -> 0.97291881 | AI12: =(D12/$AT12)*100000 -> 31.619861 | AJ12: =(E12/$AT12)*100000 -> 1486.6199 | AK12: =(F12/$AU12)*100000 -> 0.47819662 | AL12: =(G12/$AU12)*100000 -> 22.475241 | AM12: =(H12/$AU12)*100000 -> 1578.0489 | AN12: =(I12/$AV12)*100000 -> 0.46687084 | AO12: =(J12/$AV12)*100000 -> 18.674834 | AP12: =(K12/$AV12)*100000 -> 1451.5015 | AQ12: =(L12/$AW12)*100000 -> 0 | AR12: =(M12/$AW12)*100000 -> 27.784853 | AS12: =(N12/$AW12)*100000 -> 1378.1287 | AT12: =CRIM002!G11 -> 205567 | AU12: =CRIM002!J11 -> 209119 | AV12: =CRIM002!M11 -> 214192 | AW12: =CRIM002!P11 -> 215945 | AX12: EUROSTATDS1T1
A13: DE | I13: 80 | J13: 726 | K13: 4406 | P13: DEDS23T2 | Q13: UNODCDS1T2 | R13: DEDS23T2 | S13: DEDS20T2 | U13: DEDS31T2 | V13: DEDS34T2 | W13: DEDS43T2 | X13: DEDS10T2 | Y13: DEDS11T2 | Z13: DEDS12T2 | AA13: DEDS14T2 | AB13: DEDS15T2 | AC13: DEDS16T2 | AD13: DEDS17T2 | AE13: DEDS31T2 | AF13: DEDS34T2 | AG13: DEDS43T2 | AT13: =CRIM002!G12 -> 3509997 | AU13: =CRIM002!J12 -> 3333801 | AV13: =CRIM002!M12 -> 3238514 | AW13: =CRIM002!P12 -> 3204259 | AX13: EUROSTATDS1T1
A14: EE | D14: 2 | G14: 2 | J14: 3 | M14: 1 | P14: TransMonEEDS5T2 | Q14: EEDS7T2 | AI14: =(D14/$AT14)*100000 -> 2.9304888 | AL14: =G14/$AU14*100000 -> 3.2458575 | AO14: =J14/$AV14*100000 -> 5.2647281 | AR14: =M14/$AW14*100000 -> 1.889145 | AT14: =CRIM002!G13 -> 68248 | AU14: =CRIM002!J13 -> 61617 | AV14: =CRIM002!M13 -> 56983 | AW14: =CRIM002!P13 -> 52934 | AX14: EUROSTATDS1T1
A15: IE | C15: 3 | D15: 7 | E15: 1373 | F15: 4 | G15: 5 | H15: 912 | I15: 0 | J15: 5 | K15: 741 | P15: IEDS26T2 | AH15: =C15/$AT15*100000 -> 0.66270516 | AI15: =D15/$AT15*100000 -> 1.546312 | AJ15: =E15/$AT15*100000 -> 303.29806 | AK15: =F15/$AU15*100000 -> 0.87615351 | AL15: =G15/$AU15*100000 -> 1.0951919 | AM15: =H15/$AU15*100000 -> 199.763 | AN15: =I15/$AV15*100000 -> 0 | AO15: =J15/$AV15*100000 -> 1.0884164 | AP15: =K15/$AV15*100000 -> 161.30331 | AT15: =CRIM002!G14 -> 452690 | AU15: =CRIM002!J14 -> 456541 | AV15: =CRIM002!M14 -> 459383 | AW15: =CRIM002!P14 -> 468781 | AX15: EUROSTATDS1T1
A16: EL | C16: 0 | D16: 6 | E16: 234 | P16: ELDS14T2 | R16: ELDS15T2 | AH16: =C16/$AT16*100000 -> 0 | AI16: =D16/$AT16*100000 -> 1.7251294 | AJ16: =E16/$AT16*100000 -> 67.280046 | AT16: =CRIM002!G15 -> 347800 | AU16: =CRIM002!J15 -> 339985 | AV16: =CRIM002!M15 -> 336136 | AW16: =CRIM002!P15 -> 332797 | AX16: EUROSTATDS1T1
A17: ES | C17: 19 | D17: 152 | E17: 4654 | F17: 23 | G17: 148 | H17: 4697 | I17: 36 | J17: 167 | K17: 4768 | L17: 14 | M17: 117 | N17: 4546 | P17: ESDS1T2 | R17: ESDS1T2 | U17: UNODCDS1T2 | V17: ESDS20T2 | AH17: =C17/$AT17*100000 -> 1.0764592 | AI17: =D17/$AT17*100000 -> 8.6116736 | AJ17: =E17/$AT17*100000 -> 263.67585 | AK17: =F17/$AU17*100000 -> 1.3107415 | AL17: =G17/$AU17*100000 -> 8.4343364 | AM17: =H17/$AU17*100000 -> 267.6762 | AN17: =I17/$AV17*100000 -> 2.0749363 | AO17: =J17/$AV17*100000 -> 9.6253991 | AP17: =K17/$AV17*100000 -> 274.81379 | AQ17: =L17/$AW17*100000 -> 0.81500067 | AR17: =M17/$AW17*100000 -> 6.811077 | AS17: =N17/$AW17*100000 -> 264.64236 | AT17: =CRIM002!G16 -> 1765046 | AU17: =CRIM002!J16 -> 1754732 | AV17: =CRIM002!M16 -> 1734993 | AW17: =CRIM002!P16 -> 1717790 | AX17: EUROSTATDS1T1
A18: FR | C18: 14 | D18: 441 | E18: 29020 | F18: 16 | G18: 397 | H18: 27005 | I18: 21 | J18: 362 | K18: 25213 | P18: UNODCDS1T2 | R18: FRDS18T2 | S18: FRDS33T2 | U18: FRDS17T2 | V18: FRDS34T2 | W18: FRDS36T2 | X18: FRDS37T2 | Y18: FRDS38T2 | AH18: =C18/$AT18*100000 -> 0.35218389 | AI18: =D18/$AT18*100000 -> 11.093793 | AJ18: =E18/$AT18*100000 -> 730.0269 | AK18: =F18/$AU18*100000 -> 0.40525699 | AL18: =G18/$AU18*100000 -> 10.055439 | AM18: =H18/$AU18*100000 -> 683.99782 | AN18: =I18/$AV18*100000 -> 0.53278086 | AO18: =J18/$AV18*100000 -> 9.1841273 | AP18: =K18/$AV18*100000 -> 639.66685 | AT18: =CRIM002!G17 -> 3975196 | AU18: =CRIM002!J17 -> 3948112 | AV18: =CRIM002!M17 -> 3941583 | AW18: =CRIM002!P17 -> 3938236 | AX18: EUROSTATDS1T1
A19: HR | D19: 32 | E19: 618 | G19: 28 | H19: 576 | J19: 31 | K19: 579 | M19: 23 | N19: 489 | P19: HRDS5T2 | R19: HRDS7T2 | S19: HRDS8T2 | AI19: =D19/$AT19*100000 -> 15.541072 | AJ19: =E19/$AT19*100000 -> 300.13696 | AL19: =G19/$AU19*100000 -> 13.779867 | AM19: =H19/$AU19*100000 -> 283.47154 | AO19: =J19/$AV19*100000 -> 15.454872 | AP19: =K19/$AV19*100000 -> 288.65712 | AR19: =M19/$AW19*100000 -> 11.292611 | AS19: =N19/$AW19*100000 -> 240.09073 | AT19: =CRIM002!G18 -> 205906 | AU19: =CRIM002!J18 -> 203195 | AV19: =CRIM002!M18 -> 200584 | AW19: =CRIM002!P18 -> 203673 | AX19: EUROSTATDS1T1
A20: IT | C20: 18 | D20: 54 | E20: 2330 | F20: 14 | G20: 50 | H20: 2036 | I20: 20 | J20: 50 | K20: 2368 | P20: ITDS22T2 | AH20: 1 | AI20: 2 | AJ20: 99 | AK20: 1 | AL20: 2 | AM20: 87 | AN20: 1 | AO20: 2 | AP20: 103 | AT20: =CRIM002!G19 -> 2353535 | AU20: =CRIM002!J19 -> 2332765 | AV20: =CRIM002!M19 -> 2308870 | AW20: =CRIM002!P19 -> 2279534 | AX20: EUROSTATDS1T1
A21: CY | R21: CYDS14T2 | AT21: =CRIM002!G20 -> 44893 | AU21: =CRIM002!J20 -> 45049 | AV21: =CRIM002!M20 -> 48711 | AW21: =CRIM002!P20 -> 47581 | AX21: EUROSTATDS1T1
A22: LV | U22: TransMonEEDS5T2 | V22: LVDS7T2 | W22: LVDS8T2 | X22: LVDS9T2 | Y22: LVDS10T2 | AG22: LVDS21T2 | AT22: =CRIM002!G21 -> 121193 | AU22: =CRIM002!J21 -> 110057 | AV22: =CRIM002!M21 -> 98844 | AW22: =CRIM002!P21 -> 83911 | AX22: EUROSTATDS1T1
A23: LT | C23: 25 | D23: 17 | E23: 1132 | F23: 13 | G23: 24 | H23: 1349 | I23: 26 | J23: 20 | K23: 1003 | L23: 16 | M23: 22 | N23: 880 | P23: LTDS10T2 | AH23: =C23/$AT23*100000 -> 12.355686 | AI23: =D23/$AT23*100000 -> 8.4018662 | AJ23: =E23/$AT23*100000 -> 559.46544 | AK23: =F23/$AU23*100000 -> 6.8754694 | AL23: =G23/$AU23*100000 -> 12.693174 | AM23: =H23/$AU23*100000 -> 713.46217 | AN23: =I23/$AV23*100000 -> 14.78474 | AO23: =J23/$AV23*100000 -> 11.372877 | AP23: =K23/$AV23*100000 -> 570.34977 | AQ23: =L23/$AW23*100000 -> 10.212875 | AR23: =M23/$AW23*100000 -> 14.042703 | AS23: =N23/$AW23*100000 -> 561.7081 | AT23: =CRIM002!G22 -> 202336 | AU23: =CRIM002!J22 -> 189078 | AV23: =CRIM002!M22 -> 175857 | AW23: =CRIM002!P22 -> 156665 | AX23: EUROSTATDS1T1
A24: LU | U24: LUDS1T2 | AT24: =CRIM002!G23 -> 11514 | AU24: =CRIM002!J23 -> 11623 | AV24: =CRIM002!M23 -> 11989 | AW24: =CRIM002!P23 -> 12321 | AX24: EUROSTATDS1T1
A25: HU | P25: HUDS4T2 | R25: HUDS4T2 | U25: TransMonEEDS5T2 | V25: HUDS2T2 | AT25: =CRIM002!G24 -> 487489 | AU25: =CRIM002!J24 -> 474945 | AV25: =CRIM002!M24 -> 460858 | AW25: =CRIM002!P24 -> 445532 | AX25: EUROSTATDS1T1
A26: MT | P26: UNODCDS1T2 | AT26: =CRIM002!G25 -> 22293 | AU26: =CRIM002!J25 -> 21754 | AV26: =CRIM002!M25 -> 21148 | AW26: =CRIM002!P25 -> 20493 | AX26: EUROSTATDS1T1
A27: NL | D27: 133 | E27: 319 | G27: 113 | H27: 310 | J27: 95 | K27: 308 | M27: 80 | N27: 300 | P27: UNODCDS1T2 | R27: NLDS36T2 | U27: NLD2T2 | V27: NLD27T2 | AI27: =D27/$AT27*100000 -> 11.065398 | AJ27: =E27/$AT27*100000 -> 26.540316 | AL27: =G27/$AU27*100000 -> 9.484218 | AM27: =H27/$AU27*100000 -> 26.018651 | AO27: =J27/$AV27*100000 -> 8.023215 | AP27: =K27/$AV27*100000 -> 26.012107 | AR27: =M27/$AW27*100000 -> 6.7512258 | AS27: =N27/$AW27*100000 -> 25.317097 | AT27: =CRIM002!G26 -> 1201945 | AU27: =CRIM002!J26 -> 1191453 | AV27: =CRIM002!M26 -> 1184064 | AW27: =CRIM002!P26 -> 1184970 | AX27: EUROSTATDS1T1
A28: AT | P28: UNODCDS1T2 | R28: ATDS33T2 | U28: ATDS35T2 | V28: ATDS12T2 | W28: ATDS28T2 | X28: ATDS30T2,3 | Y28: ATDS18T2 | AT28: =CRIM002!G27 -> 399480 | AU28: =CRIM002!J27 -> 397523 | AV28: =CRIM002!M27 -> 390159 | AW28: =CRIM002!P27 -> 384062 | AX28: EUROSTATDS1T1
A29: PL | U29: PLDS4T2 | V29: PLDS10T2 | W29: PLDS12T2 | X29: PLDS13T2 | Y29: PLDS14T2 | AG29: PLDS18T2 | AT29: =CRIM002!G28 -> 1587052 | AU29: =CRIM002!J28 -> 1520229 | AV29: =CRIM002!M28 -> 1448494 | AW29: =CRIM002!P28 -> 1387473 | AX29: EUROSTATDS1T1
A30: PT | AT30: =CRIM002!G29 -> 233428 | AU30: =CRIM002!J29 -> 229340 | AV30: =CRIM002!M29 -> 223995 | AW30: =CRIM002!P29 -> 224413 | AX30: EUROSTATDS1T1
A31: RO | C31: 27 | D31: 77 | E31: 2910 | F31: 27 | G31: 56 | H31: 2392 | I31: 39 | J31: 78 | K31: 2379 | L31: 50 | M31: 58 | N31: 3014 | P31: TransMonEEDS5T2 | Q31: RODS3T2 | R31: RODS3T2 | U31: TransMonEEDS5T2 | V31: RODS7T2 | W31: RODS8T2 | X31: RODS9T2 | AH31: =C31/$AT31*100000 -> 2.6112034 | AI31: =D31/$AT31*100000 -> 7.4467653 | AJ31: =E31/$AT31*100000 -> 281.4297 | AK31: =F31/$AU31*100000 -> 2.7786554 | AL31: =G31/$AU31*100000 -> 5.7631371 | AM31: =H31/$AU31*100000 -> 246.16829 | AN31: =I31/$AV31*100000 -> 4.1606613 | AO31: =J31/$AV31*100000 -> 8.3213225 | AP31: =K31/$AV31*100000 -> 253.80034 | AQ31: =L31/$AW31*100000 -> 5.531157 | AR31: =M31/$AW31*100000 -> 6.4161421 | AS31: =N31/$AW31*100000 -> 333.41814 | AT31: =CRIM002!G30 -> 1034006 | AU31: =CRIM002!J30 -> 971693 | AV31: =CRIM002!M30 -> 937351 | AW31: =CRIM002!P30 -> 903970 | AX31: EUROSTATDS1T1
A32: SI | D32: 19 | E32: 310 | G32: 11 | H32: 269 | J32: 14 | K32: 200 | M32: 7 | N32: 206 | P32: SIDS7T2,16 | R32: SIDS7T2,16 | U32: SIDS11T2,18 | AI32: =D32/$AT32*100000 -> 22.380324 | AJ32: =E32/$AT32*100000 -> 365.15266 | AL32: =G32/$AU32*100000 -> 13.325419 | AM32: =H32/$AU32*100000 -> 325.86706 | AO32: =J32/$AV32*100000 -> 17.452442 | AP32: =K32/$AV32*100000 -> 249.3206 | AR32: =M32/$AW32*100000 -> 8.8302449 | AS32: =N32/$AW32*100000 -> 259.86149 | AT32: =CRIM002!G31 -> 84896 | AU32: =CRIM002!J31 -> 82549 | AV32: =CRIM002!M31 -> 80218 | AW32: =CRIM002!P31 -> 79273 | AX32: EUROSTATDS1T1
A33: SK | U33: SKDS15T2 | AT33: =CRIM002!G32 -> 302203 | AU33: =CRIM002!J32 -> 289241 | AV33: =CRIM002!M32 -> 272991 | AW33: =CRIM002!P32 -> 258520 | AX33: EUROSTATDS1T1
A34: FI | P34: UNODCDS1T2 | AT34: =CRIM002!G33 -> 201435 | AU34: =CRIM002!J33 -> 200398 | AV34: =CRIM002!M33 -> 200133 | AW34: =CRIM002!P33 -> 196619 | AX34: EUROSTATDS1T1
A35: SE | L35: 3 | M35: 89 | N35: 4918 | O35: 15-17 | P35: SEDS21T2 | U35: SEDS25T2 | V35: SEDS29T2 | W35: SEDS30T2 | X35: SEDS31T2 | Y35: SEDS33T2 | AQ35: =L35/$AW35*100000 -> 0.84713457 | AR35: =M35/$AW35*100000 -> 25.131659 | AS35: =N35/$AW35*100000 -> 1388.7359 | AT35: =CRIM002!G34 -> 389919 | AU35: =CRIM002!J34 -> 382437 | AV35: =CRIM002!M34 -> 371651 | AW35: =CRIM002!P34 -> 354135 | AX35: EUROSTATDS1T1
A36: UK E&W | P36: UNODCDS1T2 | AT36: =CRIM002!G35 -> 5329600 | AU36: =CRIM002!J35 -> 5249600 | AV36: =CRIM002!M35 -> 5165900 | AX36: EUROSTATDS1T1
A37: UK NI | AT37: =CRIM002!G36 -> 199800 | AU37: =CRIM002!J36 -> 198200 | AV37: =CRIM002!M36 -> 194900 | AX37: EUROSTATDS1T1
A38: UK Scot | P38: UNODCDS1T2 | AT38: =CRIM002!G37 -> 604200 | AU38: =CRIM002!J37 -> 592900 | AV38: =CRIM002!M37 -> 580000 | AX38: EUROSTATDS1T1
A40: Note: *The age of children varies between Member States - hence column 0 shows the ages in different Member States for nominators

Sheet CRIM019
A1: .
A2: CRIM019 Repeat child offenders
B5: Notes | C5: Total number of repeat child offenders | O5: Age | Q5: Source | S5: Countries where further disaggregation exists | W5: Countries where approximate data exist | AA5: Number of repeat child offenders per 100,000 child population (above MACR and below18) | AN5: Percentage of child offenders with prior convictions out of total sentenced children | BA5: Number of children above the minimum age of criminal responsibility and below the age of 18
C6: 2008 | F6: 2009 | I6: 2010 | L6: 2011 | AA6: 2008 | AD6: 2009 | AG6: 2010 | AJ6: 2011 | AN6: 2008 | AQ6: 2009 | AT6: 2010 | AW6: 2011 | BA6: 2008 | BD6: 2009 | BG6: 2010 | BJ6: 2011 | BM6: Source
C7: Total | D7: Male | E7: Female | F7: Total | G7: Male | H7: Female | I7: Total | J7: Male | K7: Female | L7: Total | M7: Male | N7: Female | AA7: Total | AB7: Male | AC7: Female | AD7: Total | AE7: Male | AF7: Female | AG7: Total | AH7: Male | AI7: Female | AJ7: Total | AK7: Male | AL7: Female | AN7: Total | AO7: Male | AP7: Female | AQ7: Total | AR7: Male | AS7: Female | AT7: Total | AU7: Male | AV7: Female | AW7: Total | AX7: Male | AY7: Female | BA7: Total | BB7: Male | BC7: Female | BD7: Total | BE7: Male | BF7: Female | BG7: Total | BH7: Male | BI7: Female | BJ7: Total | BK7: Male | BL7: Female
A8: BE | BA8: =CRIM002!G8 -> 263617 | BB8: =CRIM002!H8 -> 134778 | BC8: =CRIM002!I8 -> 128839 | BD8: =CRIM002!J8 -> 264296 | BE8: =CRIM002!K8 -> 135041 | BF8: =CRIM002!L8 -> 129255 | BG8: =CRIM002!M8 -> 259281 | BH8: =CRIM002!N8 -> 132204 | ... BL8: =CRIM002!R8 -> 123714 | BM8: EUROSTATDS1T1
A9: BG | C9: 316 | F9: 389 | I9: 349 | Q9: TransOtherDS4T2 | AA9: =(C9/BA9)*100000 -> 91.65318 | AD9: =(F9/BD9)*100000 -> 120.92049 | AG9: =(I9/BG9)*100000 -> 116.62645 | BA9: =CRIM002!G9 -> 344778 | BB9: =CRIM002!H9 -> 177223 | BC9: =CRIM002!I9 -> 167555 | BD9: =CRIM002!J9 -> 321699 | BE9: =CRIM002!K9 -> 165177 | BF9: =CRIM002!L9 -> 156522 | BG9: =CRIM002!M9 -> 299246 | BH9: =CRIM002!N9 -> 153295 | ... BL9: =CRIM002!R9 -> 135053 | BM9: EUROSTATDS1T1
A10: CZ | C10: 3212 | F10: 3218 | I10: 1280 | Q10: TransOtherDS4T2 | AA10: =(C10/BA10)*100000 -> 840.40869 | AD10: =(F10/BD10)*100000 -> 860.48993 | AG10: =(I10/BG10)*100000 -> 362.97538 | BA10: =CRIM002!G10 -> 382195 | BB10: =CRIM002!H10 -> 196205 | BC10: =CRIM002!I10 -> 185990 | BD10: =CRIM002!J10 -> 373973 | BE10: =CRIM002!K10 -> 192023 | BF10: =CRIM002!L10 -> 181950 | BG10: =CRIM002!M10 -> 352641 | BH10: =CRIM002!N10 -> 180891 | ... BL10: =CRIM002!R10 -> 158604 | BM10: EUROSTATDS1T1
A11: DK | F11: 7088 | G11: 6677 | H11: 411 | I11: 6884 | J11: 6434 | K11: 450 | O11: 15-19 | Q11: DKDS3T2 | R11: DKDS4T2,18data | S11: DKDS1T2,18data | T11: DKDS2T18 | U11: DKDS3T2 | V11: DKDS4T2,18data | AD11: =(F11/BD11)*100000 -> 3389.4577 | AE11: =(G11/BE11)*100000 -> 6223.726 | AF11: =(H11/BF11)*100000 -> 403.59009 | AG11: =(I11/BG11)*100000 -> 3213.9389 | AH11: =(J11/BH11)*100000 -> 5859.2647 | AI11: =(K11/BI11)*100000 -> 431.10468 | BA11: =CRIM002!G11 -> 205567 | BB11: =CRIM002!H11 -> 105557 | BC11: =CRIM002!I11 -> 100010 | BD11: =CRIM002!J11 -> 209119 | BE11: =CRIM002!K11 -> 107283 | BF11: =CRIM002!L11 -> 101836 | BG11: =CRIM002!M11 -> 214192 | BH11: =CRIM002!N11 -> 109809 | ... BL11: =CRIM002!R11 -> 105229 | BM11: EUROSTATDS1T1
A12: DE | W12: DEDS30T2 | X12: DEDS42T2 | BA12: =CRIM002!G12 -> 3509997 | BB12: =CRIM002!H12 -> 1799990 | BC12: =CRIM002!I12 -> 1710007 | BD12: =CRIM002!J12 -> 3333801 | BE12: =CRIM002!K12 -> 1709884 | BF12: =CRIM002!L12 -> 1623917 | BG12: =CRIM002!M12 -> 3238514 | BH12: =CRIM002!N12 -> 1661368 | ... BL12: =CRIM002!R12 -> 1558960 | BM12: EUROSTATDS1T1
A13: EE | BA13: =CRIM002!G13 -> 68248 | BB13: =CRIM002!H13 -> 35058 | BC13: =CRIM002!I13 -> 33190 | BD13: =CRIM002!J13 -> 61617 | BE13: =CRIM002!K13 -> 31543 | BF13: =CRIM002!L13 -> 30074 | BG13: =CRIM002!M13 -> 56983 | BH13: =CRIM002!N13 -> 29173 | ... BL13: =CRIM002!R13 -> 25831 | BM13: EUROSTATDS1T1
A14: IE | W14: IEDS27T2 | BA14: =CRIM002!G14 -> 452690 | BB14: =CRIM002!H14 -> 232137 | BC14: =CRIM002!I14 -> 220553 | BD14: =CRIM002!J14 -> 456541 | BE14: =CRIM002!K14 -> 234091 | BF14: =CRIM002!L14 -> 222450 | BG14: =CRIM002!M14 -> 459383 | BH14: =CRIM002!N14 -> 235544 | ... BL14: =CRIM002!R14 -> 228212 | BM14: EUROSTATDS1T1
A15: EL | L15: 5732 | O15: 13-18 | Q15: ELDS5T2 | R15: ELDS6T2 | W15: ELDS4T2 | AJ15: =(L15/BJ15)*100000 -> 1722.3713 | BA15: =CRIM002!G15 -> 347800 | BB15: =CRIM002!H15 -> 179623 | BC15: =CRIM002!I15 -> 168177 | BD15: =CRIM002!J15 -> 339985 | BE15: =CRIM002!K15 -> 174852 | BF15: =CRIM002!L15 -> 165133 | BG15: =CRIM002!M15 -> 336136 | BH15: =CRIM002!N15 -> 173116 | ... BL15: =CRIM002!R15 -> 161266 | BM15: EUROSTATDS1T1
A16: ES | BA16: =CRIM002!G16 -> 1765046 | BB16: =CRIM002!H16 -> 907868 | BC16: =CRIM002!I16 -> 857178 | BD16: =CRIM002!J16 -> 1754732 | BE16: =CRIM002!K16 -> 902213 | BF16: =CRIM002!L16 -> 852519 | BG16: =CRIM002!M16 -> 1734993 | BH16: =CRIM002!N16 -> 891538 | ... BL16: =CRIM002!R16 -> 835583 | BM16: EUROSTATDS1T1
A17: FR | C17: 363 | F17: 369 | I17: 442 | O17: 0-18 | Q17: FRDS21T2 | R17: FRDS22T2 | AA17: =(C17/BA17)*100000 -> 9.1316252 | AD17: =(F17/BD17)*100000 -> 9.3462394 | AG17: =(I17/BG17)*100000 -> 11.213769 | BA17: =CRIM002!G17 -> 3975196 | BB17: =CRIM002!H17 -> 2033685 | BC17: =CRIM002!I17 -> 1941511 | BD17: =CRIM002!J17 -> 3948112 | BE17: =CRIM002!K17 -> 2018784 | BF17: =CRIM002!L17 -> 1929328 | BG17: =CRIM002!M17 -> 3941583 | BH17: =CRIM002!N17 -> 2017129 | ... BL17: =CRIM002!R17 -> 1922459 | BM17: EUROSTATDS1T1
A18: HR | C18: 451 | F18: 387 | I18: 392 | Q18: TransOtherDS4T2 | W18: HRDS8T2 | AA18: =(C18/BA18)*100000 -> 219.03199 | AD18: =(F18/BD18)*100000 -> 190.45744 | AG18: =(I18/BG18)*100000 -> 195.42935 | BA18: =CRIM002!G18 -> 205906 | BB18: =CRIM002!H18 -> 105426 | BC18: =CRIM002!I18 -> 100480 | BD18: =CRIM002!J18 -> 203195 | BE18: =CRIM002!K18 -> 104003 | BF18: =CRIM002!L18 -> 99192 | BG18: =CRIM002!M18 -> 200584 | BH18: =CRIM002!N18 -> 102558 | ... BL18: =CRIM002!R18 -> 99541 | BM18: EUROSTATDS1T1
A19: IT | C19: 1340 | D19: 1127 | E19: 213 | F19: 1266 | G19: 1026 | H19: 240 | I19: 1494 | J19: 1220 | K19: 274 | Q19: ITDS23T2 | AA19: =(C19/BA19)*100000 -> 56.935631 | AB19: =(D19/BB19)*100000 -> 93.18108 | AC19: =(E19/BC19)*100000 -> 18.617872 | AD19: =(F19/BD19)*100000 -> 54.270362 | AE19: =(G19/BE19)*100000 -> 85.54434 | AF19: =(H19/BF19)*100000 -> 21.175468 | AG19: =(I19/BG19)*100000 -> 64.706978 | AH19: =(J19/BH19)*100000 -> 102.68072 | AI19: =(K19/BI19)*100000 -> 24.448547 | BA19: =CRIM002!G19 -> 2353535 | BB19: =CRIM002!H19 -> 1209473 | BC19: =CRIM002!I19 -> 1144062 | BD19: =CRIM002!J19 -> 2332765 | BE19: =CRIM002!K19 -> 1199378 | BF19: =CRIM002!L19 -> 1133387 | BG19: =CRIM002!M19 -> 2308870 | BH19: =CRIM002!N19 -> 1188149 | ... BL19: =CRIM002!R19 -> 1105694 | BM19: EUROSTATDS1T1
A20: CY | BA20: =CRIM002!G20 -> 44893 | BB20: =CRIM002!H20 -> 22881 | BC20: =CRIM002!I20 -> 22012 | BD20: =CRIM002!J20 -> 45049 | BE20: =CRIM002!K20 -> 22960 | BF20: =CRIM002!L20 -> 22089 | BG20: =CRIM002!M20 -> 48711 | BH20: =CRIM002!N20 -> 24958 | ... BL20: =CRIM002!R20 -> 23129 | BM20: EUROSTATDS1T1
A21: LV | C21: 310 | F21: 245 | I21: 188 | L21: 183 | O21: 14-17 | Q21: LVDS9T2 | R21: LVDS10T2 | S21: LVDS9T2 | T21: LVDS10T2 | W21: LVDS3T2 | X21: LVDS6T2 | Y21: LVDS26T18 | AA21: =(C21/BA21)*100000 -> 255.79035 | AD21: =(F21/BD21)*100000 -> 222.61192 | AG21: =(I21/BG21)*100000 -> 190.1987 | AJ21: =(L21/BJ21)*100000 -> 218.08821 | BA21: =CRIM002!G21 -> 121193 | BB21: =CRIM002!H21 -> 61513 | BC21: =CRIM002!I21 -> 59680 | BD21: =CRIM002!J21 -> 110057 | BE21: =CRIM002!K21 -> 56023 | BF21: =CRIM002!L21 -> 54034 | BG21: =CRIM002!M21 -> 98844 | BH21: =CRIM002!N21 -> 50470 | ... BL21: =CRIM002!R21 -> 40917 | BM21: EUROSTATDS1T1
A22: LT | C22: 294 | F22: 185 | I22: 214 | L22: 174 | O22: 14-17 | Q22: TransOtherDS4T2 | R22: LTDS3T2 | S22: LTDS3T2 | AA22: =(C22/BA22)*100000 -> 145.30286 | AD22: =(F22/BD22)*100000 -> 97.843218 | AG22: =(I22/BG22)*100000 -> 121.68978 | AJ22: =(L22/BJ22)*100000 -> 111.06501 | BA22: =CRIM002!G22 -> 202336 | BB22: =CRIM002!H22 -> 103305 | BC22: =CRIM002!I22 -> 99031 | BD22: =CRIM002!J22 -> 189078 | BE22: =CRIM002!K22 -> 96670 | BF22: =CRIM002!L22 -> 92408 | BG22: =CRIM002!M22 -> 175857 | BH22: =CRIM002!N22 -> 89901 | ... BL22: =CRIM002!R22 -> 76514 | BM22: EUROSTATDS1T1
A23: LU | BA23: =CRIM002!G23 -> 11514 | BB23: =CRIM002!H23 -> 5972 | BC23: =CRIM002!I23 -> 5542 | BD23: =CRIM002!J23 -> 11623 | BE23: =CRIM002!K23 -> 5965 | BF23: =CRIM002!L23 -> 5658 | BG23: =CRIM002!M23 -> 11989 | BH23: =CRIM002!N23 -> 6141 | ... BL23: =CRIM002!R23 -> 6061 | BM23: EUROSTATDS1T1
A24: HU | C24: 1738 | F24: 1537 | I24: 936 | L24: 956 | O24: 14-17 | Q24: TransOtherDS4T2 | R24: HUDS6T2 | S24: HUDS6T2 | W24: HUDS6T2 | AA24: =(C24/BA24)*100000 -> 356.52087 | AD24: =(F24/BD24)*100000 -> 323.61642 | AG24: =(I24/BG24)*100000 -> 203.09944 | AJ24: =(L24/BJ24)*100000 -> 214.57494 | BA24: =CRIM002!G24 -> 487489 | BB24: =CRIM002!H24 -> 249084 | BC24: =CRIM002!I24 -> 238405 | BD24: =CRIM002!J24 -> 474945 | BE24: =CRIM002!K24 -> 242938 | BF24: =CRIM002!L24 -> 232007 | BG24: =CRIM002!M24 -> 460858 | BH24: =CRIM002!N24 -> 235851 | ... BL24: =CRIM002!R24 -> 217340 | BM24: EUROSTATDS1T1
A25: MT | BA25: =CRIM002!G25 -> 22293 | BB25: =CRIM002!H25 -> 11408 | BC25: =CRIM002!I25 -> 10885 | BD25: =CRIM002!J25 -> 21754 | BE25: =CRIM002!K25 -> 11112 | BF25: =CRIM002!L25 -> 10642 | BG25: =CRIM002!M25 -> 21148 | BH25: =CRIM002!N25 -> 10863 | ... BL25: =CRIM002!R25 -> 9926 | BM25: EUROSTATDS1T1
A26: NL | W26: NLDS7T2 | X26: NLDS24T2,18 | Y26: NLD40T2data | BA26: =CRIM002!G26 -> 1201945 | BB26: =CRIM002!H26 -> 614939 | BC26: =CRIM002!I26 -> 587006 | BD26: =CRIM002!J26 -> 1191453 | BE26: =CRIM002!K26 -> 609943 | BF26: =CRIM002!L26 -> 581510 | BG26: =CRIM002!M26 -> 1184064 | BH26: =CRIM002!N26 -> 606063 | ... BL26: =CRIM002!R26 -> 578531 | BM26: EUROSTATDS1T1
A27: AT | BA27: =CRIM002!G27 -> 399480 | BB27: =CRIM002!H27 -> 205046 | BC27: =CRIM002!I27 -> 194434 | BD27: =CRIM002!J27 -> 397523 | BE27: =CRIM002!K27 -> 204086 | BF27: =CRIM002!L27 -> 193437 | BG27: =CRIM002!M27 -> 390159 | BH27: =CRIM002!N27 -> 200345 | ... BL27: =CRIM002!R27 -> 187256 | BM27: EUROSTATDS1T1
A28: PL | C28: 4773 | F28: 4521 | I28: 4457 | Q28: TransOtherDS4T2 | AA28: =(C28/BA28)*100000 -> 300.74629 | AD28: =(F28/BD28)*100000 -> 297.38941 | AG28: =(I28/BG28)*100000 -> 307.69889 | BA28: =CRIM002!G28 -> 1587052 | BB28: =CRIM002!H28 -> 811853 | BC28: =CRIM002!I28 -> 775199 | BD28: =CRIM002!J28 -> 1520229 | BE28: =CRIM002!K28 -> 777446 | BF28: =CRIM002!L28 -> 742783 | BG28: =CRIM002!M28 -> 1448494 | BH28: =CRIM002!N28 -> 739549 | ... BL28: =CRIM002!R28 -> 678946 | BM28: EUROSTATDS1T1
A29: PT | BA29: =CRIM002!G29 -> 233428 | BB29: =CRIM002!H29 -> 119134 | BC29: =CRIM002!I29 -> 114294 | BD29: =CRIM002!J29 -> 229340 | BE29: =CRIM002!K29 -> 116745 | BF29: =CRIM002!L29 -> 112595 | BG29: =CRIM002!M29 -> 223995 | BH29: =CRIM002!N29 -> 114014 | ... BL29: =CRIM002!R29 -> 109691 | BM29: EUROSTATDS1T1
A30: RO | C30: 157 | F30: 130 | I30: 56 | L30: 10 | O30: 14-17 | Q30: RODS18T2 | S30: RODS18T2 | AA30: =(C30/BA30)*100000 -> 15.183664 | AD30: =(F30/BD30)*100000 -> 13.378711 | AG30: =(I30/BG30)*100000 -> 5.9742828 | AJ30: =(L30/BJ30)*100000 -> 1.1062314 | BA30: =CRIM002!G30 -> 1034006 | BB30: =CRIM002!H30 -> 528623 | BC30: =CRIM002!I30 -> 505383 | BD30: =CRIM002!J30 -> 971693 | BE30: =CRIM002!K30 -> 497586 | BF30: =CRIM002!L30 -> 474107 | BG30: =CRIM002!M30 -> 937351 | BH30: =CRIM002!N30 -> 479586 | ... BL30: =CRIM002!R30 -> 441348 | BM30: EUROSTATDS1T1
A31: SI | C31: 375 | F31: 405 | I31: 345 | Q31: TransOtherDS4T2 | W31: SIDS8T2 | AA31: =(C31/BA31)*100000 -> 441.71692 | AD31: =(F31/BD31)*100000 -> 490.61769 | AG31: =(I31/BG31)*100000 -> 430.07804 | BA31: =CRIM002!G31 -> 84896 | BB31: =CRIM002!H31 -> 43658 | BC31: =CRIM002!I31 -> 41238 | BD31: =CRIM002!J31 -> 82549 | BE31: =CRIM002!K31 -> 42432 | BF31: =CRIM002!L31 -> 40117 | BG31: =CRIM002!M31 -> 80218 | BH31: =CRIM002!N31 -> 41193 | ... BL31: =CRIM002!R31 -> 38596 | BM31: EUROSTATDS1T1
A32: SK | C32: 603 | F32: 570 | I32: 557 | Q32: TransOtherDS4T2 | AA32: =(C32/BA32)*100000 -> 199.53475 | AD32: =(F32/BD32)*100000 -> 197.0675 | AG32: =(I32/BG32)*100000 -> 204.03603 | BA32: =CRIM002!G32 -> 302203 | BB32: =CRIM002!H32 -> 154668 | BC32: =CRIM002!I32 -> 147535 | BD32: =CRIM002!J32 -> 289241 | BE32: =CRIM002!K32 -> 147673 | BF32: =CRIM002!L32 -> 141568 | BG32: =CRIM002!M32 -> 272991 | BH32: =CRIM002!N32 -> 139447 | ... BL32: =CRIM002!R32 -> 126043 | BM32: EUROSTATDS1T1
A33: FI | BA33: =CRIM002!G33 -> 201435 | BB33: =CRIM002!H33 -> 102796 | BC33: =CRIM002!I33 -> 98639 | BD33: =CRIM002!J33 -> 200398 | BE33: =CRIM002!K33 -> 102093 | BF33: =CRIM002!L33 -> 98305 | BG33: =CRIM002!M33 -> 200133 | BH33: =CRIM002!N33 -> 101912 | ... BL33: =CRIM002!R33 -> 96521 | BM33: EUROSTATDS1T1
A34: SE | BA34: =CRIM002!G34 -> 389919 | BB34: =CRIM002!H34 -> 200743 | BC34: =CRIM002!I34 -> 189176 | BD34: =CRIM002!J34 -> 382437 | BE34: =CRIM002!K34 -> 196677 | BF34: =CRIM002!L34 -> 185760 | BG34: =CRIM002!M34 -> 371651 | BH34: =CRIM002!N34 -> 190709 | ... BL34: =CRIM002!R34 -> 172288 | BM34: EUROSTATDS1T2
A35: UK E&W | C35: 44837 | D35: 33523 | E35: 11314 | F35: 37472 | G35: 27674 | H35: 9798 | O35: 10-17 | Q35: UKEWDS5T2 | S35: UKEWDS5T2 | W35: UKEWDS5T2 | X35: UKEWDS13T2 | AA35: =(C35/BA35)*100000 -> 841.28265 | AB35: =(D35/BB35)*100000 -> 1226.3764 | AC35: =(E35/BC35)*100000 -> 435.80756 | AD35: =(F35/BD35)*100000 -> 713.80677 | AE35: =(G35/BE35)*100000 -> 1028.3909 | AF35: =(H35/BF35)*100000 -> 382.9438 | BA35: =CRIM002!G35 -> 5329600 | BB35: =CRIM002!H35 -> 2733500 | BC35: =CRIM002!I35 -> 2596100 | BD35: =CRIM002!J35 -> 5249600 | BE35: =CRIM002!K35 -> 2691000 | BF35: =CRIM002!L35 -> 2558600 | BG35: =CRIM002!M35 -> 5165900 | BH35: =CRIM002!N35 -> 2648300 | BI35: =CRIM002!O35 -> 2517600 | BM35: EUROSTATDS1T1
A36: UK NI | BA36: =CRIM002!G36 -> 199800 | BB36: =CRIM002!H36 -> 102500 | BC36: =CRIM002!I36 -> 97300 | BD36: =CRIM002!J36 -> 198200 | BE36: =CRIM002!K36 -> 101600 | BF36: =CRIM002!L36 -> 96600 | BG36: =CRIM002!M36 -> 194900 | BH36: =CRIM002!N36 -> 99800 | BI36: =CRIM002!O36 -> 95100 | BM36: EUROSTATDS1T1
A37: UK Scot | C37: 1674 | D37: 1505 | E37: 169 | F37: 1470 | G37: 1328 | H37: 142 | I37: 1134 | J37: 1016 | K37: 118 | O37: Under 21 | Q37: UKSDS7T12 | S37: UKSDS7T12 | AA37: =(C37/BA37)*100000 -> 277.06058 | AB37: =(D37/BB37)*100000 -> 485.95415 | AC37: =(E37/BC37)*100000 -> 57.385399 | AD37: =(F37/BD37)*100000 -> 247.93388 | AE37: =(G37/BE37)*100000 -> 437.56178 | AF37: =(H37/BF37)*100000 -> 49.067035 | AG37: =(I37/BG37)*100000 -> 195.51724 | AH37: =(J37/BH37)*100000 -> 342.20276 | AI37: =(K37/BI37)*100000 -> 41.681385 | BA37: =CRIM002!G37 -> 604200 | BB37: =CRIM002!H37 -> 309700 | BC37: =CRIM002!I37 -> 294500 | BD37: =CRIM002!J37 -> 592900 | BE37: =CRIM002!K37 -> 303500 | BF37: =CRIM002!L37 -> 289400 | BG37: =CRIM002!M37 -> 580000 | BH37: =CRIM002!N37 -> 296900 | BI37: =CRIM002!O37 -> 283100 | BM37: EUROSTATDS1T1
A39: Note: *The age of children varies between Member States - hence column 0 shows the ages in different Member States for nominators

Sheet CRIM021
A1: . | H1: wd
A2: CRIM021 Different types of crimes committed by children (homicides, sexual offences and property crimes)
A3: Definition: Data refer to total number and rate of crimes committed by children by selected types of crimes. Definitions of crime vary across Member States - hence column C provides more details on types of crime included in each sub-category.
C5: Number of different types of crimes committed by children (homicides, sexual offences and property crimes) | AG5: Crimes committed by children by selected types of crime per 100,000 child population (above MACR and below 18) | AX5: Number of children above the minimum age of criminal responsibility and below the age of 18
B6: Notes | C6: 2008 | G6: 2009 | K6: 2010 | O6: 2011 | S6: Source | U6: Datasets where further disaggregation is available | Y6: Datasets where approximate data is available | AG6: 2008 | AK6: 2009 | AO6: 2010 | AS6: 2011 | AX6: 2008 | AY6: 2009 | AZ6: 2010 | BA6: 2011 | BB6: Source
C7: Total (all crimes) | D7: Homicides | E7: Sexual Offences | F7: Property Crimes | G7: Total (all crimes) | H7: Homicides | I7: Sexual Offences | J7: Property Crimes | K7: Total (all crimes) | L7: Homicides | M7: Sexual Offences | N7: Property Crimes | O7: Total (all crimes) | P7: Homicides | Q7: Sexual Offences | R7: Property Crimes | AG7: Total (all crimes) | AH7: Homicides | AI7: Sexual Offences | AJ7: Property Crimes | AK7: Total (all crimes) | AL7: Homicides | AM7: Sexual Offences | AN7: Property Crimes | AO7: Total (all crimes) | AP7: Homicides | AQ7: Sexual Offences | AR7: Property Crimes | AS7: Total (all crimes) | AT7: Homicides | AU7: Sexual Offences | AV7: Property Crimes
A9: BE | D9: 58 | H9: 64 | K9: 75 | AX9: =CRIM002!G8 -> 263617 | AY9: =CRIM002!J8 -> 264296 | AZ9: =CRIM002!M8 -> 259281 | BA9: =CRIM002!P8 -> 253925 | BB9: EUROSTATDS1T1
A10: BG | C10: 7102 | D10: 6 | F10: 5219 | G10: 6471 | H10: 12 | J10: 4696 | K10: 7086 | L10: 11 | N10: 5362 | S10: TransOtherDS2T2 | AG10: =(C10/$AX10)*100000 -> 2059.8762 | AH10: =(D10/$AX10)*100000 -> 1.7402502 | AJ10: =(F10/$AX10)*100000 -> 1513.7277 | AK10: =(G10/$AX10)*100000 -> 1876.8599 | AL10: =H10/$AY10*100000 -> 3.730195 | AN10: =J10/$AY10*100000 -> 1459.7496 | AO10: =K10/$AZ10*100000 -> 2367.9515 | AP10: =L10/$AZ10*100000 -> 3.6759054 | AR10: =N10/$AZ10*100000 -> 1791.8368 | AX10: =CRIM002!G9 -> 344778 | AY10: =CRIM002!J9 -> 321699 | AZ10: =CRIM002!M9 -> 299246 | BA10: =CRIM002!P9 -> 277942 | BB10: EUROSTATDS1T1
A11: CZ | C11: 7728 | D11: 6 | F11: 3844 | G11: 6823 | H11: 6 | J11: 3472 | K11: 5339 | L11: 4 | N11: 3033 | S11: TransOtherDS2T2 | Y11: CZDS7T2 | Z11: CZDS9T2 | AA11: CZDS10T2 | AB11: CZDS11T2 | AC11: CZDS12T2 | AD11: CZDS14T2 | AG11: =(C11/$AX11)*100000 -> 2022.0045 | AH11: =(D11/$AX11)*100000 -> 1.5698793 | AJ11: =(F11/$AX11)*100000 -> 1005.7693 | AK11: =(G11/$AX11)*100000 -> 1785.2144 | AL11: =H11/$AY11*100000 -> 1.6043939 | AN11: =J11/$AY11*100000 -> 928.40927 | AO11: =K11/$AZ11*100000 -> 1514.0043 | AP11: =L11/$AZ11*100000 -> 1.1342981 | AR11: =N11/$AZ11*100000 -> 860.0815 | AX11: =CRIM002!G10 -> 382195 | AY11: =CRIM002!J10 -> 373973 | AZ11: =CRIM002!M10 -> 352641 | BA11: =CRIM002!P10 -> 325591 | BB11: EUROSTATDS1T1
A12: DK | AX12: =CRIM002!G11 -> 205567 | AY12: =CRIM002!J11 -> 209119 | AZ12: =CRIM002!M11 -> 214192 | BA12: =CRIM002!P11 -> 215945 | BB12: EUROSTATDS1T1
A13: DE | AX13: =CRIM002!G12 -> 3509997 | AY13: =CRIM002!J12 -> 3333801 | AZ13: =CRIM002!M12 -> 3238514 | BA13: =CRIM002!P12 -> 3204259 | BB13: EUROSTATDS1T1
A14: EE | S14: EEDS2T2data | AX14: =CRIM002!G13 -> 68248 | AY14: =CRIM002!J13 -> 61617 | AZ14: =CRIM002!M13 -> 56983 | BA14: =CRIM002!P13 -> 52934 | BB14: EUROSTATDS1T1
A15: IE | C15: 8922 | G15: 8428 | K15: 9162 | O15: 8093 | Y15: IEDS16T2 | Z15: IEDS25T2 | AG15: =(C15/$AX15)*100000 -> 1970.8852 | AK15: =G15/$AY15*100000 -> 1846.0554 | AO15: =K15/$AZ15*100000 -> 1994.4142 | AS15: =O15/$BA15*100000 -> 1726.3925 | AX15: =CRIM002!G14 -> 452690 | AY15: =CRIM002!J14 -> 456541 | AZ15: =CRIM002!M14 -> 459383 | BA15: =CRIM002!P14 -> 468781 | BB15: EUROSTATDS1T1
A16: EL | AX16: =CRIM002!G15 -> 347800 | AY16: =CRIM002!J15 -> 339985 | AZ16: =CRIM002!M15 -> 336136 | BA16: =CRIM002!P15 -> 332797 | BB16: EUROSTATDS1T1
A17: ES | C17: 26134 | G17: 29673 | K17: 31061 | O17: 29397 | S17: ESDS3T2 | U17: ESDS3T2 | Y17: ESDS24T2 | AG17: =(C17/$AX17)*100000 -> 1480.6413 | AK17: =G17/$AY17*100000 -> 1691.0275 | AO17: =K17/$AZ17*100000 -> 1790.2666 | AS17: =O17/$BA17*100000 -> 1711.3268 | AX17: =CRIM002!G16 -> 1765046 | AY17: =CRIM002!J16 -> 1754732 | AZ17: =CRIM002!M16 -> 1734993 | BA17: =CRIM002!P16 -> 1717790 | BB17: EUROSTATDS1T1
A18: FR | C18: 55444 | E18: 1621 | F18: 33359 | G18: 53652 | I18: 1615 | J18: 31318 | K18: 50999 | M18: 1401 | N18: 29302 | S18: FRDS20T2 | Y18: FRDS3T2 | Z18: FRDS24T2 | AA18: FRDS25T2 | AB18: FRDS26T2 | AC18: FRDS27T2 | AD18: FRDS28T2 | AG18: =(C18/$AX18)*100000 -> 1394.7488 | AI18: =E18/$AX18*100000 -> 40.777864 | AJ18: =F18/$AX18*100000 -> 839.17875 | AK18: =G18/$AY18*100000 -> 1358.928 | AM18: =I18/$AY18*100000 -> 40.905628 | AN18: =J18/$AY18*100000 -> 793.23991 | AO18: =K18/$AZ18*100000 -> 1293.871 | AQ18: =M18/$AZ18*100000 -> 35.544095 | AR18: =N18/$AZ18*100000 -> 743.4069 | AX18: =CRIM002!G17 -> 3975196 | AY18: =CRIM002!J17 -> 3948112 | AZ18: =CRIM002!M17 -> 3941583 | BA18: =CRIM002!P17 -> 3938236 | BB18: EUROSTATDS1T1
A19: HR | C19: 3419 | D19: 6 | E19: 51 | F19: 2191 | G19: 3188 | H19: 4 | I19: 46 | J19: 1936 | K19: 3270 | L19: 1 | M19: 74 | N19: 1998 | O19: 3376 | Q19: 59 | R19: 2131 | S19: TransOtherDS2T2 | T19: HRDS1T2 | U19: HRDS1T2 | AG19: =(C19/$AX19)*100000 -> 1660.4664 | AH19: =D19/$AX19*100000 -> 2.913951 | AI19: =E19/$AX19*100000 -> 24.768584 | AJ19: =F19/$AX19*100000 -> 1064.0778 | AK19: =G19/$AY19*100000 -> 1568.9362 | AL19: =H19/$AY19*100000 -> 1.9685524 | AM19: =I19/$AY19*100000 -> 22.638352 | AN19: =J19/$AY19*100000 -> 952.77935 | AO19: =K19/$AZ19*100000 -> 1630.2397 | AP19: =L19/$AZ19*100000 -> 0.49854425 | AQ19: =M19/$AZ19*100000 -> 36.892275 | AR19: =N19/$AZ19*100000 -> 996.09141 | AS19: =O19/$BA19*100000 -> 1657.5589 | AU19: =Q19/$BA19*100000 -> 28.968003 | AV19: =R19/$BA19*100000 -> 1046.285 | AX19: =CRIM002!G18 -> 205906 | AY19: =CRIM002!J18 -> 203195 | AZ19: =CRIM002!M18 -> 200584 | BA19: =CRIM002!P18 -> 203673 | BB19: EUROSTATDS1T1
A20: IT | C20: 25 | D20: 386 | E20: 10513 | F20: 30161 | G20: 21 | H20: 379 | I20: 9955 | J20: 29558 | K20: 31 | L20: 339 | M20: 10218 | N20: 32207 | O20: 26 | P20: 348 | Q20: 11660 | S20: ITDS24T2 | AX20: =CRIM002!G19 -> 2353535 | AY20: =CRIM002!J19 -> 2332765 | AZ20: =CRIM002!M19 -> 2308870 | BA20: =CRIM002!P19 -> 2279534 | BB20: EUROSTATDS1T1
A21: CY | G21: 304 | I21: 1 | J21: 224 | K21: 360 | M21: 3 | N21: 284 | O21: 242 | Q21: 4 | R21: 172 | S21: CYDS4T2 | T21: CYDS5T2 | U21: CYDS4T2 | V21: CYDS5T2 | W21: CYDS6T2 | AK21: =G21/$AY21*100000 -> 674.82075 | AM21: =I21/$AY21*100000 -> 2.2198051 | AN21: =J21/$AY21*100000 -> 497.23634 | AO21: =K21/$AZ21*100000 -> 739.05278 | AQ21: =M21/$AZ21*100000 -> 6.1587732 | AR21: =N21/$AZ21*100000 -> 583.03053 | AS21: =O21/$BA21*100000 -> 508.60638 | AU21: =Q21/$BA21*100000 -> 8.406717 | AV21: =R21/$BA21*100000 -> 361.48883 | AX21: =CRIM002!G20 -> 44893 | AY21: =CRIM002!J20 -> 45049 | AZ21: =CRIM002!M20 -> 48711 | BA21: =CRIM002!P20 -> 47581 | BB21: EUROSTATDS1T1
A22: LV | C22: 1397 | D22: 3 | F22: 684 | G22: 1038 | H22: 2 | J22: 564 | K22: 785 | L22: 1 | N22: 507 | S22: TransOtherDS2T2 | T22: LVDS4T2 | U22: LVDS4T2 | Y22: LVDS3T2 | AG22: =C22/$AX22*100000 -> 1152.7068 | AH22: =D22/$AX22*100000 -> 2.4753905 | AJ22: =F22/$AX22*100000 -> 564.38903 | AK22: =G22/$AY22*100000 -> 943.14764 | AL22: =H22/$AY22*100000 -> 1.8172402 | AN22: =J22/$AY22*100000 -> 512.46172 | AO22: =K22/$AZ22*100000 -> 794.18073 | AP22: =L22/$AZ22*100000 -> 1.0116952 | AR22: =N22/$AZ22*100000 -> 512.92946 | AX22: =CRIM002!G21 -> 121193 | AY22: =CRIM002!J21 -> 110057 | AZ22: =CRIM002!M21 -> 98844 | BA22: =CRIM002!P21 -> 83911 | BB22: EUROSTATDS1T1
A23: LT | C23: 4325 | D23: 23 | E23: 20 | F23: 3326 | G23: 4023 | H23: 18 | I23: 29 | J23: 2950 | K23: 3589 | L23: 19 | M23: 21 | N23: 2540 | O23: 3296 | P23: 19 | Q23: 29 | R23: 2214 | S23: TransOtherDS2T2 | T23: LTDS1T2 | AG23: =C23/$AX23*100000 -> 2137.5336 | AH23: =D23/$AX23*100000 -> 11.367231 | AI23: =E23/$AX23*100000 -> 9.8845485 | AJ23: =F23/$AX23*100000 -> 1643.8004 | AK23: =G23/$AY23*100000 -> 2127.6933 | AL23: =H23/$AY23*100000 -> 9.5198807 | AM23: =I23/$AY23*100000 -> 15.337586 | AN23: =J23/$AY23*100000 -> 1560.2027 | AO23: =K23/$AZ23*100000 -> 2040.8627 | AP23: =L23/$AZ23*100000 -> 10.804233 | AQ23: =M23/$AZ23*100000 -> 11.941521 | AR23: =N23/$AZ23*100000 -> 1444.3554 | AS23: =O23/$BA23*100000 -> 2103.8522 | AT23: =P23/$BA23*100000 -> 12.127789 | AU23: =Q23/$BA23*100000 -> 18.510835 | AV23: =R23/$BA23*100000 -> 1413.2065 | AX23: =CRIM002!G22 -> 202336 | AY23: =CRIM002!J22 -> 189078 | AZ23: =CRIM002!M22 -> 175857 | BA23: =CRIM002!P22 -> 156665 | BB23: EUROSTATDS1T1
A24: LU | Y24: LUDS2T2 | Z24: LUDS4T2 | AA24: LUDS5T2 | AB24: LUDS7T2 | AC24: LUDS8T2 | AD24: LUDS9T2 | AE24: LUDS10T2 | AF24: LUDS11 | AX24: =CRIM002!G23 -> 11514 | AY24: =CRIM002!J23 -> 11623 | AZ24: =CRIM002!M23 -> 11989 | BA24: =CRIM002!P23 -> 12321 | BB24: EUROSTATDS1T1
A25: HU | C25: 20872 | D25: 19 | F25: 8734 | G25: 10657 | H25: 21 | J25: 6884 | K25: 17379 | L25: 17 | N25: 7158 | S25: TransOtherDS2T2 | AG25: =C25/$AX25*100000 -> 4281.5325 | AH25: =D25/$AX25*100000 -> 3.8975238 | AJ25: =F25/$AX25*100000 -> 1791.6302 | AK25: =G25/$AY25*100000 -> 2243.8388 | AL25: =H25/$AY25*100000 -> 4.4215646 | AN25: =J25/$AY25*100000 -> 1449.431 | AO25: =K25/$AZ25*100000 -> 3771.0097 | AP25: =L25/$AZ25*100000 -> 3.6887718 | AR25: =N25/$AZ25*100000 -> 1553.1899 | AX25: =CRIM002!G24 -> 487489 | AY25: =CRIM002!J24 -> 474945 | AZ25: =CRIM002!M24 -> 460858 | BA25: =CRIM002!P24 -> 445532 | BB25: EUROSTATDS1T1
A26: MT | AX26: =CRIM002!G25 -> 22293 | AY26: =CRIM002!J25 -> 21754 | AZ26: =CRIM002!M25 -> 21148 | BA26: =CRIM002!P25 -> 20493 | BB26: EUROSTATDS1T1
A27: NL | C27: 36566 | E27: 552 | F27: 13428 | G27: 31722 | I27: 470 | J27: 12453 | K27: 28074 | M27: 501 | N27: 11508 | O27: 25837 | Q27: 424 | R27: 10534 | S27: NLD41T2 | Y27: NLDS19T2 | Z27: NLDS1T2 | AA27: NLD42T2 | AB27: NLD43T2 | AX27: =CRIM002!G26 -> 1201945 | AY27: =CRIM002!J26 -> 1191453 | AZ27: =CRIM002!M26 -> 1184064 | BA27: =CRIM002!P26 -> 1184970 | BB27: EUROSTATDS1T1
A28: AT | Y28: ATDS4T2,3 | Z28: ATDS2T2,3 | AA28: ATDS52,T3 | AB28: ATDS6T2,3 | AC28: ATDS7T2,3 | AX28: =CRIM002!G27 -> 399480 | AY28: =CRIM002!J27 -> 397523 | AZ28: =CRIM002!M27 -> 390159 | BA28: =CRIM002!P27 -> 384062 | BB28: EUROSTATDS1T1
A29: PL | C29: 74219 | D29: 9 | E29: 92 | F29: 34194 | G29: 85020 | H29: 14 | I29: 137 | J29: 35772 | K29: 99187 | L29: 7 | M29: 311 | N29: 40842 | P29: 6 | Q29: 126 | S29: TransOtherDS2T2 | T29: PLDS15T2 | AG29: =C29/$AX29*100000 -> 4676.5323 | AH29: =D29/$AX29*100000 -> 0.56708917 | AI29: =E29/$AX29*100000 -> 5.7969115 | AJ29: =F29/$AX29*100000 -> 2154.5608 | AK29: =G29/$AY29*100000 -> 5592.5785 | AL29: =H29/$AY29*100000 -> 0.92091389 | AM29: =I29/$AY29*100000 -> 9.0118002 | AN29: =J29/$AY29*100000 -> 2353.0665 | AO29: =K29/$AZ29*100000 -> 6847.5948 | AP29: =L29/$AZ29*100000 -> 0.48326055 | AQ29: =M29/$AZ29*100000 -> 21.470576 | AR29: =N29/$AZ29*100000 -> 2819.6182 | AT29: =P29/$BA29*100000 -> 0.43244085 | AU29: =Q29/$BA29*100000 -> 9.0812578 | AX29: =CRIM002!G28 -> 1587052 | AY29: =CRIM002!J28 -> 1520229 | AZ29: =CRIM002!M28 -> 1448494 | BA29: =CRIM002!P28 -> 1387473 | BB29: EUROSTATDS1T1
A30: PT | C30: 3161 | G30: 3479 | K30: 3880 | O30: 1978 | S30: PTDS6T2 | AG30: =C30/$AX30*100000 -> 1354.1649 | AK30: =G30/$AY30*100000 -> 1516.9617 | AO30: =K30/$AZ30*100000 -> 1732.1815 | AS30: =O30/$BA30*100000 -> 881.41061 | AX30: =CRIM002!G29 -> 233428 | AY30: =CRIM002!J29 -> 229340 | AZ30: =CRIM002!M29 -> 223995 | BA30: =CRIM002!P29 -> 224413 | BB30: EUROSTATDS1T1
A31: RO | C31: 13197 | D31: 27 | F31: 6828 | G31: 13545 | H31: 39 | J31: 7730 | K31: 13531 | L31: 37 | N31: 7725 | S31: TransOtherDS2T2 | AG31: =C31/$AX31*100000 -> 1276.2982 | AH31: =D31/$AX31*100000 -> 2.6112034 | AJ31: =F31/$AX31*100000 -> 660.34433 | AK31: =G31/$AY31*100000 -> 1393.9588 | AL31: =H31/$AY31*100000 -> 4.0136134 | AN31: =J31/$AY31*100000 -> 795.51875 | AO31: =K31/$AZ31*100000 -> 1443.5361 | AP31: =L31/$AZ31*100000 -> 3.947294 | AR31: =N31/$AZ31*100000 -> 824.13098 | AX31: =CRIM002!G30 -> 1034006 | AY31: =CRIM002!J30 -> 971693 | AZ31: =CRIM002!M30 -> 937351 | BA31: =CRIM002!P30 -> 903970 | BB31: EUROSTATDS1T1
A32: SI | C32: 2349 | D32: 3 | F32: 1012 | G32: 2316 | H32: 4 | J32: 1100 | K32: 2150 | L32: 0 | N32: 1110 | S32: TransOtherDS2T2 | AG32: =C32/$AX32*100000 -> 2766.9148 | AH32: =D32/$AX32*100000 -> 3.5337354 | AJ32: =F32/$AX32*100000 -> 1192.0467 | AK32: =G32/$AY32*100000 -> 2805.6064 | AL32: =H32/$AY32*100000 -> 4.8456069 | AN32: =J32/$AY32*100000 -> 1332.5419 | AO32: =K32/$AZ32*100000 -> 2680.1965 | AP32: =L32/$AZ32*100000 -> 0 | AR32: =N32/$AZ32*100000 -> 1383.7293 | AX32: =CRIM002!G31 -> 84896 | AY32: =CRIM002!J31 -> 82549 | AZ32: =CRIM002!M31 -> 80218 | BA32: =CRIM002!P31 -> 79273 | BB32: EUROSTATDS1T1
A33: SK | C33: 5269 | D33: 6 | F33: 3476 | G33: 4930 | H33: 2 | J33: 3354 | K33: 4282 | L33: 1 | N33: 2846 | S33: TransOtherDS2T2 | AG33: =C33/$AX33*100000 -> 1743.53 | AH33: =D33/$AX33*100000 -> 1.9854204 | AJ33: =F33/$AX33*100000 -> 1150.2202 | AK33: =G33/$AY33*100000 -> 1704.461 | AL33: =H33/$AY33*100000 -> 0.6914649 | AN33: =J33/$AY33*100000 -> 1159.5866 | AO33: =K33/$AZ33*100000 -> 1568.5499 | AP33: =L33/$AZ33*100000 -> 0.36631244 | AR33: =N33/$AZ33*100000 -> 1042.5252 | AX33: =CRIM002!G32 -> 302203 | AY33: =CRIM002!J32 -> 289241 | AZ33: =CRIM002!M32 -> 272991 | BA33: =CRIM002!P32 -> 258520 | BB33: EUROSTATDS1T1
A34: FI | Y34: FIDS15T2 | AX34: =CRIM002!G33 -> 201435 | AY34: =CRIM002!J33 -> 200398 | AZ34: =CRIM002!M33 -> 200133 | BA34: =CRIM002!P33 -> 196619 | BB34: EUROSTATDS1T1
A35: SE | O35: 19060 | P35: 13 | Q35: 492 | R35: 8762 | S35: SEDS5T2 | U35: SEDS5T2 | Y35: SEDS5T2 | Z35: SEDS19T2 | AA35: SEDS20T2 | AB35: SEDS23T2 | AC35: SEDS24T2 | AS35: =O35/$BA35*100000 -> 5382.1283 | AT35: =P35/$BA35*100000 -> 3.6709165 | AU35: =Q35/$BA35*100000 -> 138.93007 | AV35: =R35/$BA35*100000 -> 2474.1977 | AX35: =CRIM002!G34 -> 389919 | AY35: =CRIM002!J34 -> 382437 | AZ35: =CRIM002!M34 -> 371651 | BA35: =CRIM002!P34 -> 354135 | BB35: EUROSTATDS1T1
A36: UK E&W | Y36: UKEWDS9T2 | AX36: =CRIM002!G35 -> 5329600 | AY36: =CRIM002!J35 -> 5249600 | AZ36: =CRIM002!M35 -> 5165900 | BB36: EUROSTATDS1T1
A37: UK NI | AX37: =CRIM002!G36 -> 199800 | AY37: =CRIM002!J36 -> 198200 | AZ37: =CRIM002!M36 -> 194900 | BB37: EUROSTATDS1T1
A38: UK Scot | AX38: =CRIM002!G37 -> 604200 | AY38: =CRIM002!J37 -> 592900 | AZ38: =CRIM002!M37 -> 580000 | BB38: EUROSTATDS1T1
A41: - = Not Available

Sheet CRIM023
A1: .
A2: CRIM023 Refusals of execution of EAW on the basis that the child is below the minimum age of criminal responsibility
A3: (NO DATA)
B5: Total number of refusals of execution of EAW on the basis that the child is below the minimum age of criminal responsibility during a 12 month period | G5: Number of refusals of execution of EAW on the basis that the child is below the minimum age of criminal responsibility per 100,000 child population during a 12 month period
B6: 2008 | C6: 2009 | D6: 2010 | E6: 2011 | G6: 2008 | H6: 2009 | I6: 2010 | J6: 2011 | L6: Source
A7: BE
A8: BG
A9: CZ
A10: DK
A11: DE
A12: EE
A13: IE
A14: EL
A15: ES
A16: FR
A17: HR
A18: IT
... A36: UK Scot

Sheet CRIM024
A1: .
A2: CRIM024 Children who have been subject to EAW
A3: (NO DATA)
B5: Total number of children who have been subject to EAW during a 12 month period | O5: Number of children who have been subject to EAW per 100,000 child population during a 12 month period | AB5: Number of children who have been subject to EAW during a 12 month period
B6: 2008 | E6: 2009 | H6: 2010 | K6: 2011 | O6: 2008 | R6: 2009 | U6: 2010 | X6: 2011 | AB6: Countries where further disaggregation by age is available | AD6: Source
B7: Total | C7: Male | D7: Female | E7: Total | F7: Male | G7: Female | H7: Total | I7: Male | J7: Female | K7: Total | L7: Male | M7: Female | O7: Total | P7: Male | Q7: Female | R7: Total | S7: Male | T7: Female | U7: Total | V7: Male | W7: Female | X7: Total | Y7: Male | Z7: Female
A8: BE
A9: BG
A10: CZ
A11: DK
A12: DE
A13: EE
A14: IE
A15: EL
A16: ES
A17: FR
A18: HR
A19: IT
... A37: UK Scot

Sheet CRIM025
A1: .
A2: CRIM025 Children in detention
A3: Definition: Children held in prisons, penal institutions or correctional institutions
B5: Notes | C5: Total number of children in detention on a specific date* | G5: Source | J5: Children in detention | R5: Children in detention | T5: Number of children in detention per 100,000 child population (aged above MACR and below 18) during a 12 month period | Y5: Percentage of children in detention out of total persons in detention during a 12 month period** | AD5: Number of children above the minimum age of criminal responsibility and below the age of 18
C7: 2008 | D7: 2009 | E7: 2010 | F7: 2011 | J7: Countries where further levels of disaggregation are available | R7: Countries where approximate data are available | T7: 2008 | U7: 2009 | V7: 2010 | W7: 2011 | Y7: 2008 | Z7: 2009 | AA7: 2010 | AB7: 2011 | AD7: 2008 | AE7: 2009 | AF7: 2010 | AG7: 2011 | AH7: Source
A8: BE | C8: 31 | D8: 82 | E8: 89 | G8: SPACEIDS1T2 | J8: SPACEIDS1T2 | T8: =(C8/AD8)*100000 -> 11.759484 | U8: =(D8/AE8)*100000 -> 31.02582 | V8: =(E8/AF8)*100000 -> 34.325693 | Y8: 0.3 | Z8: 0.8 | AA8: 0.8 | AD8: =CRIM002!G8 -> 263617 | AE8: =CRIM002!J8 -> 264296 | AF8: =CRIM002!M8 -> 259281 | AG8: =CRIM002!P8 -> 253925 | AH8: EUROSTATDS1T1
A9: BG | C9: 75 | D9: 58 | E9: 73 | G9: UNODCDS3T2 | J9: SPACEIDS1T2 | R9: TransMonEEDS6T2 | T9: =(C9/AD9)*100000 -> 21.753128 | U9: =(D9/AE9)*100000 -> 18.029276 | V9: =(E9/AF9)*100000 -> 24.394645 | Y9: 0.8 | Z9: 0.3 | AA9: 0.5 | AD9: =CRIM002!G9 -> 344778 | AE9: =CRIM002!J9 -> 321699 | AF9: =CRIM002!M9 -> 299246 | AG9: =CRIM002!P9 -> 277942 | AH9: EUROSTATDS1T1
A10: CZ | C10: 213 | D10: 165 | E10: 208 | G10: UNODCDS3T2 | J10: SPACEIDS1T2 | R10: TransMonEEDS6T2 | T10: =(C10/AD10)*100000 -> 55.730713 | U10: =(D10/AE10)*100000 -> 44.120832 | V10: =(E10/AF10)*100000 -> 58.983499 | Y10: 0.8 | Z10: 0.3 | AA10: 0.5 | AD10: =CRIM002!G10 -> 382195 | AE10: =CRIM002!J10 -> 373973 | AF10: =CRIM002!M10 -> 352641 | AG10: =CRIM002!P10 -> 325591 | AH10: EUROSTATDS1T1
A11: DK | C11: 9 | D11: 20 | E11: 18 | G11: UNODCDS3T2data (for 2008, 2009) | H11: SPACEIDS1T2 for 2010 | J11: SPACEIDS1T2 | T11: =(C11/AD11)*100000 -> 4.3781346 | U11: =(D11/AE11)*100000 -> 9.5639325 | V11: =(E11/AF11)*100000 -> 8.4036752 | Y11: 0.3 | Z11: 0.5 | AA11: 0.5 | AD11: =CRIM002!G11 -> 205567 | AE11: =CRIM002!J11 -> 209119 | AF11: =CRIM002!M11 -> 214192 | AG11: =CRIM002!P11 -> 215945 | AH11: EUROSTATDS1T1
A12: DE | C12: 1221 | D12: 1072 | E12: 1108 | G12: SPACEIDS1T2 | J12: SPACEIDS1T2 | K12: DEDS25T2 | L12: DEDS27T2 | M12: DEDS28T2 | N12: DEDS56T2 | O12: DEDS58T2 | P12: DEDS59T2 | Q12: DEDS60T2 | R12: DEDS26T2 | T12: =(C12/AD12)*100000 -> 34.786355 | U12: =(D12/AE12)*100000 -> 32.155489 | V12: =(E12/AF12)*100000 -> 34.213222 | Y12: 1.6 | Z12: 1.5 | AA12: 1.5 | AD12: =CRIM002!G12 -> 3509997 | AE12: =CRIM002!J12 -> 3333801 | AF12: =CRIM002!M12 -> 3238514 | AG12: =CRIM002!P12 -> 3204259 | AH12: EUROSTATDS1T1
A13: EE | C13: 52 | D13: 34 | E13: 43 | G13: UNODCDS3T2 | J13: SPACEIDS1T2 | R13: TransMonEEDS6T2 | T13: =(C13/AD13)*100000 -> 76.192709 | U13: =(D13/AE13)*100000 -> 55.179577 | V13: =(E13/AF13)*100000 -> 75.461102 | Y13: 1.4 | Z13: 1 | AA13: 1.2 | AD13: =CRIM002!G13 -> 68248 | AE13: =CRIM002!J13 -> 61617 | AF13: =CRIM002!M13 -> 56983 | AG13: =CRIM002!P13 -> 52934 | AH13: EUROSTATDS1T1
A14: IE | C14: 46 | D14: 55 | E14: 49 | G14: UNODCDS3T2 | J14: SPACEIDS1T2 | T14: =(C14/AD14)*100000 -> 10.161479 | U14: =(D14/AE14)*100000 -> 12.047111 | V14: =(E14/AF14)*100000 -> 10.666481 | Y14: 2.4 | Z14: 2.4 | AA14: 1.9 | AD14: =CRIM002!G14 -> 452690 | AE14: =CRIM002!J14 -> 456541 | AF14: =CRIM002!M14 -> 459383 | AG14: =CRIM002!P14 -> 468781 | AH14: EUROSTATDS1T1
A15: EL | C15: 531 | D15: 547 | E15: 601 | G15: UNODCDS3T2 | J15: SPACEIDS1T2 | T15: =(C15/AD15)*100000 -> 152.67395 | U15: =(D15/AE15)*100000 -> 160.88945 | V15: =(E15/AF15)*100000 -> 178.79668 | Y15: 4.2 | AD15: =CRIM002!G15 -> 347800 | AE15: =CRIM002!J15 -> 339985 | AF15: =CRIM002!M15 -> 336136 | AG15: =CRIM002!P15 -> 332797 | AH15: EUROSTATDS1T1
A16: ES | E16: 1485 | G16: UNODCDS3T2 | V16: =(E16/AF16)*100000 -> 85.591123 | AD16: =CRIM002!G16 -> 1765046 | AE16: =CRIM002!J16 -> 1754732 | AF16: =CRIM002!M16 -> 1734993 | AG16: =CRIM002!P16 -> 1717790 | AH16: EUROSTATDS1T1
A17: FR | C17: 675 | D17: 669 | E17: 693 | G17: UNODCDS3T2data (for 2008, 2009) | H17: SPACEIDS1T2 for 2010 | J17: SPACEIDS1T2 | T17: =(C17/AD17)*100000 -> 16.980295 | U17: =(D17/AE17)*100000 -> 16.944808 | V17: =(E17/AF17)*100000 -> 17.581769 | Y17: 1.1 | Z17: 1 | AA17: 1 | AD17: =CRIM002!G17 -> 3975196 | AE17: =CRIM002!J17 -> 3948112 | AF17: =CRIM002!M17 -> 3941583 | AG17: =CRIM002!P17 -> 3938236 | AH17: EUROSTATDS1T1
A18: HR | C18: 41 | D18: 64 | E18: 39 | G18: UNODCDS3T2 | J18: SPACEIDS1T2 | R18: TransMonEEDS6T2 | T18: =(C18/AD18)*100000 -> 19.911999 | U18: =(D18/AE18)*100000 -> 31.496838 | V18: =(E18/AF18)*100000 -> 19.443226 | Y18: 1.3 | Z18: 1.3 | AA18: 0.9 | AD18: =CRIM002!G18 -> 205906 | AE18: =CRIM002!J18 -> 203195 | AF18: =CRIM002!M18 -> 200584 | AG18: =CRIM002!P18 -> 203673 | AH18: EUROSTATDS1T1
A19: IT | C19: 470 | D19: 466 | E19: 448 | F19: 494 | G19: ITDS1T2,13,18 | R19: UNODCDS3T2 | T19: =(C19/AD19)*100000 -> 19.96996 | U19: =(D19/AE19)*100000 -> 19.976294 | V19: =(E19/AF19)*100000 -> 19.403431 | W19: =F19/AG19*100000 -> 21.671096 | Y19: 0.8 | Z19: 0.7 | AA19: 0.7 | AB19: 0.7 | AD19: =CRIM002!G19 -> 2353535 | AE19: =CRIM002!J19 -> 2332765 | AF19: =CRIM002!M19 -> 2308870 | AG19: =CRIM002!P19 -> 2279534 | AH19: EUROSTATDS1T1
A20: CY | C20: 28 | D20: 28 | E20: 14 | G20: UNODCDS3T2 | J20: SPACEIDS1T2 | T20: =(C20/AD20)*100000 -> 62.370525 | U20: =(D20/AE20)*100000 -> 62.154543 | V20: =(E20/AF20)*100000 -> 28.740941 | Y20: 0.6 | Z20: 0.4 | AA20: 0.2 | AD20: =CRIM002!G20 -> 44893 | AE20: =CRIM002!J20 -> 45049 | AF20: =CRIM002!M20 -> 48711 | AG20: =CRIM002!P20 -> 47581 | AH20: EUROSTATDS1T1
A21: LV | C21: 248 | D21: 189 | E21: 118 | G21: UNODCDS3T2 | J21: SPACEIDS1T2 | R21: TransMonEEDS6T2 | T21: =(C21/AD21)*100000 -> 204.63228 | U21: =(D21/AE21)*100000 -> 171.72919 | V21: =(E21/AF21)*100000 -> 119.38003 | Y21: 1.7 | Z21: 0 | AA21: 0.7 | AD21: =CRIM002!G21 -> 121193 | AE21: =CRIM002!J21 -> 110057 | AF21: =CRIM002!M21 -> 98844 | AG21: =CRIM002!P21 -> 83911 | AH21: EUROSTATDS1T1
A22: LT | C22: 200 | D22: 188 | E22: 158 | G22: UNODCDS3T2 | J22: SPACEIDS1T2 | T22: =(C22/AD22)*100000 -> 98.845485 | U22: =(D22/AE22)*100000 -> 99.429865 | V22: =(E22/AF22)*100000 -> 89.845727 | Y22: 1.6 | Z22: 1.8 | AA22: 1.7 | AD22: =CRIM002!G22 -> 202336 | AE22: =CRIM002!J22 -> 189078 | AF22: =CRIM002!M22 -> 175857 | AG22: =CRIM002!P22 -> 156665 | AH22: EUROSTATDS1T1
A23: LU | C23: 1 | D23: 4 | E23: 7 | G23: SPACEIDS1T2 | J23: SPACEIDS1T2 | T23: =(C23/AD23)*100000 -> 8.685079 | U23: =(D23/AE23)*100000 -> 34.414523 | V23: =(E23/AF23)*100000 -> 58.386855 | Y23: 0.1 | Z23: 0.6 | AA23: 1 | AD23: =CRIM002!G23 -> 11514 | AE23: =CRIM002!J23 -> 11623 | AF23: =CRIM002!M23 -> 11989 | AG23: =CRIM002!P23 -> 12321 | AH23: EUROSTATDS1T1
A24: HU | C24: 531 | D24: 512 | E24: 187 | G24: UNODCDS3T2data (for 2008, 2009) | H24: SPACEIDS1T2 for 2010 | J24: SPACEIDS1T2 | R24: TransMonEEDS6T2 | T24: =(C24/AD24)*100000 -> 108.92553 | U24: =(D24/AE24)*100000 -> 107.80196 | V24: =(E24/AF24)*100000 -> 40.57649 | Z24: 1.1 | AA24: 1.1 | AD24: =CRIM002!G24 -> 487489 | AE24: =CRIM002!J24 -> 474945 | AF24: =CRIM002!M24 -> 460858 | AG24: =CRIM002!P24 -> 445532 | AH24: EUROSTATDS1T1
A25: MT | C25: 31 | D25: 29 | G25: UNODCDS3T2 | J25: SPACEIDS1T2 | T25: =(C25/AD25)*100000 -> 139.0571 | U25: =(D25/AE25)*100000 -> 133.30882 | Y25: 2.9 | Z25: 3.4 | AD25: =CRIM002!G25 -> 22293 | AE25: =CRIM002!J25 -> 21754 | AF25: =CRIM002!M25 -> 21148 | AG25: =CRIM002!P25 -> 20493 | AH25: EUROSTATDS1T1
A26: NL | C26: 1799 | D26: 1251 | E26: 696 | G26: UNODCDS3T2 | J26: SPACEIDS1T2 | R26: NLDS4T2 | T26: =(C26/AD26)*100000 -> 149.67407 | U26: =(D26/AE26)*100000 -> 104.99785 | V26: =(E26/AF26)*100000 -> 58.780606 | Y26: 8.3 | Z26: 0 | AA26: 0 | AD26: =CRIM002!G26 -> 1201945 | AE26: =CRIM002!J26 -> 1191453 | AF26: =CRIM002!M26 -> 1184064 | AG26: =CRIM002!P26 -> 1184970 | AH26: EUROSTATDS1T1
A27: AT | C27: 152 | D27: 200 | E27: 161 | F27: 149 | G27: ATDS23T2 | J27: SPACEIDS1T2 | R27: UNODCDS3T2 | T27: =(C27/AD27)*100000 -> 38.049464 | U27: =(D27/AE27)*100000 -> 50.311554 | V27: =(E27/AF27)*100000 -> 41.265228 | W27: =F27/AG27*100000 -> 38.795819 | Y27: 2.7 | AA27: 1.9 | AD27: =CRIM002!G27 -> 399480 | AE27: =CRIM002!J27 -> 397523 | AF27: =CRIM002!M27 -> 390159 | AG27: =CRIM002!P27 -> 384062 | AH27: EUROSTATDS1T1
A28: PL | C28: 5759 | D28: 5570 | E28: 4850 | G28: UNODCDS3T2 | J28: SPACEIDS1T2 | R28: TransMonEEDS6T2 | T28: =(C28/AD28)*100000 -> 362.87406 | U28: =(D28/AE28)*100000 -> 366.39217 | V28: =(E28/AF28)*100000 -> 334.83052 | Y28: 0.6 | Z28: 0.8 | AA28: 0.6 | AD28: =CRIM002!G28 -> 1587052 | AE28: =CRIM002!J28 -> 1520229 | AF28: =CRIM002!M28 -> 1448494 | AG28: =CRIM002!P28 -> 1387473 | AH28: EUROSTATDS1T1
A29: PT | D29: 333 | E29: 321 | G29: UNODCDS3T2 | J29: SPACEIDS1T2 | U29: =(D29/AE29)*100000 -> 145.19927 | V29: =(E29/AF29)*100000 -> 143.30677 | Y29: 0.2 | Z29: 0.3 | AA29: 0.8 | AD29: =CRIM002!G29 -> 233428 | AE29: =CRIM002!J29 -> 229340 | AF29: =CRIM002!M29 -> 223995 | AG29: =CRIM002!P29 -> 224413 | AH29: EUROSTATDS1T1
A30: RO | C30: 431 | D30: 470 | E30: 463 | G30: UNODCDS3T2data (for 2008, 2009) | H30: SPACEIDS1T2 for 2010 | J30: SPACEIDS1T2 | R30: TransMonEEDS6T2 | T30: =(C30/AD30)*100000 -> 41.682543 | U30: =(D30/AE30)*100000 -> 48.369187 | V30: =(E30/AF30)*100000 -> 49.394517 | Y30: 1.5 | Z30: 1.7 | AA30: 1.6 | AD30: =CRIM002!G30 -> 1034006 | AE30: =CRIM002!J30 -> 971693 | AF30: =CRIM002!M30 -> 937351 | AG30: =CRIM002!P30 -> 903970 | AH30: EUROSTATDS1T1
A31: SI | C31: 12 | D31: 4 | E31: 7 | G31: UNODCDS3T2 | J31: SPACEIDS1T2 | R31: TransMonEEDS6T2 | T31: =(C31/AD31)*100000 -> 14.134942 | U31: =(D31/AE31)*100000 -> 4.8456069 | V31: =(E31/AF31)*100000 -> 8.726221 | Y31: 0.9 | Z31: 0.3 | AA31: 0.5 | AD31: =CRIM002!G31 -> 84896 | AE31: =CRIM002!J31 -> 82549 | AF31: =CRIM002!M31 -> 80218 | AG31: =CRIM002!P31 -> 79273 | AH31: EUROSTATDS1T1
A32: SK | C32: 167 | D32: 157 | E32: 140 | G32: UNODCDS3T2 | J32: SPACEIDS1T2 | R32: TransMonEEDS6T2 | T32: =(C32/AD32)*100000 -> 55.260868 | U32: =(D32/AE32)*100000 -> 54.279995 | V32: =(E32/AF32)*100000 -> 51.283742 | Y32: 0.7 | Z32: 1.3 | AA32: 1.1 | AD32: =CRIM002!G32 -> 302203 | AE32: =CRIM002!J32 -> 289241 | AF32: =CRIM002!M32 -> 272991 | AG32: =CRIM002!P32 -> 258520 | AH32: EUROSTATDS1T1
A33: FI | C33: 93 | D33: 102 | E33: 73 | G33: UNODCDS3T2 | J33: SPACEIDS1T2 | T33: =(C33/AD33)*100000 -> 46.168739 | U33: =(D33/AE33)*100000 -> 50.898712 | V33: =(E33/AF33)*100000 -> 36.475744 | Y33: 0.2 | Z33: 0.2 | AA33: 0.3 | AD33: =CRIM002!G33 -> 201435 | AE33: =CRIM002!J33 -> 200398 | AF33: =CRIM002!M33 -> 200133 | AG33: =CRIM002!P33 -> 196619 | AH33: EUROSTATDS1T1
A34: SE | C34: 15 | D34: 6 | E34: 15 | G34: UNODCDS3T2 | T34: =(C34/AD34)*100000 -> 3.8469528 | U34: =(D34/AE34)*100000 -> 1.5688859 | V34: =(E34/AF34)*100000 -> 4.0360446 | Y34: 0 | AA34: 0 | AD34: =CRIM002!G34 -> 389919 | AE34: =CRIM002!J34 -> 382437 | AF34: =CRIM002!M34 -> 371651 | AG34: =CRIM002!P34 -> 354135 | AH34: EUROSTATDS1T1
A35: UK E&W | C35: 2525 | D35: 2102 | E35: 1656 | G35: UNODCDS3T2 | J35: SPACEIDS1T2 | R35: UKEWDS12T2 | T35: =(C35/AD35)*100000 -> 47.376914 | U35: =(D35/AE35)*100000 -> 40.041146 | V35: =(E35/AF35)*100000 -> 32.05637 | Y35: 3 | Z35: 2.5 | AA35: 1.9 | AD35: =CRIM002!G35 -> 5329600 | AE35: =CRIM002!J35 -> 5249600 | AF35: =CRIM002!M35 -> 5165900 | AH35: EUROSTATDS1T1
A36: UK NI | C36: 19 | D36: 17 | E36: 14 | G36: SPACEIDS1T2 | J36: SPACEIDS1T2 | T36: =(C36/AD36)*100000 -> 9.5095095 | U36: =(D36/AE36)*100000 -> 8.5771948 | V36: =(E36/AF36)*100000 -> 7.1831709 | Y36: 1.2 | Z36: 1.2 | AA36: 0.9 | AD36: =CRIM002!G36 -> 199800 | AE36: =CRIM002!J36 -> 198200 | AF36: =CRIM002!M36 -> 194900 | AH36: EUROSTATDS1T1
A37: UK Scot | C37: 1021 | D37: 1023 | E37: 866 | G37: UNODCDS3T2 | J37: SPACEIDS1T2 | R37: UKSDS3T2 | T37: =(C37/AD37)*100000 -> 168.98378 | U37: =(D37/AE37)*100000 -> 172.54174 | V37: =(E37/AF37)*100000 -> 149.31034 | Y37: 2.5 | Z37: 2.1 | AA37: 1.9 | AD37: =CRIM002!G37 -> 604200 | AE37: =CRIM002!J37 -> 592900 | AF37: =CRIM002!M37 -> 580000 | AH37: EUROSTATDS1T1
A39: Note: *Disaggregation by sex is not available **Percentages were calculated by SPACEI. For more information see SPACEIDS1T2data

Sheet CRIM027
A1: .
A2: CRIM027 Children in pre-trial detention
B5: Notes | C5: Total number of children in pre-trial detention during a 12 month period | H5: Age* | I5: Source | K5: Children in pre-trial detention | L5: Children in pre-trial detention | N5: Number of children in pre-trial detention per 100,000 child population (above MACR and below 18) by sex during a 12 month period | S5: Percentage of children in pre-trial detention out of total pre-trial detainees by sex during a 12 month period | X5: Number of children above the minimum age of criminal responsibility and below the age of 18
C7: 2008 | D7: 2009 | E7: 2010 | F7: 2011 | K7: Countries were further disaggregation is available | L7: Countries where approximate data are available | N7: 2008 | O7: 2009 | P7: 2010 | Q7: 2011 | S7: 2008 | T7: 2009 | U7: 2010 | V7: 2011 | X7: 2008 | Y7: 2009 | Z7: 2010 | AA7: 2011 | AB7: Source
A8: BE | L8: BEDS4T2 | X8: =CRIM002!G8 -> 263617 | Y8: =CRIM002!J8 -> 264296 | Z8: =CRIM002!M8 -> 259281 | AA8: =CRIM002!P8 -> 253925 | AB8: EUROSTATDS1T1
A9: BG | C9: 195 | D9: 162 | E9: 214 | F9: 253 | I9: BGDS17T2data | N9: =(C9/X9)*100000 -> 56.558133 | O9: =(D9/Y9)*100000 -> 50.357632 | P9: =(E9/Z9)*100000 -> 71.51307 | Q9: =(F9/AA9)*100000 -> 91.026185 | X9: =CRIM002!G9 -> 344778 | Y9: =CRIM002!J9 -> 321699 | Z9: =CRIM002!M9 -> 299246 | AA9: =CRIM002!P9 -> 277942 | AB9: EUROSTATDS1T1
A10: CZ | X10: =CRIM002!G10 -> 382195 | Y10: =CRIM002!J10 -> 373973 | Z10: =CRIM002!M10 -> 352641 | AA10: =CRIM002!P10 -> 325591 | AB10: EUROSTATDS1T1
A11: DK | X11: =CRIM002!G11 -> 205567 | Y11: =CRIM002!J11 -> 209119 | Z11: =CRIM002!M11 -> 214192 | AA11: =CRIM002!P11 -> 215945 | AB11: EUROSTATDS1T1
A12: DE | X12: =CRIM002!G12 -> 3509997 | Y12: =CRIM002!J12 -> 3333801 | Z12: =CRIM002!M12 -> 3238514 | AA12: =CRIM002!P12 -> 3204259 | AB12: EUROSTATDS1T1
A13: EE | X13: =CRIM002!G13 -> 68248 | Y13: =CRIM002!J13 -> 61617 | Z13: =CRIM002!M13 -> 56983 | AA13: =CRIM002!P13 -> 52934 | AB13: EUROSTATDS1T1
A14: IE | X14: =CRIM002!G14 -> 452690 | Y14: =CRIM002!J14 -> 456541 | Z14: =CRIM002!M14 -> 459383 | AA14: =CRIM002!P14 -> 468781 | AB14: EUROSTATDS1T1
A15: EL | C15: 336 | E15: 363 | I15: ELDS10T2 for 2008 | J15: ELDS1T2,18 for 2010 | K15: ELDS10T2 for 2008 | N15: =C15/X15*100000 -> 96.607246 | P15: =E15/Z15*100000 -> 107.992 | X15: =CRIM002!G15 -> 347800 | Y15: =CRIM002!J15 -> 339985 | Z15: =CRIM002!M15 -> 336136 | AA15: =CRIM002!P15 -> 332797 | AB15: EUROSTATDS1T1
A16: ES | X16: =CRIM002!G16 -> 1765046 | Y16: =CRIM002!J16 -> 1754732 | Z16: =CRIM002!M16 -> 1734993 | AA16: =CRIM002!P16 -> 1717790 | AB16: EUROSTATDS1T1
A17: FR | C17: 1889 | D17: 1678 | E17: 1678 | H17: <18 | I17: FRDS23T2 | N17: =C17/X17*100000 -> 47.519669 | O17: =D17/Y17*100000 -> 42.501327 | P17: =E17/Z17*100000 -> 42.571728 | X17: =CRIM002!G17 -> 3975196 | Y17: =CRIM002!J17 -> 3948112 | Z17: =CRIM002!M17 -> 3941583 | AA17: =CRIM002!P17 -> 3938236 | AB17: EUROSTATDS1T1
A18: HR | I18: TransOtherDS9T2 | X18: =CRIM002!G18 -> 205906 | Y18: =CRIM002!J18 -> 203195 | Z18: =CRIM002!M18 -> 200584 | AA18: =CRIM002!P18 -> 203673 | AB18: EUROSTATDS1T1
A19: IT | C19: 323 | D19: 247 | E19: 246 | F19: 298 | H19: <14-18+ | I19: ITDS1T2,13,18 | K19: ITDS1T2,13,18 | N19: 14 | O19: 11 | P19: =(E19/Z19)*100000 -> 10.654563 | Q19: 13 | S19: 1.1 | T19: 0.8 | U19: 0.8 | V19: 1.1 | X19: =CRIM002!G19 -> 2353535 | Y19: =CRIM002!J19 -> 2332765 | Z19: =CRIM002!M19 -> 2308870 | AA19: =CRIM002!P19 -> 2279534 | AB19: EUROSTATDS1T1
A20: CY | X20: =CRIM002!G20 -> 44893 | Y20: =CRIM002!J20 -> 45049 | Z20: =CRIM002!M20 -> 48711 | AA20: =CRIM002!P20 -> 47581 | AB20: EUROSTATDS1T1
A21: LV | X21: =CRIM002!G21 -> 121193 | Y21: =CRIM002!J21 -> 110057 | Z21: =CRIM002!M21 -> 98844 | AA21: =CRIM002!P21 -> 83911 | AB21: EUROSTATDS1T1
A22: LT | C22: 57 | D22: 61 | E22: 53 | F22: 28 | H22: 14-17 | I22: LTDS5T2 | L22: TransOtherDS9T2 | N22: =C22/X22*100000 -> 28.170963 | O22: =D22/Y22*100000 -> 32.261818 | P22: =E22/Z22*100000 -> 30.138124 | Q22: =F22/AA22*100000 -> 17.872531 | X22: =CRIM002!G22 -> 202336 | Y22: =CRIM002!J22 -> 189078 | Z22: =CRIM002!M22 -> 175857 | AA22: =CRIM002!P22 -> 156665 | AB22: EUROSTATDS1T1
A23: LU | X23: =CRIM002!G23 -> 11514 | Y23: =CRIM002!J23 -> 11623 | Z23: =CRIM002!M23 -> 11989 | AA23: =CRIM002!P23 -> 12321 | AB23: EUROSTATDS1T1
A24: HU | C24: 298 | D24: 344 | E24: 338 | F24: 360 | H24: 14-17 | I24: HUDS5T2 | L24: TransOtherDS9T2 | N24: =C24/X24*100000 -> 61.129584 | O24: =D24/Y24*100000 -> 72.429439 | P24: =E24/Z24*100000 -> 73.341463 | Q24: =F24/AA24*100000 -> 80.802277 | X24: =CRIM002!G24 -> 487489 | Y24: =CRIM002!J24 -> 474945 | Z24: =CRIM002!M24 -> 460858 | AA24: =CRIM002!P24 -> 445532 | AB24: EUROSTATDS1T1
A25: MT | X25: =CRIM002!G25 -> 22293 | Y25: =CRIM002!J25 -> 21754 | Z25: =CRIM002!M25 -> 21148 | AA25: =CRIM002!P25 -> 20493 | AB25: EUROSTATDS1T1
A26: NL | C26: 2023 | D26: 1852 | E26: 1885 | F26: 1559 | I26: NLDS15T2 | N26: =C26/X26*100000 -> 168.31053 | O26: =(D26/Y26)*100000 -> 155.44046 | P26: =E26/Z26*100000 -> 159.19748 | Q26: =F26/AA26*100000 -> 131.56451 | X26: =CRIM002!G26 -> 1201945 | Y26: =CRIM002!J26 -> 1191453 | Z26: =CRIM002!M26 -> 1184064 | AA26: =CRIM002!P26 -> 1184970 | AB26: EUROSTATDS1T1
A27: AT | C27: 69 | H27: <18 | I27: ATDS41T2 | L27: ATDS35T2 | X27: =CRIM002!G27 -> 399480 | Y27: =CRIM002!J27 -> 397523 | Z27: =CRIM002!M27 -> 390159 | AA27: =CRIM002!P27 -> 384062 | AB27: EUROSTATDS1T1
A28: PL | C28: 1207 | D28: 1240 | E28: 893 | F28: 874 | H28: 13-16 | I28: PLDS9T2 | L28: TransOtherDS9T2 | N28: =C28/X28*100000 -> 76.052959 | O28: =D28/Y28*100000 -> 81.566659 | P28: =E28/Z28*100000 -> 61.650238 | Q28: =F28/AA28*100000 -> 62.992217 | X28: =CRIM002!G28 -> 1587052 | Y28: =CRIM002!J28 -> 1520229 | Z28: =CRIM002!M28 -> 1448494 | AA28: =CRIM002!P28 -> 1387473 | AB28: EUROSTATDS1T1
A29: PT | X29: =CRIM002!G29 -> 233428 | Y29: =CRIM002!J29 -> 229340 | Z29: =CRIM002!M29 -> 223995 | AA29: =CRIM002!P29 -> 224413 | AB29: EUROSTATDS1T1
A30: RO | C30: 133 | D30: 117 | E30: 80 | H30: 14-17 | I30: TransOtherDS9T2 | L30: RODS6T2 | N30: =C30/X30*100000 -> 12.862595 | O30: =D30/Y30*100000 -> 12.04084 | P30: =E30/Z30*100000 -> 8.5346898 | X30: =CRIM002!G30 -> 1034006 | Y30: =CRIM002!J30 -> 971693 | Z30: =CRIM002!M30 -> 937351 | AA30: =CRIM002!P30 -> 903970 | AB30: EUROSTATDS1T1
A31: SI | C31: 14 | D31: 20 | E31: 12 | F31: 14 | H31: 14-18 | I31: SIDS12T2,13 | K31: SIDS12T2,13 | N31: =C31/X31*100000 -> 16.490765 | O31: =D31/Y31*100000 -> 24.228034 | P31: =E31/Z31*100000 -> 14.959236 | Q31: =F31/AA31*100000 -> 17.66049 | X31: =CRIM002!G31 -> 84896 | Y31: =CRIM002!J31 -> 82549 | Z31: =CRIM002!M31 -> 80218 | AA31: =CRIM002!P31 -> 79273 | AB31: EUROSTATDS1T1
A32: SK | C32: 60 | D32: 54 | E32: 36 | I32: TransOtherDS9T2 | N32: =C32/X32*100000 -> 19.854204 | O32: =D32/Y32*100000 -> 18.669552 | P32: =E32/Z32*100000 -> 13.187248 | X32: =CRIM002!G32 -> 302203 | Y32: =CRIM002!J32 -> 289241 | Z32: =CRIM002!M32 -> 272991 | AA32: =CRIM002!P32 -> 258520 | AB32: EUROSTATDS1T1
A33: FI | X33: =CRIM002!G33 -> 201435 | Y33: =CRIM002!J33 -> 200398 | Z33: =CRIM002!M33 -> 200133 | AA33: =CRIM002!P33 -> 196619 | AB33: EUROSTATDS1T1
A34: SE | X34: =CRIM002!G34 -> 389919 | Y34: =CRIM002!J34 -> 382437 | Z34: =CRIM002!M34 -> 371651 | AA34: =CRIM002!P34 -> 354135 | AB34: EUROSTATDS1T2
A35: UK E&W | L35: UKEWDS8T2 | X35: =CRIM002!G35 -> 5329600 | Y35: =CRIM002!J35 -> 5249600 | Z35: =CRIM002!M35 -> 5165900 | AB35: EUROSTATDS1T1
A36: UK NI | X36: =CRIM002!G36 -> 199800 | Y36: =CRIM002!J36 -> 198200 | Z36: =CRIM002!M36 -> 194900 | AB36: EUROSTATDS1T1
A37: UK Scot | X37: =CRIM002!G37 -> 604200 | Y37: =CRIM002!J37 -> 592900 | Z37: =CRIM002!M37 -> 580000 | AB37: EUROSTATDS1T1
A39: Note: *The age of children varies between Member States - hence column H shows the ages in different Member States for nominators
