Workbook

Sheet CRIM002
A1: Theme 2_Child offenders
A2: CRIM002 Minimum Age of Criminal Responsibility (MACR)
B5: Minimum Age of Criminal Responsibility (MACR) determined in law | E5: Age cohort of children that could potentially be considered criminally liable | G5: Number of children above the minimum age of criminal responsibility and below the age of 18
B6: 2012 | C6: Source | G6: 2008 | J6: 2009 | M6: 2010 | P6: 2011 | S6: Source
G7: Total | H7: Male | I7: Female | J7: Total | K7: Male | L7: Female | M7: Total | N7: Male | O7: Female | P7: Total | Q7: Male | R7: Female
A8: BE | B8: 18 | C8: Section 2.3.1, Contextual Overview | E8: 16-17 | G8: 263617 | H8: 134778 | I8: 128839 | J8: 264296 | K8: 135041 | L8: 129255 | M8: 259281 | N8: 132204 | O8: 127077 | P8: 253925 | Q8: 130211 | R8: 123714 | S8: EUROSTATDS1T1data
A9: BG | B9: 14 | C9: Section 2.3.1, Contextual Overview | E9: 14-17 | G9: 344778 | H9: 177223 | I9: 167555 | J9: 321699 | K9: 165177 | L9: 156522 | M9: 299246 | N9: 153295 | O9: 145951 | P9: 277942 | Q9: 142889 | R9: 135053 | S9: EUROSTATDS1T1data
A10: CZ | B10: 15 | C10: Section 2.3.1, Contextual Overview | E10: 15-17 | G10: 382195 | H10: 196205 | I10: 185990 | J10: 373973 | K10: 192023 | L10: 181950 | M10: 352641 | N10: 180891 | O10: 171750 | P10: 325591 | Q10: 166987 | R10: 158604 | S10: EUROSTATDS1T1data
A11: DK | B11: 15 | C11: Section 2.3.1, Contextual Overview | E11: 15-17 | G11: 205567 | H11: 105557 | I11: 100010 | J11: 209119 | K11: 107283 | L11: 101836 | M11: 214192 | N11: 109809 | O11: 104383 | P11: 215945 | Q11: 110716 | R11: 105229 | S11: EUROSTATDS1T1data
A12: DE | B12: 14 | C12: Section 2.3.1, Contextual Overview | E12: 14-17 | G12: 3509997 | H12: 1799990 | I12: 1710007 | J12: 3333801 | K12: 1709884 | L12: 1623917 | M12: 3238514 | N12: 1661368 | O12: 1577146 | P12: 3204259 | Q12: 1645299 | R12: 1558960 | S12: EUROSTATDS1T1data
A13: EE | B13: 14 | C13: Section 2.3.1, Contextual Overview | E13: 14-17 | G13: 68248 | H13: 35058 | I13: 33190 | J13: 61617 | K13: 31543 | L13: 30074 | M13: 56983 | N13: 29173 | O13: 27810 | P13: 52934 | Q13: 27103 | R13: 25831 | S13: EUROSTATDS1T1data
A14: IE | B14: 12 | C14: Section 2.3.1, Contextual Overview | E14: 10-17 | G14: 452690 | H14: 232137 | I14: 220553 | J14: 456541 | K14: 234091 | L14: 222450 | M14: 459383 | N14: 235544 | O14: 223839 | P14: 468781 | Q14: 240569 | R14: 228212 | S14: EUROSTATDS1T1data
A15: EL | B15: 15 | C15: Section 2.3.1, Contextual Overview | E15: 15-17 | G15: 347800 | H15: 179623 | I15: 168177 | J15: 339985 | K15: 174852 | L15: 165133 | M15: 336136 | N15: 173116 | O15: 163020 | P15: 332797 | Q15: 171531 | R15: 161266 | S15: EUROSTATDS1T1data
A16: ES | B16: 14 | C16: Section 2.3.1, Contextual Overview | E16: 14-17 | G16: 1765046 | H16: 907868 | I16: 857178 | J16: 1754732 | K16: 902213 | L16: 852519 | M16: 1734993 | N16: 891538 | O16: 843455 | P16: 1717790 | Q16: 882207 | R16: 835583 | S16: EUROSTATDS1T1data
A17: FR | B17: 18 | C17: Section 2.3.1, Contextual Overview | E17: 13-17 | G17: 3975196 | H17: 2033685 | I17: 1941511 | J17: 3948112 | K17: 2018784 | L17: 1929328 | M17: 3941583 | N17: 2017129 | O17: 1924454 | P17: 3938236 | Q17: 2015777 | R17: 1922459 | S17: EUROSTATDS1T1data
A18: HR | B18: 14 | C18: Section 2.3.1, Contextual Overview | E18: 14-17 | G18: 205906 | H18: 105426 | I18: 100480 | J18: 203195 | K18: 104003 | L18: 99192 | M18: 200584 | N18: 102558 | O18: 98026 | P18: 203673 | Q18: 104132 | R18: 99541 | S18: EUROSTATDS1T1data
A19: IT | B19: 14 | C19: Section 2.3.1, Contextual Overview | E19: 14-17 | G19: 2353535 | H19: 1209473 | I19: 1144062 | J19: 2332765 | K19: 1199378 | L19: 1133387 | M19: 2308870 | N19: 1188149 | O19: 1120721 | P19: 2279534 | Q19: 1173840 | R19: 1105694 | S19: EUROSTATDS1T1data
... A34: SE | B34: 15 | C34: Section 2.3.1, Contextual Overview | E34: 15-17 | G34: 389919 | H34: 200743 | I34: 189176 | J34: 382437 | K34: 196677 | L34: 185760 | M34: 371651 | N34: 190709 | O34: 180942 | P34: 354135 | Q34: 181847 | R34: 172288 | S34: EUROSTATDS1T1data
A35: UK E&W | B35: 10 | C35: Section 2.3.1, Contextual Overview | E35: 10-17 | G35: 5329600 | H35: 2733500 | I35: 2596100 | J35: 5249600 | K35: 2691000 | L35: 2558600 | M35: 5165900 | N35: 2648300 | O35: 2517600 | S35: EUROSTATDS1T1data
A36: UK NI | B36: 10 | C36: Section 2.3.1, Contextual Overview | E36: 10-17 | G36: 199800 | H36: 102500 | I36: 97300 | J36: 198200 | K36: 101600 | L36: 96600 | M36: 194900 | N36: 99800 | O36: 95100 | S36: EUROSTATDS1T1data
A37: UK Scot | B37: 8 | C37: Section 2.3.1, Contextual Overview | E37: 8-17 | G37: 604200 | H37: 309700 | I37: 294500 | J37: 592900 | K37: 303500 | L37: 289400 | M37: 580000 | N37: 296900 | O37: 283100 | S37: EUROSTATDS1T1data

Sheet CRIM003
A1: Theme 2_Child offenders
A2: CRIM 003 Upper age limit for juvenile justice
A3: Unit: age
B5: Lower age limit for Juvenile Justice | C5: Usual upper age limit for juvenile justice | D5: Upper age limit applicable in limited circumstances (if higher than usual upper age) | E5: Source | G5: Note The age stated in column B is the lower age limit for a child dealt with in the juvenile justice system. This means that the law, procedure and /or sentencing provisions applied to them will be those which are applicable in the juvenile justice system which exists in the member state. In Column D, where in limited circumstances children older than the usual upper limit for juvenile justice may be deal with in the juvenile system, the extended upper age is stated. Examples of circumstances in which the upper age limit is extended are: where the offence was committed when the offender was below the usual upper age but tried when he/she was older; and where the offender's level of maturity or discernment is equivalent to that of a person below the usual upper limit. In some member states not all the elements of the juvenile justice system are applicable in this extended age range. For example, it may be that only Juvenile sentences are applied but the offender is otherwise treated as an adult. Where the evidence describes the circumstances in which the higher age limit is applicable, this is noted in a comment box.
A6: BE | B6: 10 | C6: 17 | D6: 23 | E6: Information provided by MS
A7: BG | B7: 14 | C7: 17 | D7: No* | E7: Information provided by MS
A8: CZ | B8: 15 | C8: 18 | D8: Over 18 | E8: Section 2.3.1, Contextual Overview
A9: DK | B9: 15 | C9: 17 | D9: No* | E9: Section 2.3.1, Contextual Overview
A10: DE | B10: 14 | C10: 18 | D10: 21 | E10: Section 2.3.1, Contextual Overview
A11: EE | B11: 14 | C11: 18 | D11: No* | E11: Section 2.3.1, Contextual Overview
A12: IE | B12: 12 | C12: 18 | D12: No* | E12: Information provided by MS
A13: EL | B13: 8 | C13: 17 | D13: 25 | E13: Section 2.3.1, Contextual Overview
A14: ES | B14: 14 | C14: 17 | D14: No* | E14: Information provided by MS
A15: FR | B15: 13 | C15: 17 | D15: No* | E15: Section 2.3.1, Contextual Overview
A16: HR | B16: 14 | C16: 17 | D16: No* | E16: Section 2.3.1, Contextual Overview
A17: IT | B17: 14 | C17: 17 | D17: 25 | E17: Information provided by MS
A18: CY | B18: - | C18: - | D18: - | E18: Section 2.3.1, Contextual Overview
A19: LV | B19: 14 | C19: 17 | D19: No* | E19: Section 2.3.1, Contextual Overview
A20: LT | B20: 14 | C20: 18 | D20: No* | E20: Section 2.3.1, Contextual Overview
A21: LU | B21: - | C21: 17 | D21: 25 | E21: Section 2.3.1, Contextual Overview
A22: HU | B22: 14 | C22: 17 | D22: No* | E22: Section 2.3.1, Contextual Overview
A23: MT | B23: 9 | C23: 15 | D23: No* | E23: Section 2.3.1, Contextual Overview
A24: NL | B24: 12 | C24: 17 | D24: 20 | E24: Section 2.3.1, Contextual Overview
A25: AT | B25: 14 | C25: 18 | D25: 21 | E25: Section 2.3.1, Contextual Overview
A26: PL | B26: 13 | C26: 17 | D26: No* | E26: Section 2.3.1, Contextual Overview
A27: PT | B27: 16 | C27: 17 | D27: 21 | E27: Section 2.3.1, Contextual Overview
A28: RO | B28: 14 | C28: 18 | D28: No* | E28: Section 2.3.1, Contextual Overview
A29: SI | B29: 14 | C29: 17 | D29: 20 | E29: Information provided by MS
A30: SK | B30: 14 | C30: 17 | D30: No* | E30: Section 2.3.1, Contextual Overview
A31: FI | B31: 15 | C31: 18 | D31: No* | E31: Information provided by MS
A32: SE | B32: 15 | C32: 20 | D32: No* | E32: Section 2.3.1, Contextual Overview
A33: UK E&W | B33: 10 | C33: 17 | D33: 21 | E33: Section 2.3.1, Contextual Overview
A34: UK NI | B34: 10 | C34: 18 | D34: No* | E34: Section 2.3.1, Contextual Overview
A35: UK Scot | B35: 8 | C35: No* | D35: No* | E35: Section 2.3.1, Contextual Overview
A37: Information provided by the Member States
A38: BE - Juvenile protection measures end when the child reaches the age of 18 years. Protection Act)
A39: ES - Article 1 of LORPM (Organic Law Regulating the Penal Responsibility of the Minor)
A40: FI - Law 663/2010 on juvenile offenders
A41: IT - The jurisdiction of the Juvenile Courts covers the offences committed by children under 18.
A42: PT - Article 9 of the Criminal Code
...

Sheet CRIM004
A1: Theme 2_Child offenders
A2: CRIM004 Legal provision for a doli incapax mechanism for prosecutions of children around the age of MACR
B4: Age range for which doli incapax mechanism exists in respect of children who are over MACR | C4: Source
A5: BE | B5: - | C5: Section 2.3.1, Contextual Overview
A6: BG | B6: 14 - 17 | C6: Section 2.3.1, Contextual Overview | E6: Note Doli Incapax is where the judge may determine that a child above MACR but under 18 years is not criminally responsible based on an assessment of maturity or discernment and of his/her ability to tell right from wrong. This indicator is not applicable where MACR is 18.
A7: CZ | B7: 15 - 17 | C7: Section 2.3.1, Contextual Overview
A8: DK
A9: DE | B9: 14 - 17 | C9: Section 2.3.1, Contextual Overview
A10: EE
A11: IE | B11: - | C11: Information provided by MS
A12: EL | B12: 15 - 17 | C12: Section 2.3.1, Contextual Overview
A13: ES
A14: FR | B14: - | C14: Section 2.3.1, Contextual Overview
A15: HR
A16: IT | B16: 14 - 17 | C16: Section 2.3.1, Contextual Overview
A17: CY
A18: LV
A19: LT
A20: LU | B20: - | C20: Section 2.3.1, Contextual Overview
A21: HU
A22: MT
A23: NL
A24: AT | B24: 14 - 17 | C24: Section 2.3.1, Contextual Overview
A25: PL
A26: PT | B26: 12 - 16 | C26: Information provided by MS
A27: RO | B27: 14 - 15 | C27: Section 2.3.1, Contextual Overview
A28: SI
A29: SK | B29: 14 - 15 | C29: Section 2.3.1, Contextual Overview
A30: FI
A31: SE | B31: - | C31: Information provided by MS
A32: UK E&W
A33: UK NI
A34: UK Scot
A36: Information provided by the Member States
A37: IE - MACR is 12 but children aged 10-11 can also be criminally liable for serious crimes (murder, manslaughter, rape or aggravated sexual assault)
A38: PT - From the age of 12 up to 16 the Law on Educational Guardianship applies.
A39: SE - Children under 15 are not criminally liable and are not subject to sanctions (Chapter 1 Section 6 Criminal Code).

Sheet CRIM005
A1: Theme 2_Child offenders
A2: CRIM005 Existence of a national plan for the prevention of child involvement in crime
B5: Existence of a national plan for the prevention of child involvement in crime | C5: Date of entry into force | D5: Source
A6: BE
A7: BG | B7: Yes | D7: Information provided by MS
A8: CZ
A9: DK
A10: DE
A11: EE | B11: Yes | C11: 2010- | D11: Section 2.3.1, Contextual Overview
A12: IE | B12: In part | D12: Information provided by MS
A13: EL
A14: ES
A15: FR
A16: HR | B16: Yes | C16: 2009- | D16: Information provided by MS
A17: IT
A18: CY
A19: LV
A20: LT
A21: LU
A22: HU
A23: MT
A24: NL
A25: AT
A26: PL
A27: PT
A28: RO | B28: Yes | C28: 2008- | D28: Section 2.3.1, Contextual Overview
A29: SI
A30: SK
A31: FI
A32: SE | B32: Yes | C32: 2011- | D32: Information provided by MS
A33: UK E&W
A34: UK NI
A35: UK Scot
A37: Information provided by the Member States
A39: IE - National Youth Justice Strategy (2008-2010) and its successor the Youth Justice Action Plan (2013-2017).
A40: RO - National Strategy in the field of protection and promotion of child’s rights 2008-2013.
A41: HR - 2009-2012 National Strategy on prevention of disturbing behaviour of children and juveniles
A42: SE - The National Police Board commissioned an experimental work to prevent young people (15-25 year olds) from developing criminal lifestyle.

Sheet CRIM006
A1: Theme 2_Child offenders
A2: CRIM006 Existence of provisions in law for so-called status offences for juveniles (truancy, family misbehaviour, runaways, etc.)
B5: Legislation for status offences for juveniles | C5: Source
A6: BE | E6: Note A status offence for a juvenile is an act that would not, under the law of the jurisdiction in which the offence was committed, be a crime if committed by an adult. Examples of such offences are: truancy, family misbehaviour, and running away.
A7: BG | B7: Yes | C7: Information provided by MS
A8: CZ
A9: DK
A10: DE
A11: EE
A12: IE
A13: EL
A14: ES | B14: No | C14: Information provided by MS
A15: FR
A16: HR
A17: IT
A18: CY
A19: LV
A20: LT
A21: LU
A22: HU
A23: MT
A24: NL
A25: AT
A26: PL
A27: PT | B27: Yes | C27: Information provided by MS
A28: RO | B28: No | C28: Information provided by MS
A29: SI
A30: SK
A31: FI
A32: SE | B32: No | C32: Information provided by MS
A33: UK E&W
A34: UK NI
A35: UK Scot
A37: Information provided by the Member States
A38: BG - Article 49a of the Combating Anti-social Behaviour of Minors and Adolescents Act
A39: ES - There are no status offences for juveniles
A40: PT - Juvenile courts can apply measures for children between 12 and 16 years who demonstrate serious difficulties in adapting to a normal social life.
A41: RO - There are no status offences for juveniles

Sheet CRIM007
A1: .
A2: CRIM007 Child offenders tried in adult criminal court
B5: Notes | C5: Number of child offenders tried in adult criminal court during a 12-month period by sex | O5: Age* | Q5: Number of child offenders tried in adult criminal court | R5: Number of child offenders tried in adult criminal court
C6: 2008 | F6: 2009 | I6: 2010 | L6: 2011 | Q6: Countries where further disaggregation is available | R6: Countries where further approximate data are available | U6: Source
C7: Total | D7: Male | E7: Female | F7: Total | G7: Male | H7: Female | I7: Total | J7: Male | K7: Female | L7: Total | M7: Male | N7: Female
A8: BE | C8: 105 | F8: 83 | I8: 69 | L8: 96 | U8: BEDS34T2
A9: BG
A10: CZ
A11: DK
A12: DE
A13: EE | C13: 569 | F13: 536 | I13: 352 | L13: 257 | M13: 204 | N13: 53 | O13: 14-17 | R13: EEDS11T2 | U13: EEDS1T2,12
A14: IE
A15: EL
A16: ES
A17: FR
A18: HR
A19: IT | C19: 0 | D19: 0 | E19: 0 | F19: 0 | G19: 0 | H19: 0 | I19: 0 | J19: 0 | K19: 0 | L19: 0 | M19: 0 | N19: 0 | Q19: ITDS12T2
A20: CY
A21: LV
A22: LT
A23: LU
A24: HU
A25: MT
A26: NL
A27: AT
A28: PL
A29: PT
A30: RO
A31: SI
A32: SK | R32: SKDS7T2 | S32: SKDS8T2
A33: FI | U33: FIDS17T2
A34: SE
A35: UK E&W
A36: UK NI
A37: UK Scot
A39: Note: *The age of children varies between Member States - hence column 0 shows the ages in different Member States for nominators

Sheet CRIM008
A1: .
A2: CRIM008 Child offenders tried in juvenile courts
B5: Notes | C5: Number of child offenders tried in juvenile courts during a 12-month period | O5: Ages* | Q5: Number of child offenders tried in juvenile courts | T5: Number of child offenders tried in juvenile courts | AA5: Source
C6: 2008 | F6: 2009 | I6: 2010 | L6: 2011 | Q6: Countries where further disaggregation is available | T6: Countries where approximate data are available
C7: Total | D7: Male | E7: Female | F7: Total | G7: Male | H7: Female | I7: Total | J7: Male | K7: Female | L7: Total | M7: Male | N7: Female
A8: BE
A9: BG | C9: - | D9: - | E9: - | F9: - | G9: - | H9: - | I9: - | J9: - | K9: - | L9: - | M9: - | N9: -
A10: CZ
A11: DK
A12: DE | C12: 226985 | F12: 215032 | I12: 200656 | L12: 190049 | U12: DEDS2T2 | V12: DEDS3T2 | W12: DEDS54T2 | AA12: DEDS1T2
A13: EE | C13: - | D13: - | E13: - | F13: - | G13: - | H13: - | I13: - | J13: - | K13: - | L13: - | M13: - | N13: -
A14: IE | T14: IEDS14T2
A15: EL | L15: 14988 | M15: 12281 | N15: 966 | O15: 13-18 | Q15: ELDS5T2 | R15: ELDS6T2 | S15: ELDS7T2 | AA15: ELDS5T2
A16: ES | T16: ESDS9T2 | U16: ESDS14T2 | V16: ESDS15T2
A17: FR | T17: FRDS1T2 | U17: FRDS8T2 | V17: FRDS9T2 | W17: FRDS49T2 | X17: FRDS50T2 | Y17: FRDS51T2
A18: HR | C18: 1296 | D18: 1226 | E18: 70 | F18: 1238 | G18: 1172 | H18: 66 | I18: 1269 | J18: 1211 | K18: 58 | L18: 1084 | M18: 1029 | N18: 55 | AA18: HRDS13T2
A19: IT | C19: 36512 | D19: 30364.868 | E19: 6147.1321 | F19: 39118 | G19: 32810.078 | H19: 6307.9224 | I19: 41316 | J19: 34280.904 | K19: 7035.0964 | L19: - | M19: - | N19: - | Q19: ITDS13T2
A20: CY | C20: - | D20: - | E20: - | F20: - | G20: - | H20: - | I20: - | J20: - | K20: - | L20: - | M20: - | N20: -
A21: LV | C21: - | D21: - | E21: - | F21: - | G21: - | H21: - | I21: - | J21: - | K21: - | L21: - | M21: - | N21: -
A22: LT | C22: - | D22: - | E22: - | F22: - | G22: - | H22: - | I22: - | J22: - | K22: - | L22: - | M22: - | N22: -
A23: LU
A24: HU | C24: =SUM(D24:E24) -> 6532 | D24: 5763 | E24: 769 | F24: =SUM(G24:H24) -> 6481 | G24: 5663 | H24: 818 | I24: =SUM(J24:K24) -> 6743 | J24: 5887 | K24: 856 | L24: =SUM(M24:N24) -> 5970 | M24: 5248 | N24: 722 | Q24: HUDS13T2 | AA24: HUDS13T2
A25: MT
A26: NL | T26: NLDS29T2
A27: AT | F27: 6008 | I27: 5422 | L27: 4818 | Q27: ATDS43T2 | AA27: ATDS43T2
A28: PL | T28: PLDS8T2
A29: PT
A30: RO
A31: SI | C31: 814 | F31: 629 | I31: 613 | L31: 543 | Q31: SIDS16T2
A32: SK | C32: - | D32: - | E32: - | F32: - | G32: - | H32: - | I32: - | J32: - | K32: - | L32: - | M32: - | N32: -
A33: FI | C33: - | D33: - | E33: - | F33: - | G33: - | H33: - | I33: - | J33: - | K33: - | L33: - | M33: - | N33: -
A34: SE | C34: - | D34: - | E34: - | F34: - | G34: - | H34: - | I34: - | J34: - | K34: - | L34: - | M34: - | N34: -
A35: UK E&W | T35: UKEWDS24T2 | U35: UKEWDS25T2
A36: UK NI | T36: UKNIDS8T2
A37: UK Scot
A39: Note: *The age of children tried juvenile courts varies between Member States - hence column 0 shows the ages in different Member States for nominators

Sheet CRIM009
A1: .
A2: CRIM009 Children arrested
B5: Total number of children arrested by sex during a 12 month period | O5: Source | R5: Total number of children arrested | V5: Total number of children arrested | AB5: Number of children arrested per 100,000 child population (aged above MACR and below 18) by sex during a 12 month period | AO5: Percentage of children arrested out of total number of arrests by sex during a 12 month period | BA5: Percentage of children arrested | BC5: Number of children above the minimum age of criminal responsibility and below the age of 18
B6: 2008 | E6: 2009 | H6: 2010 | K6: 2011 | N6: Age* | R6: Countries where further disaggregation by age is available | V6: Countries where approximate data are available | AB6: 2008 | AE6: 2009 | AH6: 2010 | AK6: 2011 | AO6: 2008 | AR6: 2009 | AU6: 2010 | AX6: 2011 | BA6: Countries where approximate data are available | BC6: 2008 | BF6: 2009 | BI6: 2010 | BL6: 2011 | BO6: Source
B7: Total | C7: Male | D7: Female | E7: Total | F7: Male | G7: Female | H7: Total | I7: Male | J7: Female | K7: Total | L7: Male | M7: Female | AB7: Total | AC7: Male | AD7: Female | AE7: Total | AF7: Male | AG7: Female | AH7: Total | AI7: Male | AJ7: Female | AK7: Total | AL7: Male | AM7: Female | AO7: Total | AP7: Male | AQ7: Female | AR7: Total | AS7: Male | AT7: Female | AU7: Total | AV7: Male | AW7: Female | AX7: Total | AY7: Male | AZ7: Female | BC7: Total | BD7: Male | BE7: Female | BF7: Total | BG7: Male | BH7: Female | BI7: Total | BJ7: Male | BK7: Female | BL7: Total | BM7: Male | BN7: Female
A8: BE | BC8: =CRIM002!G8 -> 263617 | BD8: =CRIM002!H8 -> 134778 | BE8: =CRIM002!I8 -> 128839 | BF8: =CRIM002!J8 -> 264296 | BG8: =CRIM002!K8 -> 135041 | BH8: =CRIM002!L8 -> 129255 | BI8: =CRIM002!M8 -> 259281 | BJ8: =CRIM002!N8 -> 132204 | ... BN8: =CRIM002!R8 -> 123714 | BO8: EUROSTATDS1T1data
A9: BG | B9: 239 | E9: 199 | H9: 259 | K9: 294 | N9: 14-17 | O9: BGDS11T2 | R9: BGDS11T2 | V9: TransOtherDS1T2 | W9: BGDS15T2 | AB9: =(B9/BC9)*100000 -> 69.319968 | AE9: =(E9/BF9)*100000 -> 61.859067 | AH9: =(H9/BI9)*100000 -> 86.550865 | AK9: =(K9/BL9)*100000 -> 105.77746 | BC9: =CRIM002!G9 -> 344778 | BD9: =CRIM002!H9 -> 177223 | BE9: =CRIM002!I9 -> 167555 | BF9: =CRIM002!J9 -> 321699 | BG9: =CRIM002!K9 -> 165177 | BH9: =CRIM002!L9 -> 156522 | BI9: =CRIM002!M9 -> 299246 | BJ9: =CRIM002!N9 -> 153295 | ... BN9: =CRIM002!R9 -> 135053 | BO9: EUROSTATDS1T1data
A10: CZ | BC10: =CRIM002!G10 -> 382195 | BD10: =CRIM002!H10 -> 196205 | BE10: =CRIM002!I10 -> 185990 | BF10: =CRIM002!J10 -> 373973 | BG10: =CRIM002!K10 -> 192023 | BH10: =CRIM002!L10 -> 181950 | BI10: =CRIM002!M10 -> 352641 | BJ10: =CRIM002!N10 -> 180891 | ... BN10: =CRIM002!R10 -> 158604 | BO10: EUROSTATDS1T1data
A11: DK | V11: DKDS23T2 | BC11: =CRIM002!G11 -> 205567 | BD11: =CRIM002!H11 -> 105557 | BE11: =CRIM002!I11 -> 100010 | BF11: =CRIM002!J11 -> 209119 | BG11: =CRIM002!K11 -> 107283 | BH11: =CRIM002!L11 -> 101836 | BI11: =CRIM002!M11 -> 214192 | BJ11: =CRIM002!N11 -> 109809 | ... BN11: =CRIM002!R11 -> 105229 | BO11: EUROSTATDS1T1data
A12: DE | BC12: =CRIM002!G12 -> 3509997 | BD12: =CRIM002!H12 -> 1799990 | BE12: =CRIM002!I12 -> 1710007 | BF12: =CRIM002!J12 -> 3333801 | BG12: =CRIM002!K12 -> 1709884 | BH12: =CRIM002!L12 -> 1623917 | BI12: =CRIM002!M12 -> 3238514 | BJ12: =CRIM002!N12 -> 1661368 | ... BN12: =CRIM002!R12 -> 1558960 | BO12: EUROSTATDS1T1data
A13: EE | BC13: =CRIM002!G13 -> 68248 | BD13: =CRIM002!H13 -> 35058 | BE13: =CRIM002!I13 -> 33190 | BF13: =CRIM002!J13 -> 61617 | BG13: =CRIM002!K13 -> 31543 | BH13: =CRIM002!L13 -> 30074 | BI13: =CRIM002!M13 -> 56983 | BJ13: =CRIM002!N13 -> 29173 | ... BN13: =CRIM002!R13 -> 25831 | BO13: EUROSTATDS1T1data
A14: IE | BC14: =CRIM002!G14 -> 452690 | BD14: =CRIM002!H14 -> 232137 | BE14: =CRIM002!I14 -> 220553 | BF14: =CRIM002!J14 -> 456541 | BG14: =CRIM002!K14 -> 234091 | BH14: =CRIM002!L14 -> 222450 | BI14: =CRIM002!M14 -> 459383 | BJ14: =CRIM002!N14 -> 235544 | ... BN14: =CRIM002!R14 -> 228212 | BO14: EUROSTATDS1T1data
A15: EL | BC15: =CRIM002!G15 -> 347800 | BD15: =CRIM002!H15 -> 179623 | BE15: =CRIM002!I15 -> 168177 | BF15: =CRIM002!J15 -> 339985 | BG15: =CRIM002!K15 -> 174852 | BH15: =CRIM002!L15 -> 165133 | BI15: =CRIM002!M15 -> 336136 | BJ15: =CRIM002!N15 -> 173116 | ... BN15: =CRIM002!R15 -> 161266 | BO15: EUROSTATDS1T1data
A16: ES | BC16: =CRIM002!G16 -> 1765046 | BD16: =CRIM002!H16 -> 907868 | BE16: =CRIM002!I16 -> 857178 | BF16: =CRIM002!J16 -> 1754732 | BG16: =CRIM002!K16 -> 902213 | BH16: =CRIM002!L16 -> 852519 | BI16: =CRIM002!M16 -> 1734993 | BJ16: =CRIM002!N16 -> 891538 | ... BN16: =CRIM002!R16 -> 835583 | BO16: EUROSTATDS1T1data
A17: FR | BC17: =CRIM002!G17 -> 3975196 | BD17: =CRIM002!H17 -> 2033685 | BE17: =CRIM002!I17 -> 1941511 | BF17: =CRIM002!J17 -> 3948112 | BG17: =CRIM002!K17 -> 2018784 | BH17: =CRIM002!L17 -> 1929328 | BI17: =CRIM002!M17 -> 3941583 | BJ17: =CRIM002!N17 -> 2017129 | ... BN17: =CRIM002!R17 -> 1922459 | BO17: EUROSTATDS1T1data
A18: HR | H18: 1225 | I18: 1139 | J18: 86 | K18: 1174 | L18: 1086 | M18: 88 | N18: 14-17 | O18: HRDS14T2 | BC18: =CRIM002!G18 -> 205906 | BD18: =CRIM002!H18 -> 105426 | BE18: =CRIM002!I18 -> 100480 | BF18: =CRIM002!J18 -> 203195 | BG18: =CRIM002!K18 -> 104003 | BH18: =CRIM002!L18 -> 99192 | BI18: =CRIM002!M18 -> 200584 | BJ18: =CRIM002!N18 -> 102558 | ... BN18: =CRIM002!R18 -> 99541 | BO18: EUROSTATDS1T1data
A19: IT | B19: 6140 | E19: 5840 | H19: 4862 | K19: 5179 | O19: ITDS14T2 | V19: ITDS2T2 | BC19: =CRIM002!G19 -> 2353535 | BD19: =CRIM002!H19 -> 1209473 | BE19: =CRIM002!I19 -> 1144062 | BF19: =CRIM002!J19 -> 2332765 | BG19: =CRIM002!K19 -> 1199378 | BH19: =CRIM002!L19 -> 1133387 | BI19: =CRIM002!M19 -> 2308870 | BJ19: =CRIM002!N19 -> 1188149 | ... BN19: =CRIM002!R19 -> 1105694 | BO19: EUROSTATDS1T1data
A20: CY | BC20: =CRIM002!G20 -> 44893 | BD20: =CRIM002!H20 -> 22881 | BE20: =CRIM002!I20 -> 22012 | BF20: =CRIM002!J20 -> 45049 | BG20: =CRIM002!K20 -> 22960 | BH20: =CRIM002!L20 -> 22089 | BI20: =CRIM002!M20 -> 48711 | BJ20: =CRIM002!N20 -> 24958 | ... BN20: =CRIM002!R20 -> 23129 | BO20: EUROSTATDS1T1data
A21: LV | BC21: =CRIM002!G21 -> 121193 | BD21: =CRIM002!H21 -> 61513 | BE21: =CRIM002!I21 -> 59680 | BF21: =CRIM002!J21 -> 110057 | BG21: =CRIM002!K21 -> 56023 | BH21: =CRIM002!L21 -> 54034 | BI21: =CRIM002!M21 -> 98844 | BJ21: =CRIM002!N21 -> 50470 | ... BN21: =CRIM002!R21 -> 40917 | BO21: EUROSTATDS1T1data
A22: LT | BC22: =CRIM002!G22 -> 202336 | BD22: =CRIM002!H22 -> 103305 | BE22: =CRIM002!I22 -> 99031 | BF22: =CRIM002!J22 -> 189078 | BG22: =CRIM002!K22 -> 96670 | BH22: =CRIM002!L22 -> 92408 | BI22: =CRIM002!M22 -> 175857 | BJ22: =CRIM002!N22 -> 89901 | ... BN22: =CRIM002!R22 -> 76514 | BO22: EUROSTATDS1T1data
A23: LU | BC23: =CRIM002!G23 -> 11514 | BD23: =CRIM002!H23 -> 5972 | BE23: =CRIM002!I23 -> 5542 | BF23: =CRIM002!J23 -> 11623 | BG23: =CRIM002!K23 -> 5965 | BH23: =CRIM002!L23 -> 5658 | BI23: =CRIM002!M23 -> 11989 | BJ23: =CRIM002!N23 -> 6141 | ... BN23: =CRIM002!R23 -> 6061 | BO23: EUROSTATDS1T1data
A24: HU | B24: 638 | C24: 586 | D24: 52 | E24: 621 | F24: 575 | G24: 46 | H24: 537 | I24: 500 | J24: 37 | N24: 14-17 | O24: TransOtherDS1T2 | V24: HUDS13T2 | AB24: =(B24/BC24)*100000 -> 130.87475 | AC24: =(C24/BD24)*100000 -> 235.262 | AD24: =(D24/BE24)*100000 -> 21.811623 | AE24: =(E24/BF24)*100000 -> 130.75198 | AF24: =(F24/BG24)*100000 -> 236.6859 | AG24: =(G24/BH24)*100000 -> 19.826988 | AH24: =(H24/BI24)*100000 -> 116.52179 | AI24: =(I24/BJ24)*100000 -> 211.99825 | AJ24: =(J24/BK24)*100000 -> 16.443933 | BC24: =CRIM002!G24 -> 487489 | BD24: =CRIM002!H24 -> 249084 | BE24: =CRIM002!I24 -> 238405 | BF24: =CRIM002!J24 -> 474945 | BG24: =CRIM002!K24 -> 242938 | BH24: =CRIM002!L24 -> 232007 | BI24: =CRIM002!M24 -> 460858 | BJ24: =CRIM002!N24 -> 235851 | ... BN24: =CRIM002!R24 -> 217340 | BO24: EUROSTATDS1T1data
A25: MT | BC25: =CRIM002!G25 -> 22293 | BD25: =CRIM002!H25 -> 11408 | BE25: =CRIM002!I25 -> 10885 | BF25: =CRIM002!J25 -> 21754 | BG25: =CRIM002!K25 -> 11112 | BH25: =CRIM002!L25 -> 10642 | BI25: =CRIM002!M25 -> 21148 | BJ25: =CRIM002!N25 -> 10863 | ... BN25: =CRIM002!R25 -> 9926 | BO25: EUROSTATDS1T1data
A26: NL | B26: 29340 | C26: 23520 | D26: 5820 | E26: 25160 | F26: 20100 | G26: 5060 | H26: 22570 | I26: 18030 | J26: 4540 | O26: NLD38T2 | R26: NLD38T2 | S26: NLD37T2 | T26: NLD39T2 | U26: NLD40T2 | BC26: =CRIM002!G26 -> 1201945 | BD26: =CRIM002!H26 -> 614939 | BE26: =CRIM002!I26 -> 587006 | BF26: =CRIM002!J26 -> 1191453 | BG26: =CRIM002!K26 -> 609943 | BH26: =CRIM002!L26 -> 581510 | BI26: =CRIM002!M26 -> 1184064 | BJ26: =CRIM002!N26 -> 606063 | ... BN26: =CRIM002!R26 -> 578531 | BO26: EUROSTATDS1T1data
A27: AT | BC27: =CRIM002!G27 -> 399480 | BD27: =CRIM002!H27 -> 205046 | BE27: =CRIM002!I27 -> 194434 | BF27: =CRIM002!J27 -> 397523 | BG27: =CRIM002!K27 -> 204086 | BH27: =CRIM002!L27 -> 193437 | BI27: =CRIM002!M27 -> 390159 | BJ27: =CRIM002!N27 -> 200345 | ... BN27: =CRIM002!R27 -> 187256 | BO27: EUROSTATDS1T1data
A28: PL | B28: 6766 | C28: 6035 | D28: 731 | N28: 13-16 | O28: TransOtherDS1T2 | V28: PLDS11T2 | W28: PLDS24T2 | AB28: =(B28/BC28)*100000 -> 426.32504 | AC28: =(C28/BD28)*100000 -> 743.36117 | AD28: =(D28/BE28)*100000 -> 94.298367 | BC28: =CRIM002!G28 -> 1587052 | BD28: =CRIM002!H28 -> 811853 | BE28: =CRIM002!I28 -> 775199 | BF28: =CRIM002!J28 -> 1520229 | BG28: =CRIM002!K28 -> 777446 | BH28: =CRIM002!L28 -> 742783 | BI28: =CRIM002!M28 -> 1448494 | BJ28: =CRIM002!N28 -> 739549 | ... BN28: =CRIM002!R28 -> 678946 | BO28: EUROSTATDS1T1data
A29: PT | BC29: =CRIM002!G29 -> 233428 | BD29: =CRIM002!H29 -> 119134 | BE29: =CRIM002!I29 -> 114294 | BF29: =CRIM002!J29 -> 229340 | BG29: =CRIM002!K29 -> 116745 | BH29: =CRIM002!L29 -> 112595 | BI29: =CRIM002!M29 -> 223995 | BJ29: =CRIM002!N29 -> 114014 | ... BN29: =CRIM002!R29 -> 109691 | BO29: EUROSTATDS1T1data
A30: RO | B30: 683 | C30: 649 | D30: 34 | E30: 746 | F30: 721 | G30: 25 | H30: 459 | I30: 435 | J30: 24 | N30: 14-17 | O30: TransOtherDS1T2 | AB30: =(B30/BC30)*100000 -> 66.053775 | AC30: =(C30/BD30)*100000 -> 122.77181 | AD30: =(D30/BE30)*100000 -> 6.727571 | AE30: =(E30/BF30)*100000 -> 76.77322 | AF30: =(F30/BG30)*100000 -> 144.89958 | AG30: =(G30/BH30)*100000 -> 5.2730713 | AH30: =(H30/BI30)*100000 -> 48.967783 | AI30: =(I30/BJ30)*100000 -> 90.703232 | AJ30: =(J30/BK30)*100000 -> 5.2428648 | BC30: =CRIM002!G30 -> 1034006 | BD30: =CRIM002!H30 -> 528623 | BE30: =CRIM002!I30 -> 505383 | BF30: =CRIM002!J30 -> 971693 | BG30: =CRIM002!K30 -> 497586 | BH30: =CRIM002!L30 -> 474107 | BI30: =CRIM002!M30 -> 937351 | BJ30: =CRIM002!N30 -> 479586 | ... BN30: =CRIM002!R30 -> 441348 | BO30: EUROSTATDS1T1data
A31: SI | B31: 134 | C31: 128 | D31: 6 | E31: 120 | F31: 118 | G31: 2 | H31: 133 | I31: 124 | J31: 9 | N31: 14-17 | O31: TransOtherDS1T2 | P31: SIDS17T2 | AB31: =(B31/BC31)*100000 -> 157.84018 | AC31: =(C31/BD31)*100000 -> 293.18796 | AD31: =(D31/BE31)*100000 -> 14.549687 | AE31: =(E31/BF31)*100000 -> 145.36821 | AF31: =(F31/BG31)*100000 -> 278.09201 | AG31: =(G31/BH31)*100000 -> 4.9854177 | AH31: =(H31/BI31)*100000 -> 165.7982 | AI31: =(I31/BJ31)*100000 -> 301.02202 | AJ31: =(J31/BK31)*100000 -> 23.06214 | BC31: =CRIM002!G31 -> 84896 | BD31: =CRIM002!H31 -> 43658 | BE31: =CRIM002!I31 -> 41238 | BF31: =CRIM002!J31 -> 82549 | BG31: =CRIM002!K31 -> 42432 | BH31: =CRIM002!L31 -> 40117 | BI31: =CRIM002!M31 -> 80218 | BJ31: =CRIM002!N31 -> 41193 | ... BN31: =CRIM002!R31 -> 38596 | BO31: EUROSTATDS1T1data
A32: SK | B32: 186 | N32: 14-17 | O32: TransOtherDS1T2 | AB32: =(B32/BC32)*100000 -> 61.548032 | BC32: =CRIM002!G32 -> 302203 | BD32: =CRIM002!H32 -> 154668 | BE32: =CRIM002!I32 -> 147535 | BF32: =CRIM002!J32 -> 289241 | BG32: =CRIM002!K32 -> 147673 | BH32: =CRIM002!L32 -> 141568 | BI32: =CRIM002!M32 -> 272991 | BJ32: =CRIM002!N32 -> 139447 | ... BN32: =CRIM002!R32 -> 126043 | BO32: EUROSTATDS1T1data
A33: FI | B33: 363 | C33: 335 | D33: 28 | E33: 382 | F33: 351 | G33: 31 | H33: 361 | I33: 326 | J33: 35 | K33: 339 | L33: 310 | M33: 29 | O33: FIDS16T2 | R33: FIDS4T2 | S33: FIDS16T2 | V33: FIDS1T2 | BC33: =CRIM002!G33 -> 201435 | BD33: =CRIM002!H33 -> 102796 | BE33: =CRIM002!I33 -> 98639 | BF33: =CRIM002!J33 -> 200398 | BG33: =CRIM002!K33 -> 102093 | BH33: =CRIM002!L33 -> 98305 | BI33: =CRIM002!M33 -> 200133 | BJ33: =CRIM002!N33 -> 101912 | ... BN33: =CRIM002!R33 -> 96521 | BO33: EUROSTATDS1T1data
A34: SE | BC34: =CRIM002!G34 -> 389919 | BD34: =CRIM002!H34 -> 200743 | BE34: =CRIM002!I34 -> 189176 | BF34: =CRIM002!J34 -> 382437 | BG34: =CRIM002!K34 -> 196677 | BH34: =CRIM002!L34 -> 185760 | BI34: =CRIM002!M34 -> 371651 | BJ34: =CRIM002!N34 -> 190709 | ... BN34: =CRIM002!R34 -> 172288 | BO34: EUROSTATDS1T1data
A35: UK E&W | B35: =SUM(C35:D35) -> 315401 | C35: 250601 | D35: 64800 | E35: =SUM(F35:G35) -> 273269 | F35: 218141 | G35: 55128 | H35: =SUM(I35:J35) -> 241737 | I35: 193703 | J35: 48034 | K35: =SUM(L35:M35) -> 210660 | L35: 172017 | M35: 38643 | N35: 10-17 | O35: UKEWDS6T2 | R35: UKEWDS6T2 | AB35: =(B35/BC35)*100000 -> 5917.9113 | AC35: =(C35/BD35)*100000 -> 9167.7703 | AD35: =(D35/BE35)*100000 -> 2496.0518 | AE35: =(E35/BF35)*100000 -> 5205.5204 | AF35: =(F35/BG35)*100000 -> 8106.3174 | AG35: =(G35/BH35)*100000 -> 2154.6158 | AH35: =(H35/BI35)*100000 -> 4679.475 | AI35: =(I35/BJ35)*100000 -> 7314.2393 | AJ35: =(J35/BK35)*100000 -> 1907.9282 | BC35: =CRIM002!G35 -> 5329600 | BD35: =CRIM002!H35 -> 2733500 | BE35: =CRIM002!I35 -> 2596100 | BF35: =CRIM002!J35 -> 5249600 | BG35: =CRIM002!K35 -> 2691000 | BH35: =CRIM002!L35 -> 2558600 | BI35: =CRIM002!M35 -> 5165900 | BJ35: =CRIM002!N35 -> 2648300 | BK35: =CRIM002!O35 -> 2517600 | BO35: EUROSTATDS1T1data
A36: UK NI | B36: - | C36: - | D36: - | E36: - | F36: - | G36: - | H36: 2261 | I36: 1808 | J36: 453 | K36: 1839 | L36: 1492 | M36: 347 | N36: 10-17. | O36: UKNIDS7T2 | BC36: =CRIM002!G36 -> 199800 | BD36: =CRIM002!H36 -> 102500 | BE36: =CRIM002!I36 -> 97300 | BF36: =CRIM002!J36 -> 198200 | BG36: =CRIM002!K36 -> 101600 | BH36: =CRIM002!L36 -> 96600 | BI36: =CRIM002!M36 -> 194900 | BJ36: =CRIM002!N36 -> 99800 | BK36: =CRIM002!O36 -> 95100 | BO36: EUROSTATDS1T1data
A37: UK Scot | B37: - | C37: - | D37: - | E37: - | F37: - | G37: - | H37: - | I37: - | J37: - | K37: - | L37: - | M37: - | BC37: =CRIM002!G37 -> 604200 | BD37: =CRIM002!H37 -> 309700 | BE37: =CRIM002!I37 -> 294500 | BF37: =CRIM002!J37 -> 592900 | BG37: =CRIM002!K37 -> 303500 | BH37: =CRIM002!L37 -> 289400 | BI37: =CRIM002!M37 -> 580000 | BJ37: =CRIM002!N37 -> 296900 | BK37: =CRIM002!O37 -> 283100 | BO37: EUROSTATDS1T1data
A39: Note: *The age of children eligible for arrest varies between Member States - hence column N shows the ages in different Member States for nominators

Sheet CRIM010
A1: .
A2: CRIM010 Children brought into formal contact with the police and/or criminal justice system, all crimes
A3: Definition: “Formal Contact” with the police and/or criminal justice system may include persons suspected, or arrested or cautioned.
B5: Total number of children brought into formal contact with the police and/or criminal justice system | G5: Number of children brought into formal contact with the policy per 100,000 child population (aged above MACR and below 18)* | L5: Source | M5: Children brought into formal contact with the police and/or criminal justice system | T5: Number of children above the minimum age of criminal responsibility and below the age of 18
B6: 2008 | C6: 2009 | D6: 2010 | E6: 2011 | G6: 2008 | H6: 2009 | I6: 2010 | J6: 2011 | M6: Countries where approximate data are available | T6: 2008 | U6: 2009 | V6: 2010 | W6: 2011 | X6: Source
A7: BE | T7: =CRIM002!G8 -> 263617 | U7: =CRIM002!J8 -> 264296 | V7: =CRIM002!M8 -> 259281 | W7: =CRIM002!P8 -> 253925 | X7: EUROSTATDS1T1data
A8: BG | B8: 6316 | C8: 4712 | D8: 5080 | G8: =(B8/T8)*100000 -> 1831.9034 | H8: =(C8/U8)*100000 -> 1464.7232 | I8: =(D8/V8)*100000 -> 1697.6 | L8: UNODCDS2T2 | T8: =CRIM002!G9 -> 344778 | U8: =CRIM002!J9 -> 321699 | V8: =CRIM002!M9 -> 299246 | W8: =CRIM002!P9 -> 277942 | X8: EUROSTATDS1T1data
A9: CZ | B9: 8737 | C9: 7433 | G9: =(B9/T9)*100000 -> 2286.0058 | H9: =(C9/U9)*100000 -> 1987.5766 | L9: UNODCDS2T2 | T9: =CRIM002!G10 -> 382195 | U9: =CRIM002!J10 -> 373973 | V9: =CRIM002!M10 -> 352641 | W9: =CRIM002!P10 -> 325591 | X9: EUROSTATDS1T1data
A10: DK | M10: DKDS15T2 | T10: =CRIM002!G11 -> 205567 | U10: =CRIM002!J11 -> 209119 | V10: =CRIM002!M11 -> 214192 | W10: =CRIM002!P11 -> 215945 | X10: EUROSTATDS1T1data
A11: DE | B11: 265771 | C11: 254205 | D11: 231543 | G11: =(B11/T11)*100000 -> 7571.8298 | H11: =(C11/U11)*100000 -> 7625.0802 | I11: =(D11/V11)*100000 -> 7149.668 | L11: UNODCDS2T2 | M11: DEDS35T2 | N11: DEDS36T2 | O11: DEDS39T2 | P11: DEDS40T2 | Q11: DEDS41T2 | R11: DEDS42T2 | T11: =CRIM002!G12 -> 3509997 | U11: =CRIM002!J12 -> 3333801 | V11: =CRIM002!M12 -> 3238514 | W11: =CRIM002!P12 -> 3204259 | X11: EUROSTATDS1T1data
A12: EE | B12: 2227 | C12: 1673 | D12: 1486 | G12: =(B12/T12)*100000 -> 3263.0993 | H12: =(C12/U12)*100000 -> 2715.1598 | I12: =(D12/V12)*100000 -> 2607.7953 | L12: UNODCDS2T2 | M12: EEDS12T2 | T12: =CRIM002!G13 -> 68248 | U12: =CRIM002!J13 -> 61617 | V12: =CRIM002!M13 -> 56983 | W12: =CRIM002!P13 -> 52934 | X12: EUROSTATDS1T1data
A13: IE | T13: =CRIM002!G14 -> 452690 | U13: =CRIM002!J14 -> 456541 | V13: =CRIM002!M14 -> 459383 | W13: =CRIM002!P14 -> 468781 | X13: EUROSTATDS1T1data
A14: EL | B14: 7748 | C14: 6460 | D14: 7296 | G14: =(B14/T14)*100000 -> 2227.7171 | H14: =(C14/U14)*100000 -> 1900.0838 | I14: =(D14/V14)*100000 -> 2170.55 | L14: UNODCDS2T2 | T14: =CRIM002!G15 -> 347800 | U14: =CRIM002!J15 -> 339985 | V14: =CRIM002!M15 -> 336136 | W14: =CRIM002!P15 -> 332797 | X14: EUROSTATDS1T1data
A15: ES | B15: 18749 | C15: 19736 | D15: 18341 | G15: =(B15/T15)*100000 -> 1062.2386 | H15: =(C15/U15)*100000 -> 1124.7302 | I15: =(D15/V15)*100000 -> 1057.1224 | L15: UNODCDS2T2 | T15: =CRIM002!G16 -> 1765046 | U15: =CRIM002!J16 -> 1754732 | V15: =CRIM002!M16 -> 1734993 | W15: =CRIM002!P16 -> 1717790 | X15: EUROSTATDS1T1data
A16: FR | B16: 207821 | C16: 214612 | D16: Nav | G16: =(B16/T16)*100000 -> 5227.9435 | H16: =(C16/U16)*100000 -> 5435.8134 | L16: UNODCDS2T2 | T16: =CRIM002!G17 -> 3975196 | U16: =CRIM002!J17 -> 3948112 | V16: =CRIM002!M17 -> 3941583 | W16: =CRIM002!P17 -> 3938236 | X16: EUROSTATDS1T1data
A17: HR | B17: 3575 | C17: 3047 | D17: 3323 | G17: =(B17/T17)*100000 -> 1736.2292 | H17: =(C17/U17)*100000 -> 1499.5448 | I17: =(D17/V17)*100000 -> 1656.6625 | L17: UNODCDS2T2 | T17: =CRIM002!G18 -> 205906 | U17: =CRIM002!J18 -> 203195 | V17: =CRIM002!M18 -> 200584 | W17: =CRIM002!P18 -> 203673 | X17: EUROSTATDS1T1data
A18: IT | B18: 31826 | C18: 30161 | D18: 29558 | G18: =(B18/T18)*100000 -> 1352.2637 | H18: =(C18/U18)*100000 -> 1292.9292 | I18: =(D18/V18)*100000 -> 1280.1933 | L18: UNODCDS2T2 | T18: =CRIM002!G19 -> 2353535 | U18: =CRIM002!J19 -> 2332765 | V18: =CRIM002!M19 -> 2308870 | W18: =CRIM002!P19 -> 2279534 | X18: EUROSTATDS1T1data
A19: CY | C19: 757 | L19: UNODCDS2T2 | T19: =CRIM002!G20 -> 44893 | U19: =CRIM002!J20 -> 45049 | V19: =CRIM002!M20 -> 48711 | W19: =CRIM002!P20 -> 47581 | X19: EUROSTATDS1T1data
A20: LV | B20: 2257 | C20: 1773 | D20: 1538 | G20: =(B20/T20)*100000 -> 1862.3188 | H20: =(C20/U20)*100000 -> 1610.9834 | I20: =(D20/V20)*100000 -> 1555.9872 | L20: UNODCDS2T2 | T20: =CRIM002!G21 -> 121193 | U20: =CRIM002!J21 -> 110057 | V20: =CRIM002!M21 -> 98844 | W20: =CRIM002!P21 -> 83911 | X20: EUROSTATDS1T1data
A21: LT | B21: 3418 | C21: 3147 | D21: 2655 | G21: =(B21/T21)*100000 -> 1689.2693 | H21: =(C21/U21)*100000 -> 1664.3925 | I21: =(D21/V21)*100000 -> 1509.7494 | L21: UNODCDS2T2 | T21: =CRIM002!G22 -> 202336 | U21: =CRIM002!J22 -> 189078 | V21: =CRIM002!M22 -> 175857 | W21: =CRIM002!P22 -> 156665 | X21: EUROSTATDS1T1data
A22: LU | B22: 2145 | G22: =(B22/T22)*100000 -> 18629.495 | L22: UNODCDS2T2 | T22: =CRIM002!G23 -> 11514 | U22: =CRIM002!J23 -> 11623 | V22: =CRIM002!M23 -> 11989 | W22: =CRIM002!P23 -> 12321 | X22: EUROSTATDS1T1data
A23: HU | B23: 13511 | C23: 12062 | D23: 11413 | G23: =(B23/T23)*100000 -> 2771.5497 | H23: =(C23/U23)*100000 -> 2539.6625 | I23: =(D23/V23)*100000 -> 2476.4678 | L23: UNODCDS2T2 | T23: =CRIM002!G24 -> 487489 | U23: =CRIM002!J24 -> 474945 | V23: =CRIM002!M24 -> 460858 | W23: =CRIM002!P24 -> 445532 | X23: EUROSTATDS1T1data
A24: MT | B24: 282 | C24: 300 | D24: 389 | G24: =(B24/T24)*100000 -> 1264.9711 | H24: =(C24/U24)*100000 -> 1379.0567 | I24: =(D24/V24)*100000 -> 1839.4174 | L24: UNODCDS2T2 | T24: =CRIM002!G25 -> 22293 | U24: =CRIM002!J25 -> 21754 | V24: =CRIM002!M25 -> 21148 | W24: =CRIM002!P25 -> 20493 | X24: EUROSTATDS1T1data
A25: NL | B25: 84115 | C25: 70405 | D25: 60575 | G25: =(B25/T25)*100000 -> 6998.2404 | H25: =(C25/U25)*100000 -> 5909.1714 | I25: =(D25/V25)*100000 -> 5115.8552 | L25: UNODCDS2T2 | M25: NLDS27T2 | T25: =CRIM002!G26 -> 1201945 | U25: =CRIM002!J26 -> 1191453 | V25: =CRIM002!M26 -> 1184064 | W25: =CRIM002!P26 -> 1184970 | X25: EUROSTATDS1T1data
A26: AT | B26: 35912 | C26: 33063 | D26: 29306 | G26: =(B26/T26)*100000 -> 8989.6866 | H26: =(C26/U26)*100000 -> 8317.2546 | I26: =(D26/V26)*100000 -> 7511.2967 | L26: UNODCDS2T2 | M26: ATDS24T2 | N26: ATDS26T2 | T26: =CRIM002!G27 -> 399480 | U26: =CRIM002!J27 -> 397523 | V26: =CRIM002!M27 -> 390159 | W26: =CRIM002!P27 -> 384062 | X26: EUROSTATDS1T1data
A27: PL | B27: 52081 | C27: 50872 | D27: 51163 | G27: =(B27/T27)*100000 -> 3281.619 | H27: =(C27/U27)*100000 -> 3346.338 | I27: =(D27/V27)*100000 -> 3532.1513 | L27: UNODCDS2T2 | T27: =CRIM002!G28 -> 1587052 | U27: =CRIM002!J28 -> 1520229 | V27: =CRIM002!M28 -> 1448494 | W27: =CRIM002!P28 -> 1387473 | X27: EUROSTATDS1T1data
A28: PT | B28: 3619 | C28: 3613 | D28: 3200 | G28: =(B28/T28)*100000 -> 1550.371 | H28: =(C28/U28)*100000 -> 1575.3903 | I28: =(D28/V28)*100000 -> 1428.6033 | L28: UNODCDS2T2 | T28: =CRIM002!G29 -> 233428 | U28: =CRIM002!J29 -> 229340 | V28: =CRIM002!M29 -> 223995 | W28: =CRIM002!P29 -> 224413 | X28: EUROSTATDS1T1data
A29: RO | B29: 13831 | C29: 13134 | G29: =(B29/T29)*100000 -> 1337.6131 | H29: =(C29/U29)*100000 -> 1351.6615 | L29: UNODCDS2T2 | T29: =CRIM002!G30 -> 1034006 | U29: =CRIM002!J30 -> 971693 | V29: =CRIM002!M30 -> 937351 | W29: =CRIM002!P30 -> 903970 | X29: EUROSTATDS1T1data
A30: SI | B30: 1474 | C30: 1563 | D30: 1455 | G30: =(B30/T30)*100000 -> 1736.242 | H30: =(C30/U30)*100000 -> 1893.4209 | I30: =(D30/V30)*100000 -> 1813.8074 | L30: UNODCDS2T2 | M30: SIDS5T2 | T30: =CRIM002!G31 -> 84896 | U30: =CRIM002!J31 -> 82549 | V30: =CRIM002!M31 -> 80218 | W30: =CRIM002!P31 -> 79273 | X30: EUROSTATDS1T1data
A31: SK | B31: 6196 | C31: 6031 | G31: =(B31/T31)*100000 -> 2050.2775 | H31: =(C31/U31)*100000 -> 2085.1124 | L31: UNODCDS2T2 | T31: =CRIM002!G32 -> 302203 | U31: =CRIM002!J32 -> 289241 | V31: =CRIM002!M32 -> 272991 | W31: =CRIM002!P32 -> 258520 | X31: EUROSTATDS1T1data
A32: FI | B32: 38574 | C32: 35703 | D32: 35032 | G32: =(B32/T32)*100000 -> 19149.602 | H32: =(C32/U32)*100000 -> 17816.046 | I32: =(D32/V32)*100000 -> 17504.36 | L32: UNODCDS2T2 | M32: FIDS15T2 | T32: =CRIM002!G33 -> 201435 | U32: =CRIM002!J33 -> 200398 | V32: =CRIM002!M33 -> 200133 | W32: =CRIM002!P33 -> 196619 | X32: EUROSTATDS1T1data
A33: SE | B33: 17711 | C33: 18039 | D33: 16664 | E33: 14270 | G33: 4631.0896 | H33: 4853.7472 | I33: 4705.5501 | J33: 4260.5154 | T33: =CRIM002!G34 -> 389919 | U33: =CRIM002!J34 -> 382437 | V33: =CRIM002!M34 -> 371651 | W33: =CRIM002!P34 -> 354135 | X33: EUROSTATDS1T1data
A34: UK E&W | T34: =CRIM002!G35 -> 5329600 | U34: =CRIM002!J35 -> 5249600 | V34: =CRIM002!M35 -> 5165900 | X34: EUROSTATDS1T1data
A35: UK NI | B35: 8820 | G35: =(B35/T35)*100000 -> 4414.4144 | L35: UNODCDS2T2 | T35: =CRIM002!G36 -> 199800 | U35: =CRIM002!J36 -> 198200 | V35: =CRIM002!M36 -> 194900 | X35: EUROSTATDS1T1data
A36: UK Scot | T36: =CRIM002!G37 -> 604200 | U36: =CRIM002!J37 -> 592900 | V36: =CRIM002!M37 -> 580000 | X36: EUROSTATDS1T1data
A38: Notes: *The police can make formal contact with children below the age of MACR and the same child might be in contact with the police more than once. UNODC provides a rate based on total child population (0-17 year olds) [for details see UNODCDS2T2data].

Sheet CRIM011
A1: .
A2: CRIM011 Children arrested who were arrested for the first time
B5: Total number of children arrested who were arrested for the first time by sex during a 12 month period | O5: Percentage of children arrested for the first time out of total arrested children by sex during a 12 month period | AA5: Children arrested who were arrested for the first time
B6: 2008 | E6: 2009 | H6: 2010 | K6: 2011 | O6: 2008 | R6: 2009 | U6: 2010 | X6: 2011 | AA6: Countries where further disaggregation is available
B7: Total | C7: Male | D7: Female | E7: Total | F7: Male | G7: Female | H7: Total | I7: Male | J7: Female | K7: Total | L7: Male | M7: Female | O7: Total | P7: Male | Q7: Female | R7: Total | S7: Male | T7: Female | U7: Total | V7: Male | W7: Female | X7: Total | Y7: Male | Z7: Female
A8: BE
A9: BG | AA9: BGDS9T2data
A10: CZ
A11: DK
A12: DE
A13: EE
A14: IE
A15: EL
A16: ES
A17: FR
A18: HR
A19: IT
A20: CY
A21: LV
... A26: NL
A27: AT | B27: 445 | C27: 385 | D27: 60 | E27: 522 | F27: 471 | G27: 51 | H27: 514 | I27: 455 | J27: 59 | K27: 351 | L27: 306 | M27: 45 | AA27: ATDS44T2
A28: PL
A29: PT
A30: RO
A31: SI
A32: SK
A33: FI
A34: SE
A35: UK E&W
A36: UK NI | AA36: UKNIDS7T2
A37: UK Scot

Sheet CRIM012
A1: .
A2: CRIM012 Children charged with an offence
B5: Notes | C5: Total number of children charged with an offence by sex during a 12 month period | T5: Number of children charged with an offence | Z5: Number of children charged with an offence per 100,000 child population (above MACR and below 18 years) by sex during a 12 month period | AM5: Percentage of children charged with an offence out of total arrested children by sex during a 12 month period | AY5: Source | BA5: Number of children above the minimum age of criminal responsibility and below the age of 18
C6: 2008 | F6: 2009 | I6: 2010 | L6: 2011 | P6: Age* | R6: Source | T6: Countries where further disaggregation by age is available | V6: Countries where approximate data are available | Z6: 2008 | AC6: 2009 | AF6: 2010 | AI6: 2011 | AM6: 2008 | AP6: 2009 | AS6: 2010 | AV6: 2011 | BA6: 2008 | BD6: 2009 | BG6: 2010 | BJ6: 2011 | BM6: Source
C7: Total | D7: Male | E7: Female | F7: Total | G7: Male | H7: Female | I7: Total | J7: Male | K7: Female | L7: Total | M7: Male | N7: Female | Z7: Total | AA7: Male | AB7: Female | AC7: Total | AD7: Male | AE7: Female | AF7: Total | AG7: Male | AH7: Female | AI7: Total | AJ7: Male | AK7: Female | AM7: Total | AN7: Male | AO7: Female | AP7: Total | AQ7: Male | AR7: Female | AS7: Total | AT7: Male | AU7: Female | AV7: Total | AW7: Male | AX7: Female | BA7: Total | BB7: Male | BC7: Female | BD7: Total | BE7: Male | BF7: Female | BG7: Total | BH7: Male | BI7: Female | BJ7: Total | BK7: Male | BL7: Female
A8: BE | BA8: =CRIM002!G8 -> 263617 | BB8: =CRIM002!H8 -> 134778 | BC8: =CRIM002!I8 -> 128839 | BD8: =CRIM002!J8 -> 264296 | BE8: =CRIM002!K8 -> 135041 | BF8: =CRIM002!L8 -> 129255 | BG8: =CRIM002!M8 -> 259281 | BH8: =CRIM002!N8 -> 132204 | ... BL8: =CRIM002!R8 -> 123714 | BM8: EUROSTATDS1T1data
A9: BG | AP9: 97 | AS9: 90.3 | AV9: 86 | AY9: BGDS13T2 | BA9: =CRIM002!G9 -> 344778 | BB9: =CRIM002!H9 -> 177223 | BC9: =CRIM002!I9 -> 167555 | BD9: =CRIM002!J9 -> 321699 | BE9: =CRIM002!K9 -> 165177 | BF9: =CRIM002!L9 -> 156522 | BG9: =CRIM002!M9 -> 299246 | BH9: =CRIM002!N9 -> 153295 | ... BL9: =CRIM002!R9 -> 135053 | BM9: EUROSTATDS1T1data
A10: CZ | V10: CZDS23T2 | BA10: =CRIM002!G10 -> 382195 | BB10: =CRIM002!H10 -> 196205 | BC10: =CRIM002!I10 -> 185990 | BD10: =CRIM002!J10 -> 373973 | BE10: =CRIM002!K10 -> 192023 | BF10: =CRIM002!L10 -> 181950 | BG10: =CRIM002!M10 -> 352641 | BH10: =CRIM002!N10 -> 180891 | ... BL10: =CRIM002!R10 -> 158604 | BM10: EUROSTATDS1T1data
A11: DK | V11: DKDS14T2 | BA11: =CRIM002!G11 -> 205567 | BB11: =CRIM002!H11 -> 105557 | BC11: =CRIM002!I11 -> 100010 | BD11: =CRIM002!J11 -> 209119 | BE11: =CRIM002!K11 -> 107283 | BF11: =CRIM002!L11 -> 101836 | BG11: =CRIM002!M11 -> 214192 | BH11: =CRIM002!N11 -> 109809 | ... BL11: =CRIM002!R11 -> 105229 | BM11: EUROSTATDS1T1data
A12: DE | V12: DEDS22T2 | BA12: =CRIM002!G12 -> 3509997 | BB12: =CRIM002!H12 -> 1799990 | BC12: =CRIM002!I12 -> 1710007 | BD12: =CRIM002!J12 -> 3333801 | BE12: =CRIM002!K12 -> 1709884 | BF12: =CRIM002!L12 -> 1623917 | BG12: =CRIM002!M12 -> 3238514 | BH12: =CRIM002!N12 -> 1661368 | ... BL12: =CRIM002!R12 -> 1558960 | BM12: EUROSTATDS1T1data
A13: EE | BA13: =CRIM002!G13 -> 68248 | BB13: =CRIM002!H13 -> 35058 | BC13: =CRIM002!I13 -> 33190 | BD13: =CRIM002!J13 -> 61617 | BE13: =CRIM002!K13 -> 31543 | BF13: =CRIM002!L13 -> 30074 | BG13: =CRIM002!M13 -> 56983 | BH13: =CRIM002!N13 -> 29173 | ... BL13: =CRIM002!R13 -> 25831 | BM13: EUROSTATDS1T1data
A14: IE | BA14: =CRIM002!G14 -> 452690 | BB14: =CRIM002!H14 -> 232137 | BC14: =CRIM002!I14 -> 220553 | BD14: =CRIM002!J14 -> 456541 | BE14: =CRIM002!K14 -> 234091 | BF14: =CRIM002!L14 -> 222450 | BG14: =CRIM002!M14 -> 459383 | BH14: =CRIM002!N14 -> 235544 | ... BL14: =CRIM002!R14 -> 228212 | BM14: EUROSTATDS1T1data
A15: EL | BA15: =CRIM002!G15 -> 347800 | BB15: =CRIM002!H15 -> 179623 | BC15: =CRIM002!I15 -> 168177 | BD15: =CRIM002!J15 -> 339985 | BE15: =CRIM002!K15 -> 174852 | BF15: =CRIM002!L15 -> 165133 | BG15: =CRIM002!M15 -> 336136 | BH15: =CRIM002!N15 -> 173116 | ... BL15: =CRIM002!R15 -> 161266 | BM15: EUROSTATDS1T1data
A16: ES | BA16: =CRIM002!G16 -> 1765046 | BB16: =CRIM002!H16 -> 907868 | BC16: =CRIM002!I16 -> 857178 | BD16: =CRIM002!J16 -> 1754732 | BE16: =CRIM002!K16 -> 902213 | BF16: =CRIM002!L16 -> 852519 | BG16: =CRIM002!M16 -> 1734993 | BH16: =CRIM002!N16 -> 891538 | ... BL16: =CRIM002!R16 -> 835583 | BM16: EUROSTATDS1T1data
A17: FR | V17: FRDS49T2data | Z17: =(C17/BA17)*100000 -> 0 | AC17: =(F17/BD17)*100000 -> 0 | AF17: =(I17/BG17)*100000 -> 0 | BA17: =CRIM002!G17 -> 3975196 | BB17: =CRIM002!H17 -> 2033685 | BC17: =CRIM002!I17 -> 1941511 | BD17: =CRIM002!J17 -> 3948112 | BE17: =CRIM002!K17 -> 2018784 | BF17: =CRIM002!L17 -> 1929328 | BG17: =CRIM002!M17 -> 3941583 | BH17: =CRIM002!N17 -> 2017129 | ... BL17: =CRIM002!R17 -> 1922459 | BM17: EUROSTATDS1T1data
A18: HR | C18: 1296 | D18: 1226 | E18: 70 | F18: 1238 | G18: 1172 | H18: 66 | I18: 1269 | J18: 1211 | K18: 58 | L18: 1084 | M18: 1029 | N18: 55 | R18: TransMonEEDS4T2data | T18: HRDS2T2data | Z18: =(C18/BA18)*100000 -> 629.41342 | AA18: =(D18/BB18)*100000 -> 1162.901 | AB18: =(E18/BC18)*100000 -> 69.665605 | AC18: =(F18/BD18)*100000 -> 609.26696 | AD18: =(G18/BE18)*100000 -> 1126.8906 | AE18: =(H18/BF18)*100000 -> 66.537624 | AF18: =(I18/BG18)*100000 -> 632.65265 | AG18: =(J18/BH18)*100000 -> 1180.7953 | ... AK18: =(N18/BL18)*100000 -> 55.253614 | BA18: =CRIM002!G18 -> 205906 | BB18: =CRIM002!H18 -> 105426 | BC18: =CRIM002!I18 -> 100480 | BD18: =CRIM002!J18 -> 203195 | BE18: =CRIM002!K18 -> 104003 | BF18: =CRIM002!L18 -> 99192 | BG18: =CRIM002!M18 -> 200584 | BH18: =CRIM002!N18 -> 102558 | ... BL18: =CRIM002!R18 -> 99541 | BM18: EUROSTATDS1T1data
A19: IT | C19: 18590 | D19: 15740.861 | E19: 2849.1394 | F19: 19938 | G19: 17108.787 | H19: 2829.2127 | I19: 20859 | J19: 17623.796 | K19: 3235.2042 | R19: ITDS16T2 | BA19: =CRIM002!G19 -> 2353535 | BB19: =CRIM002!H19 -> 1209473 | BC19: =CRIM002!I19 -> 1144062 | BD19: =CRIM002!J19 -> 2332765 | BE19: =CRIM002!K19 -> 1199378 | BF19: =CRIM002!L19 -> 1133387 | BG19: =CRIM002!M19 -> 2308870 | BH19: =CRIM002!N19 -> 1188149 | ... BL19: =CRIM002!R19 -> 1105694 | BM19: EUROSTATDS1T1data
A20: CY | BA20: =CRIM002!G20 -> 44893 | BB20: =CRIM002!H20 -> 22881 | BC20: =CRIM002!I20 -> 22012 | BD20: =CRIM002!J20 -> 45049 | BE20: =CRIM002!K20 -> 22960 | BF20: =CRIM002!L20 -> 22089 | BG20: =CRIM002!M20 -> 48711 | BH20: =CRIM002!N20 -> 24958 | ... BL20: =CRIM002!R20 -> 23129 | BM20: EUROSTATDS1T1data
A21: LV | R21: TransMonEEDS4T2data | BA21: =CRIM002!G21 -> 121193 | BB21: =CRIM002!H21 -> 61513 | BC21: =CRIM002!I21 -> 59680 | BD21: =CRIM002!J21 -> 110057 | BE21: =CRIM002!K21 -> 56023 | BF21: =CRIM002!L21 -> 54034 | BG21: =CRIM002!M21 -> 98844 | BH21: =CRIM002!N21 -> 50470 | ... BL21: =CRIM002!R21 -> 40917 | BM21: EUROSTATDS1T1data
A22: LT | C22: 3627 | D22: 3357 | E22: 270 | F22: 3353 | G22: 3136 | H22: 217 | I22: 2865 | J22: 2627 | K22: 238 | L22: 2612 | M22: 2364 | N22: 248 | R22: LTDS3T2data | T22: LTDS3T2 | U22: LTDS2T2 | Z22: =(C22/BA22)*100000 -> 1792.5629 | AA22: =(D22/BB22)*100000 -> 3249.6007 | AB22: =(E22/BC22)*100000 -> 272.6419 | AC22: =(F22/BD22)*100000 -> 1773.3422 | AD22: =(G22/BE22)*100000 -> 3244.0261 | AE22: =(H22/BF22)*100000 -> 234.82815 | AF22: =(I22/BG22)*100000 -> 1629.1646 | AG22: =(J22/BH22)*100000 -> 2922.1032 | ... AK22: =(N22/BL22)*100000 -> 324.12369 | BA22: =CRIM002!G22 -> 202336 | BB22: =CRIM002!H22 -> 103305 | BC22: =CRIM002!I22 -> 99031 | BD22: =CRIM002!J22 -> 189078 | BE22: =CRIM002!K22 -> 96670 | BF22: =CRIM002!L22 -> 92408 | BG22: =CRIM002!M22 -> 175857 | BH22: =CRIM002!N22 -> 89901 | ... BL22: =CRIM002!R22 -> 76514 | BM22: EUROSTATDS1T1data
A23: LU | BA23: =CRIM002!G23 -> 11514 | BB23: =CRIM002!H23 -> 5972 | BC23: =CRIM002!I23 -> 5542 | BD23: =CRIM002!J23 -> 11623 | BE23: =CRIM002!K23 -> 5965 | BF23: =CRIM002!L23 -> 5658 | BG23: =CRIM002!M23 -> 11989 | BH23: =CRIM002!N23 -> 6141 | ... BL23: =CRIM002!R23 -> 6061 | BM23: EUROSTATDS1T1data
A24: HU | C24: 6532 | D24: 5763 | E24: 769 | F24: 6481 | G24: 5663 | H24: 818 | I24: 6743 | J24: 5887 | K24: 856 | L24: 5970 | M24: 5248 | N24: 722 | R24: TransMonEEDS4T2data | Z24: =(C24/BA24)*100000 -> 1339.9277 | AA24: =(D24/BB24)*100000 -> 2313.6773 | AB24: =(E24/BC24)*100000 -> 322.56035 | AC24: =(F24/BD24)*100000 -> 1364.5791 | AD24: =(G24/BE24)*100000 -> 2331.0474 | AE24: =(H24/BF24)*100000 -> 352.57557 | AF24: =(I24/BG24)*100000 -> 1463.1405 | AG24: =(J24/BH24)*100000 -> 2496.0674 | ... AK24: =(N24/BL24)*100000 -> 332.1984 | BA24: =CRIM002!G24 -> 487489 | BB24: =CRIM002!H24 -> 249084 | BC24: =CRIM002!I24 -> 238405 | BD24: =CRIM002!J24 -> 474945 | BE24: =CRIM002!K24 -> 242938 | BF24: =CRIM002!L24 -> 232007 | BG24: =CRIM002!M24 -> 460858 | BH24: =CRIM002!N24 -> 235851 | ... BL24: =CRIM002!R24 -> 217340 | BM24: EUROSTATDS1T1data
A25: MT | BA25: =CRIM002!G25 -> 22293 | BB25: =CRIM002!H25 -> 11408 | BC25: =CRIM002!I25 -> 10885 | BD25: =CRIM002!J25 -> 21754 | BE25: =CRIM002!K25 -> 11112 | BF25: =CRIM002!L25 -> 10642 | BG25: =CRIM002!M25 -> 21148 | BH25: =CRIM002!N25 -> 10863 | ... BL25: =CRIM002!R25 -> 9926 | BM25: EUROSTATDS1T1data
A26: NL | BA26: =CRIM002!G26 -> 1201945 | BB26: =CRIM002!H26 -> 614939 | BC26: =CRIM002!I26 -> 587006 | BD26: =CRIM002!J26 -> 1191453 | BE26: =CRIM002!K26 -> 609943 | BF26: =CRIM002!L26 -> 581510 | BG26: =CRIM002!M26 -> 1184064 | BH26: =CRIM002!N26 -> 606063 | ... BL26: =CRIM002!R26 -> 578531 | BM26: EUROSTATDS1T1data
A27: AT | V27: ATDS21T2 | W27: ATDS34T2 | BA27: =CRIM002!G27 -> 399480 | BB27: =CRIM002!H27 -> 205046 | BC27: =CRIM002!I27 -> 194434 | BD27: =CRIM002!J27 -> 397523 | BE27: =CRIM002!K27 -> 204086 | BF27: =CRIM002!L27 -> 193437 | BG27: =CRIM002!M27 -> 390159 | BH27: =CRIM002!N27 -> 200345 | ... BL27: =CRIM002!R27 -> 187256 | BM27: EUROSTATDS1T1data
A28: PL | C28: 52081 | F28: 50800 | I28: 51162 | L28: 49654 | R28: TransMonEEDS4T2data | Z28: =(C28/BA28)*100000 -> 3281.619 | AC28: =(F28/BD28)*100000 -> 3341.6018 | AF28: =(I28/BG28)*100000 -> 3532.0823 | AI28: =(L28/BJ28)*100000 -> 3578.7363 | BA28: =CRIM002!G28 -> 1587052 | BB28: =CRIM002!H28 -> 811853 | BC28: =CRIM002!I28 -> 775199 | BD28: =CRIM002!J28 -> 1520229 | BE28: =CRIM002!K28 -> 777446 | BF28: =CRIM002!L28 -> 742783 | BG28: =CRIM002!M28 -> 1448494 | BH28: =CRIM002!N28 -> 739549 | ... BL28: =CRIM002!R28 -> 678946 | BM28: EUROSTATDS1T1data
A29: PT | V29: PTDS15T2 | BA29: =CRIM002!G29 -> 233428 | BB29: =CRIM002!H29 -> 119134 | BC29: =CRIM002!I29 -> 114294 | BD29: =CRIM002!J29 -> 229340 | BE29: =CRIM002!K29 -> 116745 | BF29: =CRIM002!L29 -> 112595 | BG29: =CRIM002!M29 -> 223995 | BH29: =CRIM002!N29 -> 114014 | ... BL29: =CRIM002!R29 -> 109691 | BM29: EUROSTATDS1T1data
A30: RO | C30: 13197 | D30: 12204 | E30: 993 | F30: 12474 | G30: 11471 | H30: 1003 | I30: 11732 | J30: 10711 | K30: 1021 | L30: 10764 | M30: 9927 | N30: 837 | P30: 14-17 | R30: TransMonEEDS4T2data | Z30: =(C30/BA30)*100000 -> 1276.2982 | AA30: =(D30/BB30)*100000 -> 2308.6396 | AB30: =(E30/BC30)*100000 -> 196.48465 | AC30: =(F30/BD30)*100000 -> 1283.7388 | AD30: =(G30/BE30)*100000 -> 2305.3301 | AE30: =(H30/BF30)*100000 -> 211.55562 | AF30: =(I30/BG30)*100000 -> 1251.6123 | AG30: =(J30/BH30)*100000 -> 2233.3846 | ... AK30: =(N30/BL30)*100000 -> 189.64627 | BA30: =CRIM002!G30 -> 1034006 | BB30: =CRIM002!H30 -> 528623 | BC30: =CRIM002!I30 -> 505383 | BD30: =CRIM002!J30 -> 971693 | BE30: =CRIM002!K30 -> 497586 | BF30: =CRIM002!L30 -> 474107 | BG30: =CRIM002!M30 -> 937351 | BH30: =CRIM002!N30 -> 479586 | ... BL30: =CRIM002!R30 -> 441348 | BM30: EUROSTATDS1T1data
A31: SI | C31: 1473 | D31: 1185 | E31: 288 | F31: 1563 | G31: 1178 | H31: 385 | I31: 1454 | J31: 1095 | K31: 360 | L31: 1319 | M31: 1023 | N31: 296 | R31: TransMonEEDS4T2data | Z31: =(C31/BA31)*100000 -> 1735.0641 | AA31: =(D31/BB31)*100000 -> 2714.2792 | AB31: =(E31/BC31)*100000 -> 698.38498 | AC31: =(F31/BD31)*100000 -> 1893.4209 | AD31: =(G31/BE31)*100000 -> 2776.2066 | AE31: =(H31/BF31)*100000 -> 959.6929 | AF31: =(I31/BG31)*100000 -> 1812.5608 | AG31: =(J31/BH31)*100000 -> 2658.2186 | ... AK31: =(N31/BL31)*100000 -> 766.91885 | BA31: =CRIM002!G31 -> 84896 | BB31: =CRIM002!H31 -> 43658 | BC31: =CRIM002!I31 -> 41238 | BD31: =CRIM002!J31 -> 82549 | BE31: =CRIM002!K31 -> 42432 | BF31: =CRIM002!L31 -> 40117 | BG31: =CRIM002!M31 -> 80218 | BH31: =CRIM002!N31 -> 41193 | ... BL31: =CRIM002!R31 -> 38596 | BM31: EUROSTATDS1T1data
A32: SK | C32: 2437 | D32: 2319 | E32: 118 | F32: 2158 | G32: 2019 | H32: 138 | I32: 2545 | J32: 2398 | K32: 147 | L32: 2238 | M32: 2103 | N32: 134 | R32: TransMonEEDS4T2data | Z32: =(C32/BA32)*100000 -> 806.41158 | AA32: =(D32/BB32)*100000 -> 1499.3405 | AB32: =(E32/BC32)*100000 -> 79.981021 | AC32: =(F32/BD32)*100000 -> 746.09063 | AD32: =(G32/BE32)*100000 -> 1367.21 | AE32: =(H32/BF32)*100000 -> 97.479656 | AF32: =(I32/BG32)*100000 -> 932.26517 | AG32: =(J32/BH32)*100000 -> 1719.6498 | ... AK32: =(N32/BL32)*100000 -> 106.31292 | BA32: =CRIM002!G32 -> 302203 | BB32: =CRIM002!H32 -> 154668 | BC32: =CRIM002!I32 -> 147535 | BD32: =CRIM002!J32 -> 289241 | BE32: =CRIM002!K32 -> 147673 | BF32: =CRIM002!L32 -> 141568 | BG32: =CRIM002!M32 -> 272991 | BH32: =CRIM002!N32 -> 139447 | ... BL32: =CRIM002!R32 -> 126043 | BM32: EUROSTATDS1T1data
A33: FI | BA33: =CRIM002!G33 -> 201435 | BB33: =CRIM002!H33 -> 102796 | BC33: =CRIM002!I33 -> 98639 | BD33: =CRIM002!J33 -> 200398 | BE33: =CRIM002!K33 -> 102093 | BF33: =CRIM002!L33 -> 98305 | BG33: =CRIM002!M33 -> 200133 | BH33: =CRIM002!N33 -> 101912 | ... BL33: =CRIM002!R33 -> 96521 | BM33: EUROSTATDS1T1data
A34: SE | C34: - | D34: - | E34: - | F34: - | G34: - | H34: - | I34: - | J34: - | K34: - | L34: - | M34: - | N34: - | BA34: =CRIM002!G34 -> 389919 | BB34: =CRIM002!H34 -> 200743 | BC34: =CRIM002!I34 -> 189176 | BD34: =CRIM002!J34 -> 382437 | BE34: =CRIM002!K34 -> 196677 | BF34: =CRIM002!L34 -> 185760 | BG34: =CRIM002!M34 -> 371651 | BH34: =CRIM002!N34 -> 190709 | ... BL34: =CRIM002!R34 -> 172288 | BM34: EUROSTATDS1T1data
A35: UK E&W | BA35: =CRIM002!G35 -> 5329600 | BB35: =CRIM002!H35 -> 2733500 | BC35: =CRIM002!I35 -> 2596100 | BD35: =CRIM002!J35 -> 5249600 | BE35: =CRIM002!K35 -> 2691000 | BF35: =CRIM002!L35 -> 2558600 | BG35: =CRIM002!M35 -> 5165900 | BH35: =CRIM002!N35 -> 2648300 | BI35: =CRIM002!O35 -> 2517600 | BM35: EUROSTATDS1T1data
A36: UK NI | BA36: =CRIM002!G36 -> 199800 | BB36: =CRIM002!H36 -> 102500 | BC36: =CRIM002!I36 -> 97300 | BD36: =CRIM002!J36 -> 198200 | BE36: =CRIM002!K36 -> 101600 | BF36: =CRIM002!L36 -> 96600 | BG36: =CRIM002!M36 -> 194900 | BH36: =CRIM002!N36 -> 99800 | BI36: =CRIM002!O36 -> 95100 | BM36: EUROSTATDS1T1data
A37: UK Scot | BA37: =CRIM002!G37 -> 604200 | BB37: =CRIM002!H37 -> 309700 | BC37: =CRIM002!I37 -> 294500 | BD37: =CRIM002!J37 -> 592900 | BE37: =CRIM002!K37 -> 303500 | BF37: =CRIM002!L37 -> 289400 | BG37: =CRIM002!M37 -> 580000 | BH37: =CRIM002!N37 -> 296900 | BI37: =CRIM002!O37 -> 283100 | BM37: EUROSTATDS1T1data
A39: Note: *The age of children eligible for charges being brought against them varies between Member States - hence column P shows the ages in different Member States for nominators

Sheet CRIM013delete
A1: .
A3: CRIM013 Children prosecuted for an offence
B7: Total number of children prosecuted for an offence by sex during a 12 month period | O7: Number of children prosecuted for an offence | Q7: Number of children prosecuted for an offence per 100,000 child population by sex during a 12 month period | AD7: Percentage of children prosecuted for an offence out of total arrested children by sex during a 12 month period
B8: 2008 | E8: 2009 | H8: 2010 | K8: 2011 | O8: Countries where further dissagregation by age is available | Q8: 2008 | T8: 2009 | W8: 2010 | Z8: 2011 | AD8: 2008 | AG8: 2009 | AJ8: 2010 | AM8: 2011 | AQ8: Source
B9: Total | C9: Male | D9: Female | E9: Total | F9: Male | G9: Female | H9: Total | I9: Male | J9: Female | K9: Total | L9: Male | M9: Female | Q9: Total | R9: Male | S9: Female | T9: Total | U9: Male | V9: Female | W9: Total | X9: Male | Y9: Female | Z9: Total | AA9: Male | AB9: Female | AD9: Total | AE9: Male | AF9: Female | AG9: Total | AH9: Male | AI9: Female | AJ9: Total | AK9: Male | AL9: Female | AM9: Total | AN9: Male | AO9: Female
A10: EU27
A11: BE
A12: BG
A13: CZ
A14: DK
A15: DE
A16: EE
A17: IE
A18: EL
A19: ES
A20: FR
A21: HR
... A41: UK Scot

Sheet CRIM013
A1: .
A2: CRIM013 Children acquitted
